BEGIN:VCALENDAR
PRODID:-//PUBBLE//agenda//NL
VERSION:2.0
METHOD:PUBLISH
BEGIN:VEVENT
DTSTART:20270311T193000Z
DTEND:20270311T203000Z
DTSTAMP:20260420T063523Z
UID:bd07ee41-be29-497b-a1e7-a923adfed010
CREATED:20260420T063523Z
NAME:Al het blauw van de hemel oudega-swf.nl
X-WR-CALNAME:Al het blauw van de hemel
X-ALT-DESC;FMTTYPE=text/html:<a href='/agenda/2027/3/11/al-het-blauw-van-de-hemel-130179'>/agenda/2027/3/11/al-het-blauw-van-de-hemel-130179</a> || <p><strong>Wanneer Emile de diagnose jong-alzheimer krijgt, besluit hij zijn vertrouwde leven achter zich te laten. Hij koopt een camper en plaatst een oproep voor een reisgenoot. Joanne reageert. Samen vertrekken ze op een reis zonder vast plan, maar vol betekenis.</strong></p>
<p>Wat begint als een vlucht, groeit uit tot een bijzondere roadtrip. Onderweg ontmoeten ze anderen, maar vooral ook zichzelf. Herinneringen komen boven, gevoelens krijgen ruimte en langzaam ontstaat er een band tussen twee mensen die elkaar eerst niet kenden.</p>
<p>Buddy Vedder en Shelley Bos spelen de hoofdrollen van Emile en Joanne. Ze brengen het verhaal dichtbij, met spel en muziek die raakt zonder groot te worden. De regie is in handen van Daan Wijnands, met teksten van Max Roijé en muziek van Mark Kuypers.</p>
<p>De voorstelling laat zien hoe je omgaat met een onzekere toekomst. En hoe je, ondanks alles, toch stappen kunt zetten. Een warme en troostrijke ervaring voor iedereen die ooit iemand, misschien wel zichzelf, is kwijtgeraakt.</p>
<p>Van ieder verkocht kaartje gaat 1 euro naar Alzheimer Nederland. Hiermee steun je onderzoek naar de ziekte van Alzheimer.</p>

<p><strong>Audiobeschrijving voor blinden en slechtzienden:</strong><br />
De voorstelling is ook toegankelijk voor mensen met een visuele beperking. Vooraf is er een inleiding om kennis te maken met het decor en de kostuums. Tijdens de voorstelling verzorgt een blindentolk van Komt het Zien! live audiobeschrijving, door visueel beperkten speciaal te horen via een draadloze koptelefoon. Blindengeleidehonden zijn welkom.<br />
<br />
Dit zeiden slechtzienden eerder:<br />
<em>“Geweldig, ik heb eindelijk eens theater kunnen ‘zien’.”<br />
“Ik zie geen steek en toch heb ik alles gezien.”</em><br />
<br />
In het bestelproces is het mogelijk kaarten ‘Met Blindentolk’ te reserveren.<br />
<br />
Heb je een speciale plaats nodig of wil je niet online reserveren?<br />
Reserveer dan via de kassa van De Harmonie via&nbsp;<a href="mailto:kaartverkoop@harmonie.nl">kaartverkoop@harmonie.nl</a><br />
of 058 233 0 233.<br />
<br />
Klik&nbsp;<strong><a href="https://harmonie.nl/jouw-bezoek/toegankelijkheid" target="_blank" rel="noreferrer noopener">hier</a></strong>&nbsp;voor meer info.</p>
DESCRIPTION:<a href='/agenda/2027/3/11/al-het-blauw-van-de-hemel-130179'>/agenda/2027/3/11/al-het-blauw-van-de-hemel-130179</a> || <p><strong>Wanneer Emile de diagnose jong-alzheimer krijgt, besluit hij zijn vertrouwde leven achter zich te laten. Hij koopt een camper en plaatst een oproep voor een reisgenoot. Joanne reageert. Samen vertrekken ze op een reis zonder vast plan, maar vol betekenis.</strong></p>
<p>Wat begint als een vlucht, groeit uit tot een bijzondere roadtrip. Onderweg ontmoeten ze anderen, maar vooral ook zichzelf. Herinneringen komen boven, gevoelens krijgen ruimte en langzaam ontstaat er een band tussen twee mensen die elkaar eerst niet kenden.</p>
<p>Buddy Vedder en Shelley Bos spelen de hoofdrollen van Emile en Joanne. Ze brengen het verhaal dichtbij, met spel en muziek die raakt zonder groot te worden. De regie is in handen van Daan Wijnands, met teksten van Max Roijé en muziek van Mark Kuypers.</p>
<p>De voorstelling laat zien hoe je omgaat met een onzekere toekomst. En hoe je, ondanks alles, toch stappen kunt zetten. Een warme en troostrijke ervaring voor iedereen die ooit iemand, misschien wel zichzelf, is kwijtgeraakt.</p>
<p>Van ieder verkocht kaartje gaat 1 euro naar Alzheimer Nederland. Hiermee steun je onderzoek naar de ziekte van Alzheimer.</p>

<p><strong>Audiobeschrijving voor blinden en slechtzienden:</strong><br />
De voorstelling is ook toegankelijk voor mensen met een visuele beperking. Vooraf is er een inleiding om kennis te maken met het decor en de kostuums. Tijdens de voorstelling verzorgt een blindentolk van Komt het Zien! live audiobeschrijving, door visueel beperkten speciaal te horen via een draadloze koptelefoon. Blindengeleidehonden zijn welkom.<br />
<br />
Dit zeiden slechtzienden eerder:<br />
<em>“Geweldig, ik heb eindelijk eens theater kunnen ‘zien’.”<br />
“Ik zie geen steek en toch heb ik alles gezien.”</em><br />
<br />
In het bestelproces is het mogelijk kaarten ‘Met Blindentolk’ te reserveren.<br />
<br />
Heb je een speciale plaats nodig of wil je niet online reserveren?<br />
Reserveer dan via de kassa van De Harmonie via&nbsp;<a href="mailto:kaartverkoop@harmonie.nl">kaartverkoop@harmonie.nl</a><br />
of 058 233 0 233.<br />
<br />
Klik&nbsp;<strong><a href="https://harmonie.nl/jouw-bezoek/toegankelijkheid" target="_blank" rel="noreferrer noopener">hier</a></strong>&nbsp;voor meer info.</p>
LAST-MODIFIED:20260420T063523Z
LOCATION: Stadsschouwburg De Harmonie | Ruiterskwartier 4 Leeuwarden
SEQUENCE:0
STATUS:CONFIRMED
SUMMARY:Al het blauw van de hemel
TRANSP:OPAQUE
END:VEVENT
END:VCALENDAR
