BEGIN:VCALENDAR
PRODID:-//PUBBLE//agenda//NL
VERSION:2.0
METHOD:PUBLISH
BEGIN:VEVENT
DTSTART:20260509T230000Z
DTEND:20260509T050000Z
DTSTAMP:20260420T100152Z
UID:f3d3709c-2c33-452f-a496-eacf7d1c41fc
CREATED:20260420T100152Z
NAME:All About Bass oudega-swf.nl
X-WR-CALNAME:All About Bass
X-ALT-DESC;FMTTYPE=text/html:<a href='/agenda/2026/5/10/all-about-bass-130181'>/agenda/2026/5/10/all-about-bass-130181</a> || <p><strong>All About Bass brengt een speciale editie naar het café met HighThere als headliner. HighThere is een neurofunk-producer en dj afkomstig uit Berlijn. Met tienduizenden streams is hij niet meer uit de neurofunkscene weg te denken. Daarnaast heeft hij een DnB Award op zijn naam staan voor Best Track op AC130, en heeft hij op labels zoals Skamele, Hamzon Music en Empire Recordings tunes gereleased.</strong></p>
<p><strong>Line-up:</strong><br />- HighThere<br />- Jurtle<br />- Kabelbreuk Showcase<br />- Carter Showcase<br />- Tripple B B2B Kwark<br />- Next Horizon<br />- Devero B2B Rabbit</p>
<p><strong>English:</strong><br />It’s time for a brand-new edition of ALL ABOUT BASS! This time it’s a very special one, featuring HighThere as the headliner. HighThere is a neurofunk producer and DJ from Berlin. With tens of thousands of streams, he has become a well-known name in the neurofunk scene. He also won a DnB Award for Best Track on AC130 and has released tunes on labels such as Skamele, Hamzon Music, and Empire Recordings.</p>
DESCRIPTION:<a href='/agenda/2026/5/10/all-about-bass-130181'>/agenda/2026/5/10/all-about-bass-130181</a> || <p><strong>All About Bass brengt een speciale editie naar het café met HighThere als headliner. HighThere is een neurofunk-producer en dj afkomstig uit Berlijn. Met tienduizenden streams is hij niet meer uit de neurofunkscene weg te denken. Daarnaast heeft hij een DnB Award op zijn naam staan voor Best Track op AC130, en heeft hij op labels zoals Skamele, Hamzon Music en Empire Recordings tunes gereleased.</strong></p>
<p><strong>Line-up:</strong><br />- HighThere<br />- Jurtle<br />- Kabelbreuk Showcase<br />- Carter Showcase<br />- Tripple B B2B Kwark<br />- Next Horizon<br />- Devero B2B Rabbit</p>
<p><strong>English:</strong><br />It’s time for a brand-new edition of ALL ABOUT BASS! This time it’s a very special one, featuring HighThere as the headliner. HighThere is a neurofunk producer and DJ from Berlin. With tens of thousands of streams, he has become a well-known name in the neurofunk scene. He also won a DnB Award for Best Track on AC130 and has released tunes on labels such as Skamele, Hamzon Music, and Empire Recordings.</p>
LAST-MODIFIED:20260420T100152Z
LOCATION: Neushoorn Leeuwarden | Ruiterskwartier 41 Leeuwarden
SEQUENCE:0
STATUS:CONFIRMED
SUMMARY:All About Bass
TRANSP:OPAQUE
END:VEVENT
END:VCALENDAR
