BEGIN:VCALENDAR
PRODID:-//PUBBLE//agenda//NL
VERSION:2.0
METHOD:PUBLISH
BEGIN:VEVENT
DTSTART:20270402T160000Z
DTEND:20270402T170000Z
DTSTAMP:20260420T063559Z
UID:3427d091-fe24-4b20-a63e-9a1449cc812b
CREATED:20260420T063559Z
NAME:Carmen, een stierlijk muzikaal verhaal oudega-swf.nl
X-WR-CALNAME:Carmen, een stierlijk muzikaal verhaal
X-ALT-DESC;FMTTYPE=text/html:<a href='/agenda/2027/4/2/carmen-een-stierlijk-muzikaal-verhaal-130190'>/agenda/2027/4/2/carmen-een-stierlijk-muzikaal-verhaal-130190</a> || <p><strong>Hoe voelt het om bang te zijn voor iets wat iedereen van je verwacht? In dit familieconcert maak je kennis met Toro, een kleine stier die eigenlijk helemaal niet de arena in wil. Toro is bang. Maar lukt het hem om zijn angst te overwinnen?</strong></p>
<p>Violist en theatermaker Diederik Ensink schreef en regisseerde dit muzikale verhaal. Actrice Yvonne van den Eerenbeemt neemt je mee in het avontuur van Toro. Ondertussen speelt het orkest muziek uit de beroemde opera Carmen van de Franse componist Georges Bizet. Dirigent Eivind Gullberg Jensen staat voor het orkest.</p>
<p>Veel mensen herkennen de muziek uit <em>Carmen </em>meteen. Denk aan de Habanera of het stoere lied van de Toreador. Het zijn melodieën die blijven hangen en die je bijna vanzelf mee wilt neuriën. Bizet schreef de opera over de Spaanse Carmen en haar wereld vol passie, dans en avontuur.</p>
<p>In dit concert hoor je delen uit de <em>Carmen Suites</em>. De muziek zit vol Spaanse kleuren en ritmes. Soms klinkt ze spannend, soms vrolijk en dansend. Zo reis je met de muziek naar zonnige landschappen en het levendige Sevilla.</p>
<p>Het verhaal over Toro maakt de muziek extra dichtbij. Terwijl je luistert, ontdek je hoe muziek een verhaal kan vertellen. Over moed vinden, over twijfelen en over jezelf durven zijn.</p>
<p>Een speelse en muzikale kennismaking met een van de bekendste opera’s ooit. Voor iedereen vanaf 6 jaar.</p>
<p>Dirigent&nbsp;&nbsp; &nbsp;&nbsp;&nbsp; &nbsp;Eivind Gullberg Jensen&nbsp;<br />
Actrice&nbsp;&nbsp; &nbsp;&nbsp;&nbsp; &nbsp;Yvonne van den Eerenbeemt&nbsp;<br />
Regie&nbsp;&nbsp; &nbsp;&nbsp;&nbsp; &nbsp;&nbsp;&nbsp; &nbsp;Diederik Ensink&nbsp;<br />
&nbsp;</p>
DESCRIPTION:<a href='/agenda/2027/4/2/carmen-een-stierlijk-muzikaal-verhaal-130190'>/agenda/2027/4/2/carmen-een-stierlijk-muzikaal-verhaal-130190</a> || <p><strong>Hoe voelt het om bang te zijn voor iets wat iedereen van je verwacht? In dit familieconcert maak je kennis met Toro, een kleine stier die eigenlijk helemaal niet de arena in wil. Toro is bang. Maar lukt het hem om zijn angst te overwinnen?</strong></p>
<p>Violist en theatermaker Diederik Ensink schreef en regisseerde dit muzikale verhaal. Actrice Yvonne van den Eerenbeemt neemt je mee in het avontuur van Toro. Ondertussen speelt het orkest muziek uit de beroemde opera Carmen van de Franse componist Georges Bizet. Dirigent Eivind Gullberg Jensen staat voor het orkest.</p>
<p>Veel mensen herkennen de muziek uit <em>Carmen </em>meteen. Denk aan de Habanera of het stoere lied van de Toreador. Het zijn melodieën die blijven hangen en die je bijna vanzelf mee wilt neuriën. Bizet schreef de opera over de Spaanse Carmen en haar wereld vol passie, dans en avontuur.</p>
<p>In dit concert hoor je delen uit de <em>Carmen Suites</em>. De muziek zit vol Spaanse kleuren en ritmes. Soms klinkt ze spannend, soms vrolijk en dansend. Zo reis je met de muziek naar zonnige landschappen en het levendige Sevilla.</p>
<p>Het verhaal over Toro maakt de muziek extra dichtbij. Terwijl je luistert, ontdek je hoe muziek een verhaal kan vertellen. Over moed vinden, over twijfelen en over jezelf durven zijn.</p>
<p>Een speelse en muzikale kennismaking met een van de bekendste opera’s ooit. Voor iedereen vanaf 6 jaar.</p>
<p>Dirigent&nbsp;&nbsp; &nbsp;&nbsp;&nbsp; &nbsp;Eivind Gullberg Jensen&nbsp;<br />
Actrice&nbsp;&nbsp; &nbsp;&nbsp;&nbsp; &nbsp;Yvonne van den Eerenbeemt&nbsp;<br />
Regie&nbsp;&nbsp; &nbsp;&nbsp;&nbsp; &nbsp;&nbsp;&nbsp; &nbsp;Diederik Ensink&nbsp;<br />
&nbsp;</p>
LAST-MODIFIED:20260420T063559Z
LOCATION: Stadsschouwburg De Harmonie | Ruiterskwartier 4 Leeuwarden
SEQUENCE:0
STATUS:CONFIRMED
SUMMARY:Carmen, een stierlijk muzikaal verhaal
TRANSP:OPAQUE
END:VEVENT
END:VCALENDAR
