BEGIN:VCALENDAR
PRODID:-//PUBBLE//agenda//NL
VERSION:2.0
METHOD:PUBLISH
BEGIN:VEVENT
DTSTART:20261024T190000Z
DTEND:20261024T200000Z
DTSTAMP:20260420T080328Z
UID:327f66a0-ad24-4bcd-87c3-6b7b1bf4c614
CREATED:20260420T080328Z
NAME:Circus Saranti oudega-swf.nl
X-WR-CALNAME:Circus Saranti
X-ALT-DESC;FMTTYPE=text/html:<a href='/agenda/2026/10/24/circus-saranti-130211'>/agenda/2026/10/24/circus-saranti-130211</a> || <p>Wanneer de deuren van het Circusmuseum sluiten en de lichten doven, begint het echte spektakel pas. In de schaduwen van oude affiches, schitterende kostuums en vergeten rekwisieten ontwaken de verhalen van het circus in een sprankelende, nieuwe voorstelling: <em>Een Nacht in het Circusmuseum</em> – een magische theatercircusshow volledig gespeeld door jonge, getalenteerde circusartiesten.</p>
<p>In deze unieke productie reizen bezoekers door de verborgen gangen van het museum, waar elk object als inspiratie dient voor een nieuw nummer. Een antieke goocheldoos wordt de katalysator voor verbluffende illusietrucs. Tussen zwevende stofbanen en kleurrijke museumlichten voeren jonge luchtacrobaten adembenemende acts uit die het publiek laten zweven tussen droom en werkelijkheid.</p>
<p>Op de marmeren vloer van de oude galerij ontstaat een choreografie van balans en lef: eenwielers zoeven door de ruimte, jongleurs toveren ritme en licht in de lucht, en acrobaten vormen levende sculpturen die het erfgoed van het circus nieuw leven inblazen. Elk moment bruist van energie, humor en verwondering.</p>
<p><em>Een Nacht in het Circusmuseum</em> is meer dan een voorstelling; het is een ode aan de rijke geschiedenis van het circus én een viering van de nieuwe generatie artiesten die deze wereld verder dragen. Jong talent neemt het publiek mee in een betoverende nacht vol speelsheid, poëzie en pure circuskracht.</p>
<p>Stap binnen zodra de klok twaalf slaat — en ontdek hoe het Circusmuseum tot leven komt als nooit tevoren.<br />
<br />
<strong>Laat je verrassen. Laat je meeslepen. Laat je verwonderen.</strong></p>
<p>Mis deze kans niet om een familievoorstelling vol plezier en verwondering te beleven met het hele gezin. <em>Een Nacht in het Circusmuseum</em> speelt slechts twee voorstellingen, dus zorg ervoor dat je je kaartjes op tijd bemachtigt!</p>
DESCRIPTION:<a href='/agenda/2026/10/24/circus-saranti-130211'>/agenda/2026/10/24/circus-saranti-130211</a> || <p>Wanneer de deuren van het Circusmuseum sluiten en de lichten doven, begint het echte spektakel pas. In de schaduwen van oude affiches, schitterende kostuums en vergeten rekwisieten ontwaken de verhalen van het circus in een sprankelende, nieuwe voorstelling: <em>Een Nacht in het Circusmuseum</em> – een magische theatercircusshow volledig gespeeld door jonge, getalenteerde circusartiesten.</p>
<p>In deze unieke productie reizen bezoekers door de verborgen gangen van het museum, waar elk object als inspiratie dient voor een nieuw nummer. Een antieke goocheldoos wordt de katalysator voor verbluffende illusietrucs. Tussen zwevende stofbanen en kleurrijke museumlichten voeren jonge luchtacrobaten adembenemende acts uit die het publiek laten zweven tussen droom en werkelijkheid.</p>
<p>Op de marmeren vloer van de oude galerij ontstaat een choreografie van balans en lef: eenwielers zoeven door de ruimte, jongleurs toveren ritme en licht in de lucht, en acrobaten vormen levende sculpturen die het erfgoed van het circus nieuw leven inblazen. Elk moment bruist van energie, humor en verwondering.</p>
<p><em>Een Nacht in het Circusmuseum</em> is meer dan een voorstelling; het is een ode aan de rijke geschiedenis van het circus én een viering van de nieuwe generatie artiesten die deze wereld verder dragen. Jong talent neemt het publiek mee in een betoverende nacht vol speelsheid, poëzie en pure circuskracht.</p>
<p>Stap binnen zodra de klok twaalf slaat — en ontdek hoe het Circusmuseum tot leven komt als nooit tevoren.<br />
<br />
<strong>Laat je verrassen. Laat je meeslepen. Laat je verwonderen.</strong></p>
<p>Mis deze kans niet om een familievoorstelling vol plezier en verwondering te beleven met het hele gezin. <em>Een Nacht in het Circusmuseum</em> speelt slechts twee voorstellingen, dus zorg ervoor dat je je kaartjes op tijd bemachtigt!</p>
LAST-MODIFIED:20260420T080328Z
LOCATION: Stadsschouwburg De Harmonie | Ruiterskwartier 4 Leeuwarden
SEQUENCE:0
STATUS:CONFIRMED
SUMMARY:Circus Saranti
TRANSP:OPAQUE
END:VEVENT
END:VCALENDAR
