BEGIN:VCALENDAR
PRODID:-//PUBBLE//agenda//NL
VERSION:2.0
METHOD:PUBLISH
BEGIN:VEVENT
DTSTART:20260430T200000Z
DTEND:20260430T000000Z
DTSTAMP:20260420T082217Z
UID:23a9c732-fbac-4056-8657-6c8d43fc682e
CREATED:20260420T082217Z
NAME:Creative Community Dionne oudega-swf.nl
X-WR-CALNAME:Creative Community Dionne
X-ALT-DESC;FMTTYPE=text/html:<a href='/agenda/2026/4/30/creative-community-dionne-130213'>/agenda/2026/4/30/creative-community-dionne-130213</a> || <p><strong>Altijd al andere creatievelingen willen ontmoeten om samen te werken, inspiratie op te doen en te groeien? Dan ben je hier aan het juiste adres! Creative Community Dionne brengt creatievelingen uit Leeuwarden, Groningen en heel Friesland samen voor een avond vol kunst, muziek en saamhorigheid. Verwacht live sets van opkomende dj’s, fotografie en visuele kunst van talentvolle kunstenaars en sprekers die hun verhaal, inzichten en ideeën delen.</strong></p>
<p>Of je nu kunstenaar, creatief of gewoon nieuwsgierig bent. Kom om verbinding te maken, te delen en deel uit te maken van de community.</p>
<p>Een plek voor kunstenaars. Een moment om verbinding te maken.</p>
<p>--</p>
<p><strong>English:</strong><br />A space&nbsp;for artists. A moment to connect.<br />Ever wanted to meet other creatives to collaborate, inspire and grow together? This is the place!<br />We’re bringing together creatives from&nbsp;Leeuwarden, Groningen, and all across Friesland&nbsp;for a night built on art, music, and community. Expect&nbsp;live sets from upcoming DJs,&nbsp;photography and visual art by rising artists, and&nbsp;speakers sharing their journeys, insights, and ideas.</p>
<p>Whether you’re an artist, a creative, or just curious - Come to connect, share and be part of the community.</p>
DESCRIPTION:<a href='/agenda/2026/4/30/creative-community-dionne-130213'>/agenda/2026/4/30/creative-community-dionne-130213</a> || <p><strong>Altijd al andere creatievelingen willen ontmoeten om samen te werken, inspiratie op te doen en te groeien? Dan ben je hier aan het juiste adres! Creative Community Dionne brengt creatievelingen uit Leeuwarden, Groningen en heel Friesland samen voor een avond vol kunst, muziek en saamhorigheid. Verwacht live sets van opkomende dj’s, fotografie en visuele kunst van talentvolle kunstenaars en sprekers die hun verhaal, inzichten en ideeën delen.</strong></p>
<p>Of je nu kunstenaar, creatief of gewoon nieuwsgierig bent. Kom om verbinding te maken, te delen en deel uit te maken van de community.</p>
<p>Een plek voor kunstenaars. Een moment om verbinding te maken.</p>
<p>--</p>
<p><strong>English:</strong><br />A space&nbsp;for artists. A moment to connect.<br />Ever wanted to meet other creatives to collaborate, inspire and grow together? This is the place!<br />We’re bringing together creatives from&nbsp;Leeuwarden, Groningen, and all across Friesland&nbsp;for a night built on art, music, and community. Expect&nbsp;live sets from upcoming DJs,&nbsp;photography and visual art by rising artists, and&nbsp;speakers sharing their journeys, insights, and ideas.</p>
<p>Whether you’re an artist, a creative, or just curious - Come to connect, share and be part of the community.</p>
LAST-MODIFIED:20260420T082217Z
LOCATION: Neushoorn Leeuwarden | Ruiterskwartier 41 Leeuwarden
SEQUENCE:0
STATUS:CONFIRMED
SUMMARY:Creative Community Dionne
TRANSP:OPAQUE
END:VEVENT
END:VCALENDAR
