BEGIN:VCALENDAR
PRODID:-//PUBBLE//agenda//NL
VERSION:2.0
METHOD:PUBLISH
BEGIN:VEVENT
DTSTART:20261116T183000Z
DTEND:20261116T193000Z
DTSTAMP:20260420T080333Z
UID:d435ba2a-70c8-46a5-86fb-0a576030da94
CREATED:20260420T080333Z
NAME:De Grote Jubileum Show oudega-swf.nl
X-WR-CALNAME:De Grote Jubileum Show
X-ALT-DESC;FMTTYPE=text/html:<a href='/agenda/2026/11/16/de-grote-jubileum-show-130215'>/agenda/2026/11/16/de-grote-jubileum-show-130215</a> || <p>U ziet in De Grote Jubileum Show een reflectie van de artiesten die we in de afgelopen 10 jaar hebben mogen verwelkomen of waar we op bezoek zijn geweest.</p>
<p><br />
In de 3 uur durende theatershow treden de volgende artiesten op: René van Kooten, Marco Bakker, Petra Berger, Syb van der Ploeg, Iris Kroes, Janneke Brakels, Trio Ossekop, Mannenkoor Goutum, Tûzen Triennen, Graham Lowlanders, Het Pasveerkorps, zowel in solo-optredens als in duetten.<br />
Dit alles begeleid door de Bogerman BigBand onder leiding van Sjoerd Hiemstra.</p>
DESCRIPTION:<a href='/agenda/2026/11/16/de-grote-jubileum-show-130215'>/agenda/2026/11/16/de-grote-jubileum-show-130215</a> || <p>U ziet in De Grote Jubileum Show een reflectie van de artiesten die we in de afgelopen 10 jaar hebben mogen verwelkomen of waar we op bezoek zijn geweest.</p>
<p><br />
In de 3 uur durende theatershow treden de volgende artiesten op: René van Kooten, Marco Bakker, Petra Berger, Syb van der Ploeg, Iris Kroes, Janneke Brakels, Trio Ossekop, Mannenkoor Goutum, Tûzen Triennen, Graham Lowlanders, Het Pasveerkorps, zowel in solo-optredens als in duetten.<br />
Dit alles begeleid door de Bogerman BigBand onder leiding van Sjoerd Hiemstra.</p>
LAST-MODIFIED:20260420T080333Z
LOCATION: Stadsschouwburg De Harmonie | Ruiterskwartier 4 Leeuwarden
SEQUENCE:0
STATUS:CONFIRMED
SUMMARY:De Grote Jubileum Show
TRANSP:OPAQUE
END:VEVENT
END:VCALENDAR
