BEGIN:VCALENDAR
PRODID:-//PUBBLE//agenda//NL
VERSION:2.0
METHOD:PUBLISH
BEGIN:VEVENT
DTSTART:20270515T201500Z
DTEND:20270515T211500Z
DTSTAMP:20260420T063619Z
UID:3b66a9be-0a1f-4e3d-a0fe-fb01f960d6f3
CREATED:20260420T063619Z
NAME:De Kast en het Noord Nederlands Orkest oudega-swf.nl
X-WR-CALNAME:De Kast en het Noord Nederlands Orkest
X-ALT-DESC;FMTTYPE=text/html:<a href='/agenda/2027/5/15/de-kast-en-het-noord-nederlands-orkest-130216'>/agenda/2027/5/15/de-kast-en-het-noord-nederlands-orkest-130216</a> || <p><strong>De Kast en het Noord Nederlands Orkest staan opnieuw samen op het podium van Stadsschouwburg De Harmonie in Leeuwarden. Onder leiding van dirigent Dirk Brossé hoor je bekende nummers van De Kast in een nieuw orkestjasje. Verwacht een avond vol herkenning, energie en emotie.</strong></p>
<p><br />
De band speelt samen met het orkest klassiekers als In Nije Dei, Hart van mijn gevoel en Woorden zonder woorden. De arrangementen zijn gemaakt door Dirk Brossé en Dirk Kokx. Door de combinatie van band en orkest krijgen de bekende liedjes een nieuwe, rijke klank.</p>
<p><br />
De samenwerking tussen De Kast en het Noord Nederlands Orkest gaat al meer dan 25 jaar terug. In 2025 verscheen het album De Kast 35 jaar &amp; Noord Nederlands Orkest. Daarmee schrijven de band en het orkest opnieuw een hoofdstuk in hun gezamenlijke geschiedenis.</p>
<p><br />
Zanger Syb van der Ploeg kijkt uit naar het concert. Volgens hem wordt het een bijzondere avond vol nostalgie, nieuwe bewerkingen en nieuwe herinneringen. Jong en oud kunnen samen genieten van muziek die al jaren veel mensen raakt.</p>
<p><br />
Deze avond in De Harmonie brengt pop en orkestmuziek samen op één podium. Het resultaat is een concert waarin vertrouwde liedjes een nieuwe kleur krijgen.</p>
DESCRIPTION:<a href='/agenda/2027/5/15/de-kast-en-het-noord-nederlands-orkest-130216'>/agenda/2027/5/15/de-kast-en-het-noord-nederlands-orkest-130216</a> || <p><strong>De Kast en het Noord Nederlands Orkest staan opnieuw samen op het podium van Stadsschouwburg De Harmonie in Leeuwarden. Onder leiding van dirigent Dirk Brossé hoor je bekende nummers van De Kast in een nieuw orkestjasje. Verwacht een avond vol herkenning, energie en emotie.</strong></p>
<p><br />
De band speelt samen met het orkest klassiekers als In Nije Dei, Hart van mijn gevoel en Woorden zonder woorden. De arrangementen zijn gemaakt door Dirk Brossé en Dirk Kokx. Door de combinatie van band en orkest krijgen de bekende liedjes een nieuwe, rijke klank.</p>
<p><br />
De samenwerking tussen De Kast en het Noord Nederlands Orkest gaat al meer dan 25 jaar terug. In 2025 verscheen het album De Kast 35 jaar &amp; Noord Nederlands Orkest. Daarmee schrijven de band en het orkest opnieuw een hoofdstuk in hun gezamenlijke geschiedenis.</p>
<p><br />
Zanger Syb van der Ploeg kijkt uit naar het concert. Volgens hem wordt het een bijzondere avond vol nostalgie, nieuwe bewerkingen en nieuwe herinneringen. Jong en oud kunnen samen genieten van muziek die al jaren veel mensen raakt.</p>
<p><br />
Deze avond in De Harmonie brengt pop en orkestmuziek samen op één podium. Het resultaat is een concert waarin vertrouwde liedjes een nieuwe kleur krijgen.</p>
LAST-MODIFIED:20260420T063619Z
LOCATION: Stadsschouwburg De Harmonie | Ruiterskwartier 4 Leeuwarden
SEQUENCE:0
STATUS:CONFIRMED
SUMMARY:De Kast en het Noord Nederlands Orkest
TRANSP:OPAQUE
END:VEVENT
END:VCALENDAR
