BEGIN:VCALENDAR
PRODID:-//PUBBLE//agenda//NL
VERSION:2.0
METHOD:PUBLISH
BEGIN:VEVENT
DTSTART:20260422T125000Z
DTEND:20260422T144800Z
DTSTAMP:20260421T224858Z
UID:c4b5c61e-e14f-4e93-be9c-1156e41acd07
CREATED:20260421T224858Z
NAME:De Super Mario Galaxy Movie (Nederlandse versie) oudega-swf.nl
X-WR-CALNAME:De Super Mario Galaxy Movie (Nederlandse versie)
X-ALT-DESC;FMTTYPE=text/html:<a href='/agenda/2026/4/22/de-super-mario-galaxy-movie-nederlandse-versie--130238'>/agenda/2026/4/22/de-super-mario-galaxy-movie-nederlandse-versie--130238</a> || <p>The Super Mario Galaxy Movie is een animatiefilm gebaseerd op de wereld van Super Mario Bros. en het vervolg op de The Super Mario Bros. Movie uit 2023, die wereldwijd meer dan 1,3 miljard dollar heeft opgebracht. Zowel de film uit 2023 als The Super Mario Galaxy Movie zijn geproduceerd door Chris Meledandri van Illumination en Shigeru Miyamoto van Nintendo. De film wordt gefinancierd door Universal Pictures en Nintendo samen en wordt wereldwijd uitgebracht door Universal Pictures.<br /><br />Voor The Super Mario Galaxy Movie keren filmmakers Aaron Horvath en Michael Jelenic terug als regisseurs en het scenario is ook dit keer geschreven door Matthew Fogel. Componist Brian Tyler is weer verantwoordelijk voor de muziek.</p>
<p>Regisseur</p>
<ul><li>Michael Jelenic</li><li>Aaron Horvath</li></ul>
<p>Acteurs</p>
<ul><li>Anya Taylor-Joy</li><li>Chris Pratt</li><li>Jack Black</li><li>Brie Larson</li><li>Charlie Day</li><li>Keegan-Michael Key</li><li>Kevin Michael Richardson</li><li>Benny Safdie</li></ul>
<p>Duur: 98 minuten</p>
<p>Genres</p>
<ul><li>Animatie</li><li>Kinderfilm</li></ul>
DESCRIPTION:<a href='/agenda/2026/4/22/de-super-mario-galaxy-movie-nederlandse-versie--130238'>/agenda/2026/4/22/de-super-mario-galaxy-movie-nederlandse-versie--130238</a> || <p>The Super Mario Galaxy Movie is een animatiefilm gebaseerd op de wereld van Super Mario Bros. en het vervolg op de The Super Mario Bros. Movie uit 2023, die wereldwijd meer dan 1,3 miljard dollar heeft opgebracht. Zowel de film uit 2023 als The Super Mario Galaxy Movie zijn geproduceerd door Chris Meledandri van Illumination en Shigeru Miyamoto van Nintendo. De film wordt gefinancierd door Universal Pictures en Nintendo samen en wordt wereldwijd uitgebracht door Universal Pictures.<br /><br />Voor The Super Mario Galaxy Movie keren filmmakers Aaron Horvath en Michael Jelenic terug als regisseurs en het scenario is ook dit keer geschreven door Matthew Fogel. Componist Brian Tyler is weer verantwoordelijk voor de muziek.</p>
<p>Regisseur</p>
<ul><li>Michael Jelenic</li><li>Aaron Horvath</li></ul>
<p>Acteurs</p>
<ul><li>Anya Taylor-Joy</li><li>Chris Pratt</li><li>Jack Black</li><li>Brie Larson</li><li>Charlie Day</li><li>Keegan-Michael Key</li><li>Kevin Michael Richardson</li><li>Benny Safdie</li></ul>
<p>Duur: 98 minuten</p>
<p>Genres</p>
<ul><li>Animatie</li><li>Kinderfilm</li></ul>
LAST-MODIFIED:20260421T224858Z
LOCATION: Onbekend | Ruiterskwartier 6a Leeuwarden
SEQUENCE:0
STATUS:CONFIRMED
SUMMARY:De Super Mario Galaxy Movie (Nederlandse versie)
TRANSP:OPAQUE
END:VEVENT
END:VCALENDAR
