BEGIN:VCALENDAR
PRODID:-//PUBBLE//agenda//NL
VERSION:2.0
METHOD:PUBLISH
BEGIN:VEVENT
DTSTART:20261009T201500Z
DTEND:20261009T211500Z
DTSTAMP:20260420T080040Z
UID:da3a2eb6-9714-4593-9f57-c069f1136124
CREATED:20260420T080040Z
NAME:Diggy Dex oudega-swf.nl
X-WR-CALNAME:Diggy Dex
X-ALT-DESC;FMTTYPE=text/html:<a href='/agenda/2026/10/9/diggy-dex-130241'>/agenda/2026/10/9/diggy-dex-130241</a> || <p><strong>Dit najaar gaat Diggy Dex op tour met zijn theatervoorstelling <em>De Zoektocht Naar Geluk</em>. Samen met zijn vaste gitarist René van Mierlo neemt hij je mee in een persoonlijke en muzikale zoektocht naar antwoorden op de grote en kleine vragen van het leven.</strong></p>
<p>In de voorstelling staan thema’s centraal die voor veel mensen herkenbaar zijn. Waar vind je geluk? In de liefde, in vriendschap, in ouderschap, in succes of juist in de kleine momenten van elke dag? Diggy Dex zoekt al jarenlang naar woorden voor die vragen. Van zijn eerste teksten als tiener tot bekende nummers als <em>Treur Niet (Ode Aan Het Leven)</em>, <em>La Vie Est Belle</em> en <em>De Zon Op</em>: zijn muziek draait om zingeving, verbinding en het leven zelf.</p>
<p>Waar Diggy Dex eerder vaak met zijn volledige band op het podium stond, kiest hij nu bewust voor een kleinere bezetting. Samen met René van Mierlo brengt hij de liedjes terug naar de kern. Dat zorgt voor een intieme sfeer, met veel aandacht voor het verhaal achter de songs. Juist in deze setting is er ruimte voor persoonlijkheid, rust en contact met het publiek.</p>
<p><em>De Zoektocht Naar Geluk</em> is een voorstelling met muziek en verhalen die dichtbij komen. Een avond voor liefhebbers van Nederlandstalige muziek, sterke teksten en een open blik op het leven.</p>
DESCRIPTION:<a href='/agenda/2026/10/9/diggy-dex-130241'>/agenda/2026/10/9/diggy-dex-130241</a> || <p><strong>Dit najaar gaat Diggy Dex op tour met zijn theatervoorstelling <em>De Zoektocht Naar Geluk</em>. Samen met zijn vaste gitarist René van Mierlo neemt hij je mee in een persoonlijke en muzikale zoektocht naar antwoorden op de grote en kleine vragen van het leven.</strong></p>
<p>In de voorstelling staan thema’s centraal die voor veel mensen herkenbaar zijn. Waar vind je geluk? In de liefde, in vriendschap, in ouderschap, in succes of juist in de kleine momenten van elke dag? Diggy Dex zoekt al jarenlang naar woorden voor die vragen. Van zijn eerste teksten als tiener tot bekende nummers als <em>Treur Niet (Ode Aan Het Leven)</em>, <em>La Vie Est Belle</em> en <em>De Zon Op</em>: zijn muziek draait om zingeving, verbinding en het leven zelf.</p>
<p>Waar Diggy Dex eerder vaak met zijn volledige band op het podium stond, kiest hij nu bewust voor een kleinere bezetting. Samen met René van Mierlo brengt hij de liedjes terug naar de kern. Dat zorgt voor een intieme sfeer, met veel aandacht voor het verhaal achter de songs. Juist in deze setting is er ruimte voor persoonlijkheid, rust en contact met het publiek.</p>
<p><em>De Zoektocht Naar Geluk</em> is een voorstelling met muziek en verhalen die dichtbij komen. Een avond voor liefhebbers van Nederlandstalige muziek, sterke teksten en een open blik op het leven.</p>
LAST-MODIFIED:20260420T080040Z
LOCATION: Stadsschouwburg De Harmonie | Ruiterskwartier 4 Leeuwarden
SEQUENCE:0
STATUS:CONFIRMED
SUMMARY:Diggy Dex
TRANSP:OPAQUE
END:VEVENT
END:VCALENDAR
