BEGIN:VCALENDAR
PRODID:-//PUBBLE//agenda//NL
VERSION:2.0
METHOD:PUBLISH
BEGIN:VEVENT
DTSTART:20260429T201500Z
DTEND:20260429T211500Z
DTSTAMP:20260420T082137Z
UID:0f77e982-e502-4776-8fcd-cbc2bb9da5d7
CREATED:20260420T082137Z
NAME:Emma Heesters - Live in Theater oudega-swf.nl
X-WR-CALNAME:Emma Heesters - Live in Theater
X-ALT-DESC;FMTTYPE=text/html:<a href='/agenda/2026/4/29/emma-heesters-live-in-theater-130244'>/agenda/2026/4/29/emma-heesters-live-in-theater-130244</a> || <p><strong>Emma Heesters staat weer in het theater. Na een ingrijpend jaar is ze terug met een concert vol muziek en verhalen. Ze zingt haar eigen nummers en de bekende covers waarmee haar carrière begon. Ook vertelt ze openhartig over de weg die ze heeft afgelegd.</strong></p>
<p>Emma werd bekend door haar covers op YouTube en brak echt door na haar deelname aan ‘Beste Zangers’. Daar zong ze onder andere met Rolf Sanchez, wat leidde tot de hit ‘Pa Olvidarte’. Ze was ook te zien in de serie ‘Stars On Stage’ en zong samen met Andrea Bocelli.</p>
<p>In 2024 moest ze haar tournee plots stilleggen. Bij Emma werd baarmoederhalskanker vastgesteld. Er volgde een zwaar behandeltraject. In 2025 kwam het goede nieuws: de behandeling sloeg aan en Emma is in remissie. Dat jaar ontving ze ook de ‘Televizier-Ring Impact’ voor haar open gesprek met Eva Jinek over deze moeilijke periode.</p>
<p>Nu pakt ze de draad weer op. In deze voorstelling hoor je haar muziek en beleef je haar verhaal van dichtbij. Een avond vol emotie, kracht en natuurlijk haar betoverende stem.</p>
DESCRIPTION:<a href='/agenda/2026/4/29/emma-heesters-live-in-theater-130244'>/agenda/2026/4/29/emma-heesters-live-in-theater-130244</a> || <p><strong>Emma Heesters staat weer in het theater. Na een ingrijpend jaar is ze terug met een concert vol muziek en verhalen. Ze zingt haar eigen nummers en de bekende covers waarmee haar carrière begon. Ook vertelt ze openhartig over de weg die ze heeft afgelegd.</strong></p>
<p>Emma werd bekend door haar covers op YouTube en brak echt door na haar deelname aan ‘Beste Zangers’. Daar zong ze onder andere met Rolf Sanchez, wat leidde tot de hit ‘Pa Olvidarte’. Ze was ook te zien in de serie ‘Stars On Stage’ en zong samen met Andrea Bocelli.</p>
<p>In 2024 moest ze haar tournee plots stilleggen. Bij Emma werd baarmoederhalskanker vastgesteld. Er volgde een zwaar behandeltraject. In 2025 kwam het goede nieuws: de behandeling sloeg aan en Emma is in remissie. Dat jaar ontving ze ook de ‘Televizier-Ring Impact’ voor haar open gesprek met Eva Jinek over deze moeilijke periode.</p>
<p>Nu pakt ze de draad weer op. In deze voorstelling hoor je haar muziek en beleef je haar verhaal van dichtbij. Een avond vol emotie, kracht en natuurlijk haar betoverende stem.</p>
LAST-MODIFIED:20260420T082137Z
LOCATION: Stadsschouwburg De Harmonie | Ruiterskwartier 4 Leeuwarden
SEQUENCE:0
STATUS:CONFIRMED
SUMMARY:Emma Heesters - Live in Theater
TRANSP:OPAQUE
END:VEVENT
END:VCALENDAR
