BEGIN:VCALENDAR
PRODID:-//PUBBLE//agenda//NL
VERSION:2.0
METHOD:PUBLISH
BEGIN:VEVENT
DTSTART:20270102T190000Z
DTEND:20270102T200000Z
DTSTAMP:20260420T080548Z
UID:6912d1eb-21c2-42dd-bd2c-23bd6a64f606
CREATED:20260420T080548Z
NAME:Frysk Jeugd Orkest oudega-swf.nl
X-WR-CALNAME:Frysk Jeugd Orkest
X-ALT-DESC;FMTTYPE=text/html:<a href='/agenda/2027/1/2/frysk-jeugd-orkest-130248'>/agenda/2027/1/2/frysk-jeugd-orkest-130248</a> || <p><strong>Begin het jaar met muziek tijdens het Nieuwjaarsconcert van het Frysk Jeugd Orkest. Op zaterdag 2 januari brengen het Jong FJO en het Frysk Jeugd Orkest een feestelijk programma. Het concert is voor jong en oud en vormt ook de start van een bijzonder jaar. In 2027 bestaat het Frysk Jeugd Orkest namelijk 50 jaar.</strong></p>
<p><br />
Het programma staat in het teken van het ontdekken van nieuwe werelden. Je hoort muziek die je meeneemt naar verschillende plekken en verhalen. Zo klinkt de ouverture uit Entführung aus dem Serail van Mozart. Ook hoor je muziek uit de film The Chronicles of Narnia. Daarnaast staat de Japanse Suite van Holst op het programma.</p>
<p><br />
Solist van deze middag is de jonge pianiste Sanne Doorduin. Zij is een Noordelijk pianotalent en won in 2026 de Gerard van der Weerd solistenprijs. Samen met het orkest brengt zij een bijzonder moment in het programma.</p>
<p><br />
Na afloop van het concert proosten we samen op een goed, gelukkig en muzikaal nieuwjaar. Het Nieuwjaarsconcert is zo een feestelijke start van 2027 en van het jubileumjaar van het Frysk Jeugd Orkest.</p>
DESCRIPTION:<a href='/agenda/2027/1/2/frysk-jeugd-orkest-130248'>/agenda/2027/1/2/frysk-jeugd-orkest-130248</a> || <p><strong>Begin het jaar met muziek tijdens het Nieuwjaarsconcert van het Frysk Jeugd Orkest. Op zaterdag 2 januari brengen het Jong FJO en het Frysk Jeugd Orkest een feestelijk programma. Het concert is voor jong en oud en vormt ook de start van een bijzonder jaar. In 2027 bestaat het Frysk Jeugd Orkest namelijk 50 jaar.</strong></p>
<p><br />
Het programma staat in het teken van het ontdekken van nieuwe werelden. Je hoort muziek die je meeneemt naar verschillende plekken en verhalen. Zo klinkt de ouverture uit Entführung aus dem Serail van Mozart. Ook hoor je muziek uit de film The Chronicles of Narnia. Daarnaast staat de Japanse Suite van Holst op het programma.</p>
<p><br />
Solist van deze middag is de jonge pianiste Sanne Doorduin. Zij is een Noordelijk pianotalent en won in 2026 de Gerard van der Weerd solistenprijs. Samen met het orkest brengt zij een bijzonder moment in het programma.</p>
<p><br />
Na afloop van het concert proosten we samen op een goed, gelukkig en muzikaal nieuwjaar. Het Nieuwjaarsconcert is zo een feestelijke start van 2027 en van het jubileumjaar van het Frysk Jeugd Orkest.</p>
LAST-MODIFIED:20260420T080548Z
LOCATION: Stadsschouwburg De Harmonie | Ruiterskwartier 4 Leeuwarden
SEQUENCE:0
STATUS:CONFIRMED
SUMMARY:Frysk Jeugd Orkest
TRANSP:OPAQUE
END:VEVENT
END:VCALENDAR
