BEGIN:VCALENDAR
PRODID:-//PUBBLE//agenda//NL
VERSION:2.0
METHOD:PUBLISH
BEGIN:VEVENT
DTSTART:20270313T191500Z
DTEND:20270313T201500Z
DTSTAMP:20260420T063405Z
UID:fdb14cff-ae2f-4ef8-8535-655fff3e8692
CREATED:20260420T063405Z
NAME:Frysk Jeugd Orkest oudega-swf.nl
X-WR-CALNAME:Frysk Jeugd Orkest
X-ALT-DESC;FMTTYPE=text/html:<a href='/agenda/2027/3/13/frysk-jeugd-orkest-130249'>/agenda/2027/3/13/frysk-jeugd-orkest-130249</a> || <p><strong>Het Frysk Jeugd Orkest bestaat sinds 1977. In 2027 viert het orkest zijn 50-jarig jubileum met een feestelijk jubileumconcert. Tijdens dit concert staat het huidige Frysk Jeugd Orkest op het podium. Dit orkest brengt een deel van het programma. Daarnaast speelt een bijzonder reünie-orkest. Dit grote orkest bestaat uit oud-leden van het Frysk Jeugd Orkest. Zo komen verschillende generaties muzikanten samen.</strong></p>
<p><br />
Het concert laat zien hoeveel jong muzikaal talent er in 50 jaar door het orkest is gegaan. Muzikanten die vroeger in het orkest speelden, keren voor deze gelegenheid terug. Samen met de huidige leden vormen zij een groot orkest op het podium.</p>
<p><br />
Meer informatie over eventuele solisten en de programmering wordt later bekendgemaakt. Het jubileumconcert markeert een bijzonder moment in de geschiedenis van het Frysk Jeugd Orkest. 50 jaar muziek en ontwikkeling van jonge musici komen hier samen.</p>
DESCRIPTION:<a href='/agenda/2027/3/13/frysk-jeugd-orkest-130249'>/agenda/2027/3/13/frysk-jeugd-orkest-130249</a> || <p><strong>Het Frysk Jeugd Orkest bestaat sinds 1977. In 2027 viert het orkest zijn 50-jarig jubileum met een feestelijk jubileumconcert. Tijdens dit concert staat het huidige Frysk Jeugd Orkest op het podium. Dit orkest brengt een deel van het programma. Daarnaast speelt een bijzonder reünie-orkest. Dit grote orkest bestaat uit oud-leden van het Frysk Jeugd Orkest. Zo komen verschillende generaties muzikanten samen.</strong></p>
<p><br />
Het concert laat zien hoeveel jong muzikaal talent er in 50 jaar door het orkest is gegaan. Muzikanten die vroeger in het orkest speelden, keren voor deze gelegenheid terug. Samen met de huidige leden vormen zij een groot orkest op het podium.</p>
<p><br />
Meer informatie over eventuele solisten en de programmering wordt later bekendgemaakt. Het jubileumconcert markeert een bijzonder moment in de geschiedenis van het Frysk Jeugd Orkest. 50 jaar muziek en ontwikkeling van jonge musici komen hier samen.</p>
LAST-MODIFIED:20260420T063405Z
LOCATION: Stadsschouwburg De Harmonie | Ruiterskwartier 4 Leeuwarden
SEQUENCE:0
STATUS:CONFIRMED
SUMMARY:Frysk Jeugd Orkest
TRANSP:OPAQUE
END:VEVENT
END:VCALENDAR
