BEGIN:VCALENDAR
PRODID:-//PUBBLE//agenda//NL
VERSION:2.0
METHOD:PUBLISH
BEGIN:VEVENT
DTSTART:20270207T140000Z
DTEND:20270207T150000Z
DTSTAMP:20260420T080518Z
UID:a48f6db9-371c-4ed9-afdc-e5c25de1922c
CREATED:20260420T080518Z
NAME:Fryslân Symfony oudega-swf.nl
X-WR-CALNAME:Fryslân Symfony
X-ALT-DESC;FMTTYPE=text/html:<a href='/agenda/2027/2/7/fryslan-symfony-130250'>/agenda/2027/2/7/fryslan-symfony-130250</a> || <p><strong><em>De stim fan de reiddomp</em> is een nieuw en poëtisch Fries werk van dichter Eppie Dam en componist Gerben van der Veen. De première brengt muziek, taal en beeld samen in één geheel. De symfonie bestaat uit elf delen. Elk deel is gebaseerd op een Fries gedicht dat Eppie Dam speciaal voor dit project schreef. De openingszin klinkt direct krachtig: ‘Ut ’e sompen komt de domp’. Vanuit die gedachte hoor je in de muziek het landschap, de roerdomp en de grutto, maar ook thema’s als biodiversiteit, PFAS, kaatsen en de Friese drang naar vrijheid. Zo gaat het werk over natuur, taal, geschiedenis en de toekomst van Fryslân.</strong></p>

<p><strong>Gerben van der Veen</strong></p>
<p>Gerben van der Veen componeerde de muziek. Hij was vele jaren actief als dirigent en componist. De Fryslân Symfony was zijn levenswerk. In maart 2026, kort na de voltooiing ervan is Van der Veen zeer plotseling overleden. Deze uitvoering wordt nu een eerbetoon aan zijn muzikale talent.&nbsp;&nbsp;Van der Veen werkte eerder met Eppie Dam samen aan de Fryske Passy – In frjemdling yn Jeruzalem. De klank van de Friese taal, met alliteraties en rijm, inspireerde hem sterk. Dat hoor je terug in de afwisseling van sfeer en kleur in de elf delen.</p>
<p><br />
<strong>Eppie Dam</strong><br />
Eppie Dam vertelt dat hij niet lang hoefde na te denken toen hem werd gevraagd het libretto te schrijven. Het idee van elf delen ontstond snel. De roerdomp werd een belangrijk symbool: een roepende stem in het rietland, die steeds minder wordt gehoord. In de gedichten klinkt zorg om wat verdwijnt, maar ook betrokkenheid bij wat Fryslân eigen maakt.<br />
<br />
Gerben van der Veen componeerde de muziek. Hij is al vele jaren actief als dirigent en componist en werkte eerder met Eppie Dam samen aan de Fryske Passy - In frjemdling yn Jeruzalem. De klank van de Friese taal, met alliteraties en rijm, inspireert hem sterk. Dat hoor je terug in de afwisseling van sfeer en kleur in de elf delen.<br />
<br />
De uitvoering is groots opgezet. De Fryslân Symfony is geschreven voor symfonieorkest, groot koor, kinderkoor en sopraan. Stichting Collegium Vocale Fryslân stelt het koor samen uit de kamerkoren Hortus Vocalis en Con Amore Musica, aangevuld met uitgenodigde zangers. Samen met De Nije Symfony zorgen zij voor een rijk en gelaagd geluid.<br />
<br />
Tijdens de uitvoering worden de Friese teksten en passende beelden boven het toneel geprojecteerd. Zo beleef je de inhoud niet alleen via de muziek, maar ook via woord en beeld. Dat maakt deze première tot een bijzondere ervaring waarin je Fryslân hoort, ziet en voelt.</p>
DESCRIPTION:<a href='/agenda/2027/2/7/fryslan-symfony-130250'>/agenda/2027/2/7/fryslan-symfony-130250</a> || <p><strong><em>De stim fan de reiddomp</em> is een nieuw en poëtisch Fries werk van dichter Eppie Dam en componist Gerben van der Veen. De première brengt muziek, taal en beeld samen in één geheel. De symfonie bestaat uit elf delen. Elk deel is gebaseerd op een Fries gedicht dat Eppie Dam speciaal voor dit project schreef. De openingszin klinkt direct krachtig: ‘Ut ’e sompen komt de domp’. Vanuit die gedachte hoor je in de muziek het landschap, de roerdomp en de grutto, maar ook thema’s als biodiversiteit, PFAS, kaatsen en de Friese drang naar vrijheid. Zo gaat het werk over natuur, taal, geschiedenis en de toekomst van Fryslân.</strong></p>

<p><strong>Gerben van der Veen</strong></p>
<p>Gerben van der Veen componeerde de muziek. Hij was vele jaren actief als dirigent en componist. De Fryslân Symfony was zijn levenswerk. In maart 2026, kort na de voltooiing ervan is Van der Veen zeer plotseling overleden. Deze uitvoering wordt nu een eerbetoon aan zijn muzikale talent.&nbsp;&nbsp;Van der Veen werkte eerder met Eppie Dam samen aan de Fryske Passy – In frjemdling yn Jeruzalem. De klank van de Friese taal, met alliteraties en rijm, inspireerde hem sterk. Dat hoor je terug in de afwisseling van sfeer en kleur in de elf delen.</p>
<p><br />
<strong>Eppie Dam</strong><br />
Eppie Dam vertelt dat hij niet lang hoefde na te denken toen hem werd gevraagd het libretto te schrijven. Het idee van elf delen ontstond snel. De roerdomp werd een belangrijk symbool: een roepende stem in het rietland, die steeds minder wordt gehoord. In de gedichten klinkt zorg om wat verdwijnt, maar ook betrokkenheid bij wat Fryslân eigen maakt.<br />
<br />
Gerben van der Veen componeerde de muziek. Hij is al vele jaren actief als dirigent en componist en werkte eerder met Eppie Dam samen aan de Fryske Passy - In frjemdling yn Jeruzalem. De klank van de Friese taal, met alliteraties en rijm, inspireert hem sterk. Dat hoor je terug in de afwisseling van sfeer en kleur in de elf delen.<br />
<br />
De uitvoering is groots opgezet. De Fryslân Symfony is geschreven voor symfonieorkest, groot koor, kinderkoor en sopraan. Stichting Collegium Vocale Fryslân stelt het koor samen uit de kamerkoren Hortus Vocalis en Con Amore Musica, aangevuld met uitgenodigde zangers. Samen met De Nije Symfony zorgen zij voor een rijk en gelaagd geluid.<br />
<br />
Tijdens de uitvoering worden de Friese teksten en passende beelden boven het toneel geprojecteerd. Zo beleef je de inhoud niet alleen via de muziek, maar ook via woord en beeld. Dat maakt deze première tot een bijzondere ervaring waarin je Fryslân hoort, ziet en voelt.</p>
LAST-MODIFIED:20260420T080518Z
LOCATION: Stadsschouwburg De Harmonie | Ruiterskwartier 4 Leeuwarden
SEQUENCE:0
STATUS:CONFIRMED
SUMMARY:Fryslân Symfony
TRANSP:OPAQUE
END:VEVENT
END:VCALENDAR
