BEGIN:VCALENDAR
PRODID:-//PUBBLE//agenda//NL
VERSION:2.0
METHOD:PUBLISH
BEGIN:VEVENT
DTSTART:20270410T203000Z
DTEND:20270410T213000Z
DTSTAMP:20260420T062444Z
UID:537ef842-b6f2-4397-8ac7-1c411c597a53
CREATED:20260420T062444Z
NAME:Fuse & Kinan Azmeh oudega-swf.nl
X-WR-CALNAME:Fuse & Kinan Azmeh
X-ALT-DESC;FMTTYPE=text/html:<a href='/agenda/2027/4/10/fuse-kinan-azmeh-130251'>/agenda/2027/4/10/fuse-kinan-azmeh-130251</a> || <p><strong>Fuse en Kinan Azmeh delen al jaren een hechte muzikale vriendschap. Met het concert <em>FREE</em> gaat een lang gekoesterde wens in vervulling: samen op tournee. In Stadsschouwburg De Harmonie hoor je hoe deze musici elkaar uitdagen en inspireren. Voor Kinan Azmeh is muziek een ‘act of freedom’. Zijn wortels in de Arabische muziek, zijn klassieke opleiding en zijn jazzachtergrond komen samen in een eigen, herkenbare stijl. Die vrije geest sluit naadloos aan bij Fuse: het strijkkwartet met contrabas en drums dat bekendstaat om zijn open blik en energieke spel.</strong><br />
<br />
In <em>FREE</em> klinkt nieuw werk dat Azmeh speciaal voor Fuse schreef. Ook hoor je arrangementen van enkele van zijn iconische composities, zoals November 22nd en Airports. Daarnaast is er ruimte voor collectieve improvisaties en voor bewerkingen van muziek van Béla Bartók en Johann Sebastian Bach. Het programma draait om hoop, herinnering en verbondenheid. Indringende ritmes en verstilde momenten wisselen elkaar af.<br />
<br />
De bezetting bestaat uit Kinan Azmeh (klarinet), Adriaan Breunis (altviool), Daniel van Dalen (drums), Emma van der Schalie (viool), Julia Philippens (viool), Mascha van Nieuwkerk (cello) en Tobias Nijboer (contrabas).<br />
<br />
<strong>Fuse</strong></p>
<p>Fuse begon in 2012 met eigen clubavonden in het Amsterdamse nachtleven. Daar presenteerden ze klassieke muziek op een nieuwe manier. Sindsdien volgden honderden optredens in binnen- en buitenland. Ze wonnen de <em>Edison Klassiek</em> Publieksprijs en zijn sinds 2015 de huisband van het tv-programma <em>Podium Klassiek</em>.</p>
<p><br />
Met <em>FREE</em> hoor je Fuse op zijn kwetsbaarst en tegelijk op zijn krachtigst, gedragen door de bezielde klank van Kinan Azmeh. Samen nemen ze je mee in een muzikaal avontuur dat vrijheid ademt.<br />
<br />
Fuse begon in 2012 met een reeks eigen clubavonden in het Amsterdamse nachtleven, waar klassieke muziek op een nieuwe manier werd gepresenteerd. Honderden optredens in binnen- en buitenland volgden. Ze zijn de vaandeldragers van een nieuwe generatie alternatief-klassieke formaties. Winnaars van de <em>Edison Klassiek</em> Publieksprijs. Sinds 2015 staat de groep tevens bekend als de huisband van tv-programma <em>Podium Klassiek</em>.<br />
<br />
Kinan Azmeh (Damascus, 1976) is een Syrisch-Amerikaanse klarinettist en componist. Opgeleid in Damascus en New York, maakt hij internationaal indruk met zijn lyrische toon en genre-overstijgende stijl. Hij is lid van het bekroonde Silk Road Ensemble van Yo-Yo Ma en leidt zijn eigen Kinan Azmeh City Band.<br />
<br />
<a href="http://www.kinanazmeh.com" target="_blank">www.kinanazmeh.com</a><br />
<a href="http://www.fusemusic.nl" target="_blank">www.fusemusic.nl</a></p>

<p><strong>Musici</strong></p>
<p>Kinan Azmeh: klarinet</p>
<p>Adriaan Breunis: altviool</p>
<p>Daniel van Dalen: drums</p>
<p>Emma van der Schalie: viool</p>
<p>Julia Philippens: viool</p>
<p>Mascha van Nieuwkerk: cello</p>
<p>Tobias Nijboer: contrabas</p>
DESCRIPTION:<a href='/agenda/2027/4/10/fuse-kinan-azmeh-130251'>/agenda/2027/4/10/fuse-kinan-azmeh-130251</a> || <p><strong>Fuse en Kinan Azmeh delen al jaren een hechte muzikale vriendschap. Met het concert <em>FREE</em> gaat een lang gekoesterde wens in vervulling: samen op tournee. In Stadsschouwburg De Harmonie hoor je hoe deze musici elkaar uitdagen en inspireren. Voor Kinan Azmeh is muziek een ‘act of freedom’. Zijn wortels in de Arabische muziek, zijn klassieke opleiding en zijn jazzachtergrond komen samen in een eigen, herkenbare stijl. Die vrije geest sluit naadloos aan bij Fuse: het strijkkwartet met contrabas en drums dat bekendstaat om zijn open blik en energieke spel.</strong><br />
<br />
In <em>FREE</em> klinkt nieuw werk dat Azmeh speciaal voor Fuse schreef. Ook hoor je arrangementen van enkele van zijn iconische composities, zoals November 22nd en Airports. Daarnaast is er ruimte voor collectieve improvisaties en voor bewerkingen van muziek van Béla Bartók en Johann Sebastian Bach. Het programma draait om hoop, herinnering en verbondenheid. Indringende ritmes en verstilde momenten wisselen elkaar af.<br />
<br />
De bezetting bestaat uit Kinan Azmeh (klarinet), Adriaan Breunis (altviool), Daniel van Dalen (drums), Emma van der Schalie (viool), Julia Philippens (viool), Mascha van Nieuwkerk (cello) en Tobias Nijboer (contrabas).<br />
<br />
<strong>Fuse</strong></p>
<p>Fuse begon in 2012 met eigen clubavonden in het Amsterdamse nachtleven. Daar presenteerden ze klassieke muziek op een nieuwe manier. Sindsdien volgden honderden optredens in binnen- en buitenland. Ze wonnen de <em>Edison Klassiek</em> Publieksprijs en zijn sinds 2015 de huisband van het tv-programma <em>Podium Klassiek</em>.</p>
<p><br />
Met <em>FREE</em> hoor je Fuse op zijn kwetsbaarst en tegelijk op zijn krachtigst, gedragen door de bezielde klank van Kinan Azmeh. Samen nemen ze je mee in een muzikaal avontuur dat vrijheid ademt.<br />
<br />
Fuse begon in 2012 met een reeks eigen clubavonden in het Amsterdamse nachtleven, waar klassieke muziek op een nieuwe manier werd gepresenteerd. Honderden optredens in binnen- en buitenland volgden. Ze zijn de vaandeldragers van een nieuwe generatie alternatief-klassieke formaties. Winnaars van de <em>Edison Klassiek</em> Publieksprijs. Sinds 2015 staat de groep tevens bekend als de huisband van tv-programma <em>Podium Klassiek</em>.<br />
<br />
Kinan Azmeh (Damascus, 1976) is een Syrisch-Amerikaanse klarinettist en componist. Opgeleid in Damascus en New York, maakt hij internationaal indruk met zijn lyrische toon en genre-overstijgende stijl. Hij is lid van het bekroonde Silk Road Ensemble van Yo-Yo Ma en leidt zijn eigen Kinan Azmeh City Band.<br />
<br />
<a href="http://www.kinanazmeh.com" target="_blank">www.kinanazmeh.com</a><br />
<a href="http://www.fusemusic.nl" target="_blank">www.fusemusic.nl</a></p>

<p><strong>Musici</strong></p>
<p>Kinan Azmeh: klarinet</p>
<p>Adriaan Breunis: altviool</p>
<p>Daniel van Dalen: drums</p>
<p>Emma van der Schalie: viool</p>
<p>Julia Philippens: viool</p>
<p>Mascha van Nieuwkerk: cello</p>
<p>Tobias Nijboer: contrabas</p>
LAST-MODIFIED:20260420T062444Z
LOCATION: Stadsschouwburg De Harmonie | Ruiterskwartier 4 Leeuwarden
SEQUENCE:0
STATUS:CONFIRMED
SUMMARY:Fuse & Kinan Azmeh
TRANSP:OPAQUE
END:VEVENT
END:VCALENDAR
