BEGIN:VCALENDAR
PRODID:-//PUBBLE//agenda//NL
VERSION:2.0
METHOD:PUBLISH
BEGIN:VEVENT
DTSTART:20261215T191500Z
DTEND:20261215T201500Z
DTSTAMP:20260420T080328Z
UID:8ec7445f-6747-41d3-b14e-6cb702b90c48
CREATED:20260420T080328Z
NAME:Guido Weijers oudega-swf.nl
X-WR-CALNAME:Guido Weijers
X-ALT-DESC;FMTTYPE=text/html:<a href='/agenda/2026/12/15/guido-weijers-130252'>/agenda/2026/12/15/guido-weijers-130252</a> || <p><strong>Guido Weijers is terug. Dit keer met <strong>De Oudejaarsconference 2026</strong>. Met zijn unieke mix van humor en filosofie kijkt Guido terug op het afgelopen jaar. In zijn bekende stand-up comedy-achtige stijl fileert hij 2026 tot op het bot. Zonder oordeel, maar met een vlijmscherpe tong. Wat er ook gebeurt, humor blijft het medicijn. Dus lachen zullen we!</strong></p>
<p>In vreemde tijden moet de hofnar stevig van zich laten horen. Guido benoemt wat anderen misschien laten liggen. Hij stelt vragen, zoekt naar antwoorden en komt met verrassende inzichten. Soms scherp, soms luchtig, maar altijd met energie en een open blik.</p>
<p>Guido Weijers behoort al jaren tot de bekendste cabaretiers van Nederland. In 2000 won hij de publieksprijs op Cameretten. Daarna volgden zes theatershows en elf edities van De Oudejaarsconference, uitgezonden bij zowel de publieke omroep als commerciële zenders.</p>
<p>Met deze nieuwe Oudejaarsconference laat Guido opnieuw zien waarom hij zo’n vaste waarde is op de Nederlandse bühne. Een avond vol humor, reflectie en verwondering over een jaar dat genoeg stof tot nadenken gaf.</p>
<p>Guido heeft het antwoord. Jij ook?</p>
DESCRIPTION:<a href='/agenda/2026/12/15/guido-weijers-130252'>/agenda/2026/12/15/guido-weijers-130252</a> || <p><strong>Guido Weijers is terug. Dit keer met <strong>De Oudejaarsconference 2026</strong>. Met zijn unieke mix van humor en filosofie kijkt Guido terug op het afgelopen jaar. In zijn bekende stand-up comedy-achtige stijl fileert hij 2026 tot op het bot. Zonder oordeel, maar met een vlijmscherpe tong. Wat er ook gebeurt, humor blijft het medicijn. Dus lachen zullen we!</strong></p>
<p>In vreemde tijden moet de hofnar stevig van zich laten horen. Guido benoemt wat anderen misschien laten liggen. Hij stelt vragen, zoekt naar antwoorden en komt met verrassende inzichten. Soms scherp, soms luchtig, maar altijd met energie en een open blik.</p>
<p>Guido Weijers behoort al jaren tot de bekendste cabaretiers van Nederland. In 2000 won hij de publieksprijs op Cameretten. Daarna volgden zes theatershows en elf edities van De Oudejaarsconference, uitgezonden bij zowel de publieke omroep als commerciële zenders.</p>
<p>Met deze nieuwe Oudejaarsconference laat Guido opnieuw zien waarom hij zo’n vaste waarde is op de Nederlandse bühne. Een avond vol humor, reflectie en verwondering over een jaar dat genoeg stof tot nadenken gaf.</p>
<p>Guido heeft het antwoord. Jij ook?</p>
LAST-MODIFIED:20260420T080328Z
LOCATION: Stadsschouwburg De Harmonie | Ruiterskwartier 4 Leeuwarden
SEQUENCE:0
STATUS:CONFIRMED
SUMMARY:Guido Weijers
TRANSP:OPAQUE
END:VEVENT
END:VCALENDAR
