BEGIN:VCALENDAR
PRODID:-//PUBBLE//agenda//NL
VERSION:2.0
METHOD:PUBLISH
BEGIN:VEVENT
DTSTART:20270207T140000Z
DTEND:20270207T150000Z
DTSTAMP:20260420T080409Z
UID:f9054d6f-57b3-4677-b8bb-68e251d0b5a9
CREATED:20260420T080409Z
NAME:Hans & Grietje op de vlucht! oudega-swf.nl
X-WR-CALNAME:Hans & Grietje op de vlucht!
X-ALT-DESC;FMTTYPE=text/html:<a href='/agenda/2027/2/7/hans-grietje-op-de-vlucht--130255'>/agenda/2027/2/7/hans-grietje-op-de-vlucht--130255</a> || <p><strong>Met <em>Hans &amp; Grietje op de vlucht! </em>maakt Opera Rebels Collective samen met Opera2Day en Studio Youkali een muzikale familieopera voor iedereen vanaf 8 jaar. In deze nieuwe versie van het bekende sprookje staat de wereld van Hans en Grietje ineens op z’n kop. Geen sprookjesbos, maar een onzekere wereld waarin zij op de vlucht zijn. Ze zoeken veiligheid, eten en houvast. Als ze terechtkomen in een verleidelijke snoepjeswereld vol zoete beloftes, lijkt alles even goed te komen. Maar achter die glans schuilt gevaar.</strong></p>
<p>De opera is gebaseerd op de muziek van Engelbert Humperdinck. Het nieuwe Nederlandse libretto is van Krekelprijswinnaar Jibbe Willems. Het verhaal wordt verteld met humor, spanning en veel verbeeldingskracht.</p>
<p>Op het podium staat het Supernatural Orchestra of the Kosmos onder leiding van Loes Visser. Samen met dertien musici, verteller Nils Verkooijen en vier zangers, onder wie Ana-Carmen Balestra en Roza Herwig, ontstaat een spannende en meeslepende voorstelling voor jong en oud.</p>
<p>Hans &amp; Grietje op de vlucht! is een eigentijdse opera-ervaring met een tijdloos verhaal over moed en de kracht van samen zijn. Maar lukt het Hans en Grietje om de heks te verslaan?</p>
<p>De voorstelling duurt 70 minuten en heeft geen pauze. Er wordt gezongen en gesproken in het Nederlands.</p>
<p>Muziek: Engelbert Humperdinck</p>
<p>Libretto: Jibbe Willems</p>
<p>Tijdsduur:&nbsp;70 minuten zonder pauze</p>
<p>Taal:&nbsp;Gezongen en gesproken in het Nederlands</p>
<p>Productie:&nbsp;Opera Rebels Collective i.s.m. Opera2Day en Studio Youkali</p>
<p>Ensemble:&nbsp;Supernatural Orchestra of the Kosmos o.l.v. Loes Visser</p>
DESCRIPTION:<a href='/agenda/2027/2/7/hans-grietje-op-de-vlucht--130255'>/agenda/2027/2/7/hans-grietje-op-de-vlucht--130255</a> || <p><strong>Met <em>Hans &amp; Grietje op de vlucht! </em>maakt Opera Rebels Collective samen met Opera2Day en Studio Youkali een muzikale familieopera voor iedereen vanaf 8 jaar. In deze nieuwe versie van het bekende sprookje staat de wereld van Hans en Grietje ineens op z’n kop. Geen sprookjesbos, maar een onzekere wereld waarin zij op de vlucht zijn. Ze zoeken veiligheid, eten en houvast. Als ze terechtkomen in een verleidelijke snoepjeswereld vol zoete beloftes, lijkt alles even goed te komen. Maar achter die glans schuilt gevaar.</strong></p>
<p>De opera is gebaseerd op de muziek van Engelbert Humperdinck. Het nieuwe Nederlandse libretto is van Krekelprijswinnaar Jibbe Willems. Het verhaal wordt verteld met humor, spanning en veel verbeeldingskracht.</p>
<p>Op het podium staat het Supernatural Orchestra of the Kosmos onder leiding van Loes Visser. Samen met dertien musici, verteller Nils Verkooijen en vier zangers, onder wie Ana-Carmen Balestra en Roza Herwig, ontstaat een spannende en meeslepende voorstelling voor jong en oud.</p>
<p>Hans &amp; Grietje op de vlucht! is een eigentijdse opera-ervaring met een tijdloos verhaal over moed en de kracht van samen zijn. Maar lukt het Hans en Grietje om de heks te verslaan?</p>
<p>De voorstelling duurt 70 minuten en heeft geen pauze. Er wordt gezongen en gesproken in het Nederlands.</p>
<p>Muziek: Engelbert Humperdinck</p>
<p>Libretto: Jibbe Willems</p>
<p>Tijdsduur:&nbsp;70 minuten zonder pauze</p>
<p>Taal:&nbsp;Gezongen en gesproken in het Nederlands</p>
<p>Productie:&nbsp;Opera Rebels Collective i.s.m. Opera2Day en Studio Youkali</p>
<p>Ensemble:&nbsp;Supernatural Orchestra of the Kosmos o.l.v. Loes Visser</p>
LAST-MODIFIED:20260420T080409Z
LOCATION: Stadsschouwburg De Harmonie | Ruiterskwartier 4 Leeuwarden
SEQUENCE:0
STATUS:CONFIRMED
SUMMARY:Hans & Grietje op de vlucht!
TRANSP:OPAQUE
END:VEVENT
END:VCALENDAR
