BEGIN:VCALENDAR
PRODID:-//PUBBLE//agenda//NL
VERSION:2.0
METHOD:PUBLISH
BEGIN:VEVENT
DTSTART:20261211T191500Z
DTEND:20261211T201500Z
DTSTAMP:20260420T080333Z
UID:0c9dfe41-51b0-47d7-8ff9-f148d559db18
CREATED:20260420T080333Z
NAME:Holland Baroque & Les Itinérantes oudega-swf.nl
X-WR-CALNAME:Holland Baroque & Les Itinérantes
X-ALT-DESC;FMTTYPE=text/html:<a href='/agenda/2026/12/11/holland-baroque-les-itinerantes-130256'>/agenda/2026/12/11/holland-baroque-les-itinerantes-130256</a> || <p><strong>Holland Baroque en het Franse vocale trio Les Itinérantes (de reizigers) presenteren Noël Nomade. In dit bijzondere kerstconcert komen barokke grandeur en volksmuziek samen. Licht en hoop staan centraal. Je hoort een echo van oude midwinterrituelen, waarin mensen samenkwamen rond muziek en verhalen.</strong><br />
<br />
Les Itinérantes, bestaande uit Manon Cousin, Pauline Langlois de Swarte en Élodie Pont, behoort tot een nieuwe generatie Franse ensembles. Zij blazen folklore en oude muziek uit verschillende culturen nieuw leven in. In hun programma’s versmelten ze barok met folk. De stemmen kleuren en vloeien in elkaar over. Zo ontstaat een warme en directe klank.</p>
<p><br />
Op het programma staan traditionals en Airs de Cours, naast werken van Etienne Moulinié, Charles Tessier en Antoinne Boesset. Deze muziek krijgt een frisse benadering. Oude melodieën klinken helder en dichtbij.<br />
<br />
De musici van Holland Baroque brengen waarvoor zij op handen worden gedragen: energie, durf en verfijnde arrangementen. Samen met Les Itinérantes laten zij zien dat barok niet oud is, het is van nu.<br />
<br />
Holland Baroque verrijkt al jaren de muzikale canon. Van Bach tot gospel, van jazz tot gregoriaans: het ensemble zoekt steeds nieuwe verbindingen. Het orkest is een graag geziene gast op nationale en internationale podia en won onder meer twee Edisons en twee REMA Awards. Ook educatie speelt een belangrijke rol, met schoolconcerten, de Samama Fellowship en workshops voor mbo- en hbo-studenten.<br />
<br />
In Noël Nomade laten Holland Baroque en Les Itinérantes horen dat barok niet oud is, maar van nu. Je beleeft een kerstconcert waarin traditie en vernieuwing elkaar ontmoeten.</p>
DESCRIPTION:<a href='/agenda/2026/12/11/holland-baroque-les-itinerantes-130256'>/agenda/2026/12/11/holland-baroque-les-itinerantes-130256</a> || <p><strong>Holland Baroque en het Franse vocale trio Les Itinérantes (de reizigers) presenteren Noël Nomade. In dit bijzondere kerstconcert komen barokke grandeur en volksmuziek samen. Licht en hoop staan centraal. Je hoort een echo van oude midwinterrituelen, waarin mensen samenkwamen rond muziek en verhalen.</strong><br />
<br />
Les Itinérantes, bestaande uit Manon Cousin, Pauline Langlois de Swarte en Élodie Pont, behoort tot een nieuwe generatie Franse ensembles. Zij blazen folklore en oude muziek uit verschillende culturen nieuw leven in. In hun programma’s versmelten ze barok met folk. De stemmen kleuren en vloeien in elkaar over. Zo ontstaat een warme en directe klank.</p>
<p><br />
Op het programma staan traditionals en Airs de Cours, naast werken van Etienne Moulinié, Charles Tessier en Antoinne Boesset. Deze muziek krijgt een frisse benadering. Oude melodieën klinken helder en dichtbij.<br />
<br />
De musici van Holland Baroque brengen waarvoor zij op handen worden gedragen: energie, durf en verfijnde arrangementen. Samen met Les Itinérantes laten zij zien dat barok niet oud is, het is van nu.<br />
<br />
Holland Baroque verrijkt al jaren de muzikale canon. Van Bach tot gospel, van jazz tot gregoriaans: het ensemble zoekt steeds nieuwe verbindingen. Het orkest is een graag geziene gast op nationale en internationale podia en won onder meer twee Edisons en twee REMA Awards. Ook educatie speelt een belangrijke rol, met schoolconcerten, de Samama Fellowship en workshops voor mbo- en hbo-studenten.<br />
<br />
In Noël Nomade laten Holland Baroque en Les Itinérantes horen dat barok niet oud is, maar van nu. Je beleeft een kerstconcert waarin traditie en vernieuwing elkaar ontmoeten.</p>
LAST-MODIFIED:20260420T080333Z
LOCATION: Onbekend | Wirdumerdijk 18 Leeuwarden
SEQUENCE:0
STATUS:CONFIRMED
SUMMARY:Holland Baroque & Les Itinérantes
TRANSP:OPAQUE
END:VEVENT
END:VCALENDAR
