BEGIN:VCALENDAR
PRODID:-//PUBBLE//agenda//NL
VERSION:2.0
METHOD:PUBLISH
BEGIN:VEVENT
DTSTART:20270205T191500Z
DTEND:20270205T201500Z
DTSTAMP:20260420T080254Z
UID:75b597cc-9276-439c-ac93-6038b5882f43
CREATED:20260420T080254Z
NAME:Holland Baroque en Wu Wei (sheng) oudega-swf.nl
X-WR-CALNAME:Holland Baroque en Wu Wei (sheng)
X-ALT-DESC;FMTTYPE=text/html:<a href='/agenda/2027/2/5/holland-baroque-en-wu-wei-sheng--130257'>/agenda/2027/2/5/holland-baroque-en-wu-wei-sheng--130257</a> || <p><strong>Met <em>Dragon Dances &amp; Jasmin Songs</em> vier je Chinees Nieuwjaar 2027, het jaar van het schaap, in een bijzonder muzikaal programma. In deze voorstelling ontmoeten barokmuziek en eeuwenoude Chinese muziektradities elkaar. Zo ontstaat een open en levendige dialoog tussen Oost en West. Holland Baroque speelt met twaalf musici en werkt samen met de internationaal gevierde sheng-virtuoos Wu Wei. Zij bouwden eerder samen aan het project <em>Silk Baroque</em>, dat internationaal lof kreeg en ook in China te horen was. Met dit nieuwe programma gaan zij verder op die weg.</strong><br />
<br />
<strong>De sheng</strong><br />
Wu Wei bespeelt de sheng, een traditioneel Chinees mondorgel met een geschiedenis van meer dan 3000 jaar. Het instrument heeft een eigen, gelaagde klank en kan tegelijk melodie en begeleiding laten horen. De sheng roept direct de rijkdom van de Chinese muziekcultuur op.<br />
De inspiratie voor dit programma komt uit historische Europese verzamelingen van traditionele Chinese muziek uit de 18e en 19e eeuw, zoals de Jones Dalberg Collection (1802), de Grandville Bantock Collection (1911) en de Willeke Collection (1909). Deze bronnen laten zien hoe Chinese muziek al eeuwen geleden zijn weg vond naar Europa. Holland Baroque en Wu Wei blazen deze muziek nieuw leven in en geven er een eigen, eigentijdse vorm aan.<br />
<br />
<strong>Holland Baroque</strong><br />
Holland Baroque verrijkt al jaren de muzikale canon met een open blik en nieuwsgierige houding. Het orkest ziet een partituur als een onvoltooid kunstwerk. Met kennis, vakmanschap, fantasie en speelsheid maken de musici van barokmuziek telkens een nieuwe belevenis. Van Bach tot gospel, van jazz tot gregoriaans; Holland Baroque is met haar bijzondere programma’s een graag geziene gast op de (inter)nationale podia en is winnaar van onder andere winnaar van twee Edisons en twee REMA awards. Sinds haar oprichting zet Holland Baroque zich in voor educatie met schoolconcerten, haar Samama Fellowship en workshops aan mbo- en hbo-opleidingen.</p>
DESCRIPTION:<a href='/agenda/2027/2/5/holland-baroque-en-wu-wei-sheng--130257'>/agenda/2027/2/5/holland-baroque-en-wu-wei-sheng--130257</a> || <p><strong>Met <em>Dragon Dances &amp; Jasmin Songs</em> vier je Chinees Nieuwjaar 2027, het jaar van het schaap, in een bijzonder muzikaal programma. In deze voorstelling ontmoeten barokmuziek en eeuwenoude Chinese muziektradities elkaar. Zo ontstaat een open en levendige dialoog tussen Oost en West. Holland Baroque speelt met twaalf musici en werkt samen met de internationaal gevierde sheng-virtuoos Wu Wei. Zij bouwden eerder samen aan het project <em>Silk Baroque</em>, dat internationaal lof kreeg en ook in China te horen was. Met dit nieuwe programma gaan zij verder op die weg.</strong><br />
<br />
<strong>De sheng</strong><br />
Wu Wei bespeelt de sheng, een traditioneel Chinees mondorgel met een geschiedenis van meer dan 3000 jaar. Het instrument heeft een eigen, gelaagde klank en kan tegelijk melodie en begeleiding laten horen. De sheng roept direct de rijkdom van de Chinese muziekcultuur op.<br />
De inspiratie voor dit programma komt uit historische Europese verzamelingen van traditionele Chinese muziek uit de 18e en 19e eeuw, zoals de Jones Dalberg Collection (1802), de Grandville Bantock Collection (1911) en de Willeke Collection (1909). Deze bronnen laten zien hoe Chinese muziek al eeuwen geleden zijn weg vond naar Europa. Holland Baroque en Wu Wei blazen deze muziek nieuw leven in en geven er een eigen, eigentijdse vorm aan.<br />
<br />
<strong>Holland Baroque</strong><br />
Holland Baroque verrijkt al jaren de muzikale canon met een open blik en nieuwsgierige houding. Het orkest ziet een partituur als een onvoltooid kunstwerk. Met kennis, vakmanschap, fantasie en speelsheid maken de musici van barokmuziek telkens een nieuwe belevenis. Van Bach tot gospel, van jazz tot gregoriaans; Holland Baroque is met haar bijzondere programma’s een graag geziene gast op de (inter)nationale podia en is winnaar van onder andere winnaar van twee Edisons en twee REMA awards. Sinds haar oprichting zet Holland Baroque zich in voor educatie met schoolconcerten, haar Samama Fellowship en workshops aan mbo- en hbo-opleidingen.</p>
LAST-MODIFIED:20260420T080254Z
LOCATION: Onbekend | Wirdumerdijk 18 Leeuwarden
SEQUENCE:0
STATUS:CONFIRMED
SUMMARY:Holland Baroque en Wu Wei (sheng)
TRANSP:OPAQUE
END:VEVENT
END:VCALENDAR
