BEGIN:VCALENDAR
PRODID:-//PUBBLE//agenda//NL
VERSION:2.0
METHOD:PUBLISH
BEGIN:VEVENT
DTSTART:20260421T200000Z
DTEND:20260421T210000Z
DTSTAMP:20260421T225350Z
UID:5cd59e3c-2c83-42f6-9a04-dab7aa77c118
CREATED:20260421T225350Z
NAME:Ivgi&Greben and Friends - Benefietgala oudega-swf.nl
X-WR-CALNAME:Ivgi&Greben and Friends - Benefietgala
X-ALT-DESC;FMTTYPE=text/html:<a href='/agenda/2026/4/21/ivgi-greben-and-friends-benefietgala-130261'>/agenda/2026/4/21/ivgi-greben-and-friends-benefietgala-130261</a> || <p><strong>Op dinsdag 21 april beleef je in Stadsschouwburg De Harmonie een bijzondere avond: Ivgi&amp;Greben and Friends. Het Friese dansgezelschap Ivgi&amp;Greben organiseert een groots benefietgala waarin toonaangevende podiumkunstorganisaties uit Fryslân en Groningen samen het podium delen.</strong></p>
<p>De opbrengst van dit gala helpt Ivgi&amp;Greben om de nieuwe locatievoorstelling <em>Not Yet</em> op Oerol in 2026 te realiseren en de artistieke en educatieve activiteiten in Fryslân voort te zetten. Met je ticket draag je direct bij aan het behoud van professionele dans in de regio én aan een nieuwe voorstelling die komende zomer het Terschellinger landschap als decor gebruikt.</p>
<p>Je kunt rekenen op een avondvullend programma met dans, theater en opera – van jong talent tot gevestigde namen. Met bijdragen van onder anderen Tryater, Opera Spanga, Jeugd Dansopleiding Fryslân, Meeuw Jonge Theatermakers, Leefmeesters en Poetic Disasters Club, de junior company van Club Guy and Roni. De presentatie wordt gepresenteerd door Foppe van der Veen.</p>
<p>Ivgi&amp;Greben and Friends is meer dan een voorstelling: het is een avond waarmee we de solidariteit en verbondenheid van de noordelijke podiumkunsten willen vieren. Een unieke kans om de rijkdom van het Friese culturele veld te ervaren én actief bij te dragen aan de toekomst ervan.</p>
<p>Vier mee. Beleef mee. Beweeg mee.&nbsp;Koop nu je ticket en beleef deze unieke avond vol kunst, verbinding en beweging.</p>
DESCRIPTION:<a href='/agenda/2026/4/21/ivgi-greben-and-friends-benefietgala-130261'>/agenda/2026/4/21/ivgi-greben-and-friends-benefietgala-130261</a> || <p><strong>Op dinsdag 21 april beleef je in Stadsschouwburg De Harmonie een bijzondere avond: Ivgi&amp;Greben and Friends. Het Friese dansgezelschap Ivgi&amp;Greben organiseert een groots benefietgala waarin toonaangevende podiumkunstorganisaties uit Fryslân en Groningen samen het podium delen.</strong></p>
<p>De opbrengst van dit gala helpt Ivgi&amp;Greben om de nieuwe locatievoorstelling <em>Not Yet</em> op Oerol in 2026 te realiseren en de artistieke en educatieve activiteiten in Fryslân voort te zetten. Met je ticket draag je direct bij aan het behoud van professionele dans in de regio én aan een nieuwe voorstelling die komende zomer het Terschellinger landschap als decor gebruikt.</p>
<p>Je kunt rekenen op een avondvullend programma met dans, theater en opera – van jong talent tot gevestigde namen. Met bijdragen van onder anderen Tryater, Opera Spanga, Jeugd Dansopleiding Fryslân, Meeuw Jonge Theatermakers, Leefmeesters en Poetic Disasters Club, de junior company van Club Guy and Roni. De presentatie wordt gepresenteerd door Foppe van der Veen.</p>
<p>Ivgi&amp;Greben and Friends is meer dan een voorstelling: het is een avond waarmee we de solidariteit en verbondenheid van de noordelijke podiumkunsten willen vieren. Een unieke kans om de rijkdom van het Friese culturele veld te ervaren én actief bij te dragen aan de toekomst ervan.</p>
<p>Vier mee. Beleef mee. Beweeg mee.&nbsp;Koop nu je ticket en beleef deze unieke avond vol kunst, verbinding en beweging.</p>
LAST-MODIFIED:20260421T225350Z
LOCATION: Stadsschouwburg De Harmonie | Ruiterskwartier 4 Leeuwarden
SEQUENCE:0
STATUS:CONFIRMED
SUMMARY:Ivgi&Greben and Friends - Benefietgala
TRANSP:OPAQUE
END:VEVENT
END:VCALENDAR
