BEGIN:VCALENDAR
PRODID:-//PUBBLE//agenda//NL
VERSION:2.0
METHOD:PUBLISH
BEGIN:VEVENT
DTSTART:20260604T193000Z
DTEND:20260604T214400Z
DTSTAMP:20260420T164151Z
UID:9c57207b-f0f0-4c80-9745-464f798da8d8
CREATED:20260420T164151Z
NAME:Jimpa oudega-swf.nl
X-WR-CALNAME:Jimpa
X-ALT-DESC;FMTTYPE=text/html:<a href='/agenda/2026/6/4/jimpa-130263'>/agenda/2026/6/4/jimpa-130263</a> || <p>Regisseur Hannah (Colman) en haar non-binaire tiener Frances (Mason-Hyde) reizen samen naar Amsterdam voor een bezoek aan grootvader “Jimpa” (Lithgow). Wanneer Frances het liefst een jaar bij Jim in Amsterdam wil blijven om er diens laatste schooljaar af te maken, wordt Hannah gedwongen haar blik op ouderschap te herzien. Ook de relatie met haar vader komt in een nieuw daglicht te staan.</p>
<p>Regisseur</p>
<ul><li>Sophie Hyde</li></ul>
<p>Acteurs</p>
<ul><li>Olivia Colman</li><li>John Lithgow</li><li>Aud Mason-Hyde</li><li>Daniel Henshall</li><li>Kate Box</li></ul>
<p>Duur: 114 minuten</p>
<p>Genres</p>
<ul><li>Drama</li></ul>
DESCRIPTION:<a href='/agenda/2026/6/4/jimpa-130263'>/agenda/2026/6/4/jimpa-130263</a> || <p>Regisseur Hannah (Colman) en haar non-binaire tiener Frances (Mason-Hyde) reizen samen naar Amsterdam voor een bezoek aan grootvader “Jimpa” (Lithgow). Wanneer Frances het liefst een jaar bij Jim in Amsterdam wil blijven om er diens laatste schooljaar af te maken, wordt Hannah gedwongen haar blik op ouderschap te herzien. Ook de relatie met haar vader komt in een nieuw daglicht te staan.</p>
<p>Regisseur</p>
<ul><li>Sophie Hyde</li></ul>
<p>Acteurs</p>
<ul><li>Olivia Colman</li><li>John Lithgow</li><li>Aud Mason-Hyde</li><li>Daniel Henshall</li><li>Kate Box</li></ul>
<p>Duur: 114 minuten</p>
<p>Genres</p>
<ul><li>Drama</li></ul>
LAST-MODIFIED:20260420T164151Z
LOCATION: Onbekend | Ruiterskwartier 6a Leeuwarden
SEQUENCE:0
STATUS:CONFIRMED
SUMMARY:Jimpa
TRANSP:OPAQUE
END:VEVENT
END:VCALENDAR
