BEGIN:VCALENDAR
PRODID:-//PUBBLE//agenda//NL
VERSION:2.0
METHOD:PUBLISH
BEGIN:VEVENT
DTSTART:20260503T193000Z
DTEND:20260503T211800Z
DTSTAMP:20260420T082245Z
UID:06697fb7-f2ef-46cf-bae0-b11623bb4d7e
CREATED:20260420T082245Z
NAME:Kain oudega-swf.nl
X-WR-CALNAME:Kain
X-ALT-DESC;FMTTYPE=text/html:<a href='/agenda/2026/5/3/kain-130278'>/agenda/2026/5/3/kain-130278</a> || <p>Kain is een tragikomedie van regisseur Gabriel Bauer, waarin de grenzeloze, onbevreesde autist Kain (gespeeld door Daniël Gellvoet) probeert zijn weg te vinden in een wereld die vaak niet begrijpt wie hij is. Hij is vastbesloten om te bewijzen dat hij in staat is hetzelfde te doen als anderen – zelfstandig wonen, werken én zijn rijbewijs halen. Wanneer hij de liefde van zijn leven ontmoet, komt zijn wens om aansluiting te vinden bij de normale wereld om hem heen op scherp te staan en de vraag rijst: Wat is eigenlijk normaal?<br /><br />Kain is een film voor iedereen die zich weleens een buitenbeentje heeft gevoeld. Het verhaal daagt uit om de belevingswereld van een ander te begrijpen en vraagt de kijker, net zoals Kain, zichzelf te accepteren. Kain met Daniël Gellvoet, Barbara Sloesen, André Dongelmans, Malou Gorter en Peter Blok is vanaf 2 april in de bioscoop te zien.</p>
<p>Regisseur</p>
<ul><li>Gabriel M. Bauer</li></ul>
<p>Acteurs</p>
<ul><li>Barbara Sloesen</li><li>André Dongelmans</li><li>Daniël Gellvoet</li></ul>
<p>Duur: 88 minuten</p>
<p>Genres</p>
<ul><li>Komedie</li><li>Drama</li></ul>
DESCRIPTION:<a href='/agenda/2026/5/3/kain-130278'>/agenda/2026/5/3/kain-130278</a> || <p>Kain is een tragikomedie van regisseur Gabriel Bauer, waarin de grenzeloze, onbevreesde autist Kain (gespeeld door Daniël Gellvoet) probeert zijn weg te vinden in een wereld die vaak niet begrijpt wie hij is. Hij is vastbesloten om te bewijzen dat hij in staat is hetzelfde te doen als anderen – zelfstandig wonen, werken én zijn rijbewijs halen. Wanneer hij de liefde van zijn leven ontmoet, komt zijn wens om aansluiting te vinden bij de normale wereld om hem heen op scherp te staan en de vraag rijst: Wat is eigenlijk normaal?<br /><br />Kain is een film voor iedereen die zich weleens een buitenbeentje heeft gevoeld. Het verhaal daagt uit om de belevingswereld van een ander te begrijpen en vraagt de kijker, net zoals Kain, zichzelf te accepteren. Kain met Daniël Gellvoet, Barbara Sloesen, André Dongelmans, Malou Gorter en Peter Blok is vanaf 2 april in de bioscoop te zien.</p>
<p>Regisseur</p>
<ul><li>Gabriel M. Bauer</li></ul>
<p>Acteurs</p>
<ul><li>Barbara Sloesen</li><li>André Dongelmans</li><li>Daniël Gellvoet</li></ul>
<p>Duur: 88 minuten</p>
<p>Genres</p>
<ul><li>Komedie</li><li>Drama</li></ul>
LAST-MODIFIED:20260420T082245Z
LOCATION: Onbekend | Ruiterskwartier 6a Leeuwarden
SEQUENCE:0
STATUS:CONFIRMED
SUMMARY:Kain
TRANSP:OPAQUE
END:VEVENT
END:VCALENDAR
