BEGIN:VCALENDAR
PRODID:-//PUBBLE//agenda//NL
VERSION:2.0
METHOD:PUBLISH
BEGIN:VEVENT
DTSTART:20270119T191500Z
DTEND:20270119T201500Z
DTSTAMP:20260420T080717Z
UID:83bf54e6-2383-44a9-97b9-0dce364578d3
CREATED:20260420T080717Z
NAME:Kasper van der Laan oudega-swf.nl
X-WR-CALNAME:Kasper van der Laan
X-ALT-DESC;FMTTYPE=text/html:<a href='/agenda/2027/1/19/kasper-van-der-laan-130279'>/agenda/2027/1/19/kasper-van-der-laan-130279</a> || <p><strong>Als je hem nu ziet, zou je het niet zeggen: Kasper bleef vroeger graag op de achtergrond. Die tijd is voorbij. Hij heeft namelijk een andere Kasper in zichzelf ontdekt. Een Kasper die steeds meer ruimte durft in te nemen. Contact maken met andere mensen gaat ook steeds beter, al blijft het lastige van een gesprek dat je geen invloed hebt op wat de ander terug gaat zeggen. Vanaf nu mag Kasper er zijn. Niet langer gaan mensen over zijn grenzen. Althans, dat is de bedoeling.</strong></p>
<p>In zijn nieuwe voorstelling wil Kasper graag vertellen hoe hij dat doet. Én laten zien. We zijn benieuwd wat we deze keer weer van hem kunnen leren.</p>

<p><strong>Smart Secure Tickets</strong>
Voor deze voorstelling zijn alleen Smart Secure Tickets beschikbaar. Dit zijn&nbsp;extra veilige e-tickets die niet overdraagbaar zijn en dus ongewenste doorverkoop tegengaan. Met Smart Secure Tickets kunnen we voorkomen dat kaarten worden doorverkocht. Deze tickets ontvang je niet per e-mail of per post, maar zijn te vinden in de Ticketmatic App op je smartphone. Wij raden je dan ook aan om de Ticketmatic App te downloaden voor je kaarten gaat aanschaffen.</p>
<ul>
	<li>Jouw Smart Secure Tickets zijn een QR-code in de Ticketmatic App. Deze&nbsp;wijzigt continu, dus&nbsp;een kopie van deze QR-code geeft geen toegang tot de voorstelling.</li>
	<li>De Smart Secure Tickets zijn persoonsgebonden en niet door te geven.</li>
	<li>Je vindt jouw Smart Secure Tickets binnen 24 uur na betaling in de Ticketmatic App.</li>
	<li>Ben je nog niet in het bezit van de Ticketmatic App, download deze dan in de <a href="https://apps.apple.com/us/app/ticketmatic/id1277665479?ls=1" target="_blank">AppStore</a> of de <a href="https://play.google.com/store/apps/details?id=com.ticketmatic&amp;pcampaignid=MKT-Other-global-all-co-prtnr-py-PartBadge-Mar2515-1&amp;pli=1" target="_blank">Playstore</a>.</li>
</ul>
DESCRIPTION:<a href='/agenda/2027/1/19/kasper-van-der-laan-130279'>/agenda/2027/1/19/kasper-van-der-laan-130279</a> || <p><strong>Als je hem nu ziet, zou je het niet zeggen: Kasper bleef vroeger graag op de achtergrond. Die tijd is voorbij. Hij heeft namelijk een andere Kasper in zichzelf ontdekt. Een Kasper die steeds meer ruimte durft in te nemen. Contact maken met andere mensen gaat ook steeds beter, al blijft het lastige van een gesprek dat je geen invloed hebt op wat de ander terug gaat zeggen. Vanaf nu mag Kasper er zijn. Niet langer gaan mensen over zijn grenzen. Althans, dat is de bedoeling.</strong></p>
<p>In zijn nieuwe voorstelling wil Kasper graag vertellen hoe hij dat doet. Én laten zien. We zijn benieuwd wat we deze keer weer van hem kunnen leren.</p>

<p><strong>Smart Secure Tickets</strong>
Voor deze voorstelling zijn alleen Smart Secure Tickets beschikbaar. Dit zijn&nbsp;extra veilige e-tickets die niet overdraagbaar zijn en dus ongewenste doorverkoop tegengaan. Met Smart Secure Tickets kunnen we voorkomen dat kaarten worden doorverkocht. Deze tickets ontvang je niet per e-mail of per post, maar zijn te vinden in de Ticketmatic App op je smartphone. Wij raden je dan ook aan om de Ticketmatic App te downloaden voor je kaarten gaat aanschaffen.</p>
<ul>
	<li>Jouw Smart Secure Tickets zijn een QR-code in de Ticketmatic App. Deze&nbsp;wijzigt continu, dus&nbsp;een kopie van deze QR-code geeft geen toegang tot de voorstelling.</li>
	<li>De Smart Secure Tickets zijn persoonsgebonden en niet door te geven.</li>
	<li>Je vindt jouw Smart Secure Tickets binnen 24 uur na betaling in de Ticketmatic App.</li>
	<li>Ben je nog niet in het bezit van de Ticketmatic App, download deze dan in de <a href="https://apps.apple.com/us/app/ticketmatic/id1277665479?ls=1" target="_blank">AppStore</a> of de <a href="https://play.google.com/store/apps/details?id=com.ticketmatic&amp;pcampaignid=MKT-Other-global-all-co-prtnr-py-PartBadge-Mar2515-1&amp;pli=1" target="_blank">Playstore</a>.</li>
</ul>
LAST-MODIFIED:20260420T080717Z
LOCATION: Stadsschouwburg De Harmonie | Ruiterskwartier 4 Leeuwarden
SEQUENCE:0
STATUS:CONFIRMED
SUMMARY:Kasper van der Laan
TRANSP:OPAQUE
END:VEVENT
END:VCALENDAR
