BEGIN:VCALENDAR
PRODID:-//PUBBLE//agenda//NL
VERSION:2.0
METHOD:PUBLISH
BEGIN:VEVENT
DTSTART:20260501T200000Z
DTEND:20260501T210000Z
DTSTAMP:20260420T082137Z
UID:80c1748c-3bf7-4328-addc-9d339b791a3f
CREATED:20260420T082137Z
NAME:Leeuwarder Cabaret Festival oudega-swf.nl
X-WR-CALNAME:Leeuwarder Cabaret Festival
X-ALT-DESC;FMTTYPE=text/html:<a href='/agenda/2026/5/1/leeuwarder-cabaret-festival-130283'>/agenda/2026/5/1/leeuwarder-cabaret-festival-130283</a> || <p><strong>Het is tijd voor de dertiende finale van het Leeuwarder Cabaret Festival!&nbsp;Het festival is sinds 2012 dé plek waar aanstormend cabarettalent uit Nederland en België zich kan presenteren.</strong></p>
<p>Oud-deelnemers als Fabian Franciscus en Daan van der Hoeven hebben inmiddels hun plek in het theaterlandschap veroverd. Ook Maaike Dirkje Hop, de winnaar van vorig jaar, is na haar overwinning bezig aan een flinke opmars binnen de cabaretwereld.</p>
<p>Ook dit jaar belooft het programma een feest te worden voor cabaretliefhebbers die nieuw talent willen ontdekken. Wie wordt de winnaar van het Leeuwarder Cabaret Festival? Kom langs en stem mee.</p>
DESCRIPTION:<a href='/agenda/2026/5/1/leeuwarder-cabaret-festival-130283'>/agenda/2026/5/1/leeuwarder-cabaret-festival-130283</a> || <p><strong>Het is tijd voor de dertiende finale van het Leeuwarder Cabaret Festival!&nbsp;Het festival is sinds 2012 dé plek waar aanstormend cabarettalent uit Nederland en België zich kan presenteren.</strong></p>
<p>Oud-deelnemers als Fabian Franciscus en Daan van der Hoeven hebben inmiddels hun plek in het theaterlandschap veroverd. Ook Maaike Dirkje Hop, de winnaar van vorig jaar, is na haar overwinning bezig aan een flinke opmars binnen de cabaretwereld.</p>
<p>Ook dit jaar belooft het programma een feest te worden voor cabaretliefhebbers die nieuw talent willen ontdekken. Wie wordt de winnaar van het Leeuwarder Cabaret Festival? Kom langs en stem mee.</p>
LAST-MODIFIED:20260420T082137Z
LOCATION: Stadsschouwburg De Harmonie | Ruiterskwartier 4 Leeuwarden
SEQUENCE:0
STATUS:CONFIRMED
SUMMARY:Leeuwarder Cabaret Festival
TRANSP:OPAQUE
END:VEVENT
END:VCALENDAR
