BEGIN:VCALENDAR
PRODID:-//PUBBLE//agenda//NL
VERSION:2.0
METHOD:PUBLISH
BEGIN:VEVENT
DTSTART:20270319T183000Z
DTEND:20270319T193000Z
DTSTAMP:20260420T063437Z
UID:494a54ef-d7e0-44a6-902a-48c100c7333b
CREATED:20260420T063437Z
NAME:Matthäus Passion oudega-swf.nl
X-WR-CALNAME:Matthäus Passion
X-ALT-DESC;FMTTYPE=text/html:<a href='/agenda/2027/3/19/matthaus-passion-130301'>/agenda/2027/3/19/matthaus-passion-130301</a> || <p><strong>Veel mensen denken bij hemelse muziek meteen aan Bachs Matthäus Passion. In dit grote werk komen koor, orkest en solisten samen in een rijk muzikaal verhaal. De muziek volgt het aangrijpende verhaal van de veroordeling en kruisiging van Jezus. Thema’s als verraad, schuld en troost lopen als een rode draad door het stuk.</strong></p>
<p><br />
De Matthäus Passion is voor veel mensen een vaste traditie in de aanloop naar Pasen. Ook in De Harmonie klinkt dit monumentale werk van Johann Sebastian Bach. Dirigent Masato Suzuki leidt de uitvoering. Hij geldt als een van de belangrijkste Bach-kenners van dit moment.</p>
<p><br />
Suzuki studeerde lange tijd in Nederland en is een veelzijdig musicus. Naast dirigent is hij ook organist en clavecinist. Zijn werk draait vaak om de muziek van Bach. Hij staat bekend om zijn heldere en energieke uitvoeringen, met veel aandacht voor wat er precies in de partituur staat. Tegelijk zoekt hij naar nieuwe inzichten in de muziek.</p>
<p><br />
Ook over de Matthäus Passion heeft Suzuki duidelijke ideeën. Zijn interpretaties laten vaak nieuwe details horen en geven het werk een frisse blik. Daardoor klinkt deze bekende muziek telkens weer anders.</p>
<p><br />
De solisten zijn Jochen Kupfer als Jezus, Jone Martinez (sopraan), Clint van der Linde (alt) en Dominik Wörner (bas). De tenor wordt later bekendgemaakt. De koorpartijen worden gezongen door het Nederlands Kamerkoor (NNCK) en het Roder Jongenskoor.</p>
<p><br />
Samen brengen zij Bachs indrukwekkende passie tot leven. Zo kun je dit grote werk opnieuw beleven, of misschien voor het eerst live horen.</p>
DESCRIPTION:<a href='/agenda/2027/3/19/matthaus-passion-130301'>/agenda/2027/3/19/matthaus-passion-130301</a> || <p><strong>Veel mensen denken bij hemelse muziek meteen aan Bachs Matthäus Passion. In dit grote werk komen koor, orkest en solisten samen in een rijk muzikaal verhaal. De muziek volgt het aangrijpende verhaal van de veroordeling en kruisiging van Jezus. Thema’s als verraad, schuld en troost lopen als een rode draad door het stuk.</strong></p>
<p><br />
De Matthäus Passion is voor veel mensen een vaste traditie in de aanloop naar Pasen. Ook in De Harmonie klinkt dit monumentale werk van Johann Sebastian Bach. Dirigent Masato Suzuki leidt de uitvoering. Hij geldt als een van de belangrijkste Bach-kenners van dit moment.</p>
<p><br />
Suzuki studeerde lange tijd in Nederland en is een veelzijdig musicus. Naast dirigent is hij ook organist en clavecinist. Zijn werk draait vaak om de muziek van Bach. Hij staat bekend om zijn heldere en energieke uitvoeringen, met veel aandacht voor wat er precies in de partituur staat. Tegelijk zoekt hij naar nieuwe inzichten in de muziek.</p>
<p><br />
Ook over de Matthäus Passion heeft Suzuki duidelijke ideeën. Zijn interpretaties laten vaak nieuwe details horen en geven het werk een frisse blik. Daardoor klinkt deze bekende muziek telkens weer anders.</p>
<p><br />
De solisten zijn Jochen Kupfer als Jezus, Jone Martinez (sopraan), Clint van der Linde (alt) en Dominik Wörner (bas). De tenor wordt later bekendgemaakt. De koorpartijen worden gezongen door het Nederlands Kamerkoor (NNCK) en het Roder Jongenskoor.</p>
<p><br />
Samen brengen zij Bachs indrukwekkende passie tot leven. Zo kun je dit grote werk opnieuw beleven, of misschien voor het eerst live horen.</p>
LAST-MODIFIED:20260420T063437Z
LOCATION: Stadsschouwburg De Harmonie | Ruiterskwartier 4 Leeuwarden
SEQUENCE:0
STATUS:CONFIRMED
SUMMARY:Matthäus Passion
TRANSP:OPAQUE
END:VEVENT
END:VCALENDAR
