BEGIN:VCALENDAR
PRODID:-//PUBBLE//agenda//NL
VERSION:2.0
METHOD:PUBLISH
BEGIN:VEVENT
DTSTART:20270417T201500Z
DTEND:20270417T211500Z
DTSTAMP:20260420T063253Z
UID:412d6d9d-d0d8-4ce6-a2bf-b25b008ef318
CREATED:20260420T063253Z
NAME:Merijn Scholten oudega-swf.nl
X-WR-CALNAME:Merijn Scholten
X-ALT-DESC;FMTTYPE=text/html:<a href='/agenda/2027/4/17/merijn-scholten-130302'>/agenda/2027/4/17/merijn-scholten-130302</a> || <p><strong>Merijn Scholten heeft inmiddels nauwelijks nog introductie nodig. Hij begon bij De Partizanen, kreeg bekendheid met satirische filmpjes die vaak viral gingen, maar had zijn grote doorbraak in 2022 met zijn debuutprogramma TEAM SOLO, dat overladen werd met lyrische recensies en genomineerd voor De Poelifinario. Begonnen in de kleinste zaaltjes en eindigend in Carré speelde hij TEAM SOLO meer dan tweehonderd keer voor uitverkochte zalen.</strong></p>
<p><br />
In september 2025 debuteerde hij bij de VPRO met het zeer goed ontvangen wekelijkse satirische tv-programma De Week van Merijn. Nu keert hij terug naar de basis: het theater.</p>
DESCRIPTION:<a href='/agenda/2027/4/17/merijn-scholten-130302'>/agenda/2027/4/17/merijn-scholten-130302</a> || <p><strong>Merijn Scholten heeft inmiddels nauwelijks nog introductie nodig. Hij begon bij De Partizanen, kreeg bekendheid met satirische filmpjes die vaak viral gingen, maar had zijn grote doorbraak in 2022 met zijn debuutprogramma TEAM SOLO, dat overladen werd met lyrische recensies en genomineerd voor De Poelifinario. Begonnen in de kleinste zaaltjes en eindigend in Carré speelde hij TEAM SOLO meer dan tweehonderd keer voor uitverkochte zalen.</strong></p>
<p><br />
In september 2025 debuteerde hij bij de VPRO met het zeer goed ontvangen wekelijkse satirische tv-programma De Week van Merijn. Nu keert hij terug naar de basis: het theater.</p>
LAST-MODIFIED:20260420T063253Z
LOCATION: Stadsschouwburg De Harmonie | Ruiterskwartier 4 Leeuwarden
SEQUENCE:0
STATUS:CONFIRMED
SUMMARY:Merijn Scholten
TRANSP:OPAQUE
END:VEVENT
END:VCALENDAR
