BEGIN:VCALENDAR
PRODID:-//PUBBLE//agenda//NL
VERSION:2.0
METHOD:PUBLISH
BEGIN:VEVENT
DTSTART:20260421T200000Z
DTEND:20260421T210000Z
DTSTAMP:20260421T225241Z
UID:d17e911d-c2bd-4732-b495-c4da478db7e4
CREATED:20260421T225241Z
NAME:Milo Berlijn presenteert:PIMP Theatershow – Hospitality Editie oudega-swf.nl
X-WR-CALNAME:Milo Berlijn presenteert:PIMP Theatershow – Hospitality Editie
X-ALT-DESC;FMTTYPE=text/html:<a href='/agenda/2026/4/21/milo-berlijn-presenteert-pimp-theatershow-hospitality-editie-130333'>/agenda/2026/4/21/milo-berlijn-presenteert-pimp-theatershow-hospitality-editie-130333</a> || <p>De PIMP Theatershow bezorgt jou en je team een hilarische en inspirerende avond over gastvrijheid, service en het gedrag van gasten. Een echte one man cabaretshow waarin hard lachen en herkenning centraal staan. Milo Berlijn brengt op beeldende en scherpe wijze de do’s en don’ts van de hospitalitywereld tot leven. Met pakkende voorbeelden, tips en tricks en verhalen uit zijn jarenlange ervaring laat hij zien wat echt gastvrij zijn betekent in de omgang met gasten.&nbsp;</p>
<p>In negentig minuten houdt Milo zijn publiek een duidelijke spiegel voor. Hij laat zien hoe je soms ongemerkt vastgroeit in bepaald gedrag en hoe je daar weer uitkomt, waardoor het leven voor een ander én voor jezelf een stuk leuker en makkelijker wordt. Je leert het meest wanneer je wordt geconfronteerd met je eigen handelen op een manier die tegelijk confronterend, herkenbaar en grappig is!</p>
<p>Een avond waarin je net zo hard wordt aan het lachen gemaakt als aan het denken wordt gezet! Haal snel je kaarten en kom met je team genieten van een avond vol humor, herkenning en waardevolle inzichten.</p>
DESCRIPTION:<a href='/agenda/2026/4/21/milo-berlijn-presenteert-pimp-theatershow-hospitality-editie-130333'>/agenda/2026/4/21/milo-berlijn-presenteert-pimp-theatershow-hospitality-editie-130333</a> || <p>De PIMP Theatershow bezorgt jou en je team een hilarische en inspirerende avond over gastvrijheid, service en het gedrag van gasten. Een echte one man cabaretshow waarin hard lachen en herkenning centraal staan. Milo Berlijn brengt op beeldende en scherpe wijze de do’s en don’ts van de hospitalitywereld tot leven. Met pakkende voorbeelden, tips en tricks en verhalen uit zijn jarenlange ervaring laat hij zien wat echt gastvrij zijn betekent in de omgang met gasten.&nbsp;</p>
<p>In negentig minuten houdt Milo zijn publiek een duidelijke spiegel voor. Hij laat zien hoe je soms ongemerkt vastgroeit in bepaald gedrag en hoe je daar weer uitkomt, waardoor het leven voor een ander én voor jezelf een stuk leuker en makkelijker wordt. Je leert het meest wanneer je wordt geconfronteerd met je eigen handelen op een manier die tegelijk confronterend, herkenbaar en grappig is!</p>
<p>Een avond waarin je net zo hard wordt aan het lachen gemaakt als aan het denken wordt gezet! Haal snel je kaarten en kom met je team genieten van een avond vol humor, herkenning en waardevolle inzichten.</p>
LAST-MODIFIED:20260421T225241Z
LOCATION: Stadsschouwburg De Harmonie | Ruiterskwartier 4 Leeuwarden
SEQUENCE:0
STATUS:CONFIRMED
SUMMARY:Milo Berlijn presenteert:PIMP Theatershow – Hospitality Editie
TRANSP:OPAQUE
END:VEVENT
END:VCALENDAR
