BEGIN:VCALENDAR
PRODID:-//PUBBLE//agenda//NL
VERSION:2.0
METHOD:PUBLISH
BEGIN:VEVENT
DTSTART:20270331T190000Z
DTEND:20270331T200000Z
DTSTAMP:20260420T063421Z
UID:d7792572-acc6-41ec-86ed-5d8c6383f32a
CREATED:20260420T063421Z
NAME:Nachtwacht oudega-swf.nl
X-WR-CALNAME:Nachtwacht
X-ALT-DESC;FMTTYPE=text/html:<a href='/agenda/2027/3/31/nachtwacht-130336'>/agenda/2027/3/31/nachtwacht-130336</a> || <p><strong>Wat als je laatste nacht aanvoelde als een koortsdroom - een laatste, chaotische, prachtige en hartverscheurende viering voordat alles vervaagt tot zwart?&nbsp;Na overweldigende reacties, nominaties en uitverkochte zalen keert <em>Nachtwacht</em> terug. Wat begon als een radicale theaterervaring groeide uit tot een voorstelling die publiek en makers niet losliet. In 2027 trekt <em>Nachtwacht </em>opnieuw de nacht in.&nbsp;</strong></p>
<p>Na overweldigende reacties, nominaties en uitverkochte zalen keert<em> <strong>Nachtwacht</strong> </em>terug. Wat begon als een radicale theaterervaring groeide uit tot een voorstelling die publiek en makers niet losliet. In 2027 trekt <em>Nachtwacht</em> opnieuw de nacht in.<br />
<br />
<strong>Nachtwacht is geen gewone voorstelling.&nbsp;</strong><br />
Het is een drieënhalf uur durende interdisciplinaire afscheidsrave: spel, dans en livemuziek versmelten tot een rauwe, fysieke ervaring die je meesleurt in een familie op het kantelpunt. Een avond over ouder worden, sterfelijkheid en de wanhopige poging om los te komen van de rollen die ons zijn opgelegd.&nbsp;<br />
&nbsp;<br />
De avond glijdt de nacht in. Een hartslag verzwakt, hapert, en zwelt dan aan tot een onstuitbare beat. Muziek trekt het publiek mee in een rituele beweging richting het onbekende. Wat oud is vervaagt. Wat volgt is een extatische ontlading—een laatste uitbarsting, vlak voor het eerste licht alles blootlegt.<br />
<br />
In het centrum staat ‘Dhr.’, een man in de laatste maanden van zijn leven. Om hem heen: familie, geesten, herinneringen. Terwijl hij zich voorbereidt op het einde, worstelen zijn kinderen met een nieuwe tijd. Ze balanceren tussen loyaliteit, verlangen en de noodzaak om zelf te kiezen wie ze willen zijn. &nbsp;</p>
<p>Met een scherpe maar liefdevolle blik verweeft <em>Nachtwacht</em> humor en melancholie. De voorstelling houdt ons een spiegel voor en kijkt kritisch én empathisch naar het Nederlandse zorgsysteem – en naar wat we van elkaar verwachten, en wat we vaak niet durven geven.&nbsp;</p>
<p>De titel verwijst naar Rembrandts <em>Nachtwacht</em>: poortwachters van een voorbij tijdperk, maar ook het ontstaan van machtspatronen die tot op de dag van vandaag doorwerken. Tegelijk is de nacht hier letterlijk: het waken rond een sterfbed. Een plek waar een familie, ondanks alles, samenkomt voor een laatste ritueel.&nbsp;</p>
<p>En juist daar—aan het einde van de nacht—kan iets openbreken.&nbsp;<br />
Een moment van bevrijding.&nbsp;<br />
Een kans om opnieuw te kiezen wie je bent.&nbsp;</p>
<p>Met een cast van 25 muzikanten, dansers en acteurs is <em>Nachtwacht</em> een grote voorstelling over de kleine, persoonlijke momenten die voor ons allemaal herkenbaar zijn. </p>

<p><strong>Language no&nbsp;problem&nbsp;</strong><br />
<em>Nachtwacht</em> is ook geschikt voor mensen die geen Nederlands spreken maar wel Engels kunnen lezen. NITE tourt met boventiteling.&nbsp;</p>
DESCRIPTION:<a href='/agenda/2027/3/31/nachtwacht-130336'>/agenda/2027/3/31/nachtwacht-130336</a> || <p><strong>Wat als je laatste nacht aanvoelde als een koortsdroom - een laatste, chaotische, prachtige en hartverscheurende viering voordat alles vervaagt tot zwart?&nbsp;Na overweldigende reacties, nominaties en uitverkochte zalen keert <em>Nachtwacht</em> terug. Wat begon als een radicale theaterervaring groeide uit tot een voorstelling die publiek en makers niet losliet. In 2027 trekt <em>Nachtwacht </em>opnieuw de nacht in.&nbsp;</strong></p>
<p>Na overweldigende reacties, nominaties en uitverkochte zalen keert<em> <strong>Nachtwacht</strong> </em>terug. Wat begon als een radicale theaterervaring groeide uit tot een voorstelling die publiek en makers niet losliet. In 2027 trekt <em>Nachtwacht</em> opnieuw de nacht in.<br />
<br />
<strong>Nachtwacht is geen gewone voorstelling.&nbsp;</strong><br />
Het is een drieënhalf uur durende interdisciplinaire afscheidsrave: spel, dans en livemuziek versmelten tot een rauwe, fysieke ervaring die je meesleurt in een familie op het kantelpunt. Een avond over ouder worden, sterfelijkheid en de wanhopige poging om los te komen van de rollen die ons zijn opgelegd.&nbsp;<br />
&nbsp;<br />
De avond glijdt de nacht in. Een hartslag verzwakt, hapert, en zwelt dan aan tot een onstuitbare beat. Muziek trekt het publiek mee in een rituele beweging richting het onbekende. Wat oud is vervaagt. Wat volgt is een extatische ontlading—een laatste uitbarsting, vlak voor het eerste licht alles blootlegt.<br />
<br />
In het centrum staat ‘Dhr.’, een man in de laatste maanden van zijn leven. Om hem heen: familie, geesten, herinneringen. Terwijl hij zich voorbereidt op het einde, worstelen zijn kinderen met een nieuwe tijd. Ze balanceren tussen loyaliteit, verlangen en de noodzaak om zelf te kiezen wie ze willen zijn. &nbsp;</p>
<p>Met een scherpe maar liefdevolle blik verweeft <em>Nachtwacht</em> humor en melancholie. De voorstelling houdt ons een spiegel voor en kijkt kritisch én empathisch naar het Nederlandse zorgsysteem – en naar wat we van elkaar verwachten, en wat we vaak niet durven geven.&nbsp;</p>
<p>De titel verwijst naar Rembrandts <em>Nachtwacht</em>: poortwachters van een voorbij tijdperk, maar ook het ontstaan van machtspatronen die tot op de dag van vandaag doorwerken. Tegelijk is de nacht hier letterlijk: het waken rond een sterfbed. Een plek waar een familie, ondanks alles, samenkomt voor een laatste ritueel.&nbsp;</p>
<p>En juist daar—aan het einde van de nacht—kan iets openbreken.&nbsp;<br />
Een moment van bevrijding.&nbsp;<br />
Een kans om opnieuw te kiezen wie je bent.&nbsp;</p>
<p>Met een cast van 25 muzikanten, dansers en acteurs is <em>Nachtwacht</em> een grote voorstelling over de kleine, persoonlijke momenten die voor ons allemaal herkenbaar zijn. </p>

<p><strong>Language no&nbsp;problem&nbsp;</strong><br />
<em>Nachtwacht</em> is ook geschikt voor mensen die geen Nederlands spreken maar wel Engels kunnen lezen. NITE tourt met boventiteling.&nbsp;</p>
LAST-MODIFIED:20260420T063421Z
LOCATION: Stadsschouwburg De Harmonie | Ruiterskwartier 4 Leeuwarden
SEQUENCE:0
STATUS:CONFIRMED
SUMMARY:Nachtwacht
TRANSP:OPAQUE
END:VEVENT
END:VCALENDAR
