BEGIN:VCALENDAR
PRODID:-//PUBBLE//agenda//NL
VERSION:2.0
METHOD:PUBLISH
BEGIN:VEVENT
DTSTART:20261201T191500Z
DTEND:20261201T201500Z
DTSTAMP:20260420T080409Z
UID:1000c670-db75-4a59-805e-f53420b457f1
CREATED:20260420T080409Z
NAME:Najib & Roué oudega-swf.nl
X-WR-CALNAME:Najib & Roué
X-ALT-DESC;FMTTYPE=text/html:<a href='/agenda/2026/12/1/najib-roue-130337'>/agenda/2026/12/1/najib-roue-130337</a> || <p><strong>Najib &amp; Roué</strong>&nbsp;<strong>staan samen op het podium en nemen je mee in een voorstelling over 25 jaar vriendschap. In het najaar van 2026 trekken ze langs een klein aantal theaters met een show vol stand-up, humor en persoonlijke verhalen.</strong></p>
<p>Ze voeren gesprekken zoals ze die ook zonder publiek met elkaar zouden hebben. Open, direct en met ruimte voor humor. Ze praten over angsten, ouder worden en de vraag wie ze vroeger dachten te worden. Maar ook over wie ze nu echt zijn. Over vaderschap, succes en twijfel. Over het leven zoals het loopt, met alles wat daarbij hoort.</p>
<p>De voorstelling brengt verschillende werelden en achtergronden samen. Marokkaanse gastvrijheid, Surinaamse gezelligheid en Hollandse nuchterheid komen op een natuurlijke manier bij elkaar. Dat zorgt voor scherpe grappen, herkenbare situaties en gesprekken die ook kunnen raken.</p>
<p>Deze avond is meer dan alleen comedy. Het is een voorstelling met humor én inhoud, waarin alles naast elkaar mag bestaan. Licht en serieus. Uitbundig en persoonlijk. Met grappen waar je tegen moet kunnen en verhalen die binnenkomen.</p>
<p>Eén ding is zeker: Alles is Comedy.</p>
DESCRIPTION:<a href='/agenda/2026/12/1/najib-roue-130337'>/agenda/2026/12/1/najib-roue-130337</a> || <p><strong>Najib &amp; Roué</strong>&nbsp;<strong>staan samen op het podium en nemen je mee in een voorstelling over 25 jaar vriendschap. In het najaar van 2026 trekken ze langs een klein aantal theaters met een show vol stand-up, humor en persoonlijke verhalen.</strong></p>
<p>Ze voeren gesprekken zoals ze die ook zonder publiek met elkaar zouden hebben. Open, direct en met ruimte voor humor. Ze praten over angsten, ouder worden en de vraag wie ze vroeger dachten te worden. Maar ook over wie ze nu echt zijn. Over vaderschap, succes en twijfel. Over het leven zoals het loopt, met alles wat daarbij hoort.</p>
<p>De voorstelling brengt verschillende werelden en achtergronden samen. Marokkaanse gastvrijheid, Surinaamse gezelligheid en Hollandse nuchterheid komen op een natuurlijke manier bij elkaar. Dat zorgt voor scherpe grappen, herkenbare situaties en gesprekken die ook kunnen raken.</p>
<p>Deze avond is meer dan alleen comedy. Het is een voorstelling met humor én inhoud, waarin alles naast elkaar mag bestaan. Licht en serieus. Uitbundig en persoonlijk. Met grappen waar je tegen moet kunnen en verhalen die binnenkomen.</p>
<p>Eén ding is zeker: Alles is Comedy.</p>
LAST-MODIFIED:20260420T080409Z
LOCATION: Stadsschouwburg De Harmonie | Ruiterskwartier 4 Leeuwarden
SEQUENCE:0
STATUS:CONFIRMED
SUMMARY:Najib & Roué
TRANSP:OPAQUE
END:VEVENT
END:VCALENDAR
