BEGIN:VCALENDAR
PRODID:-//PUBBLE//agenda//NL
VERSION:2.0
METHOD:PUBLISH
BEGIN:VEVENT
DTSTART:20270121T191500Z
DTEND:20270121T201500Z
DTSTAMP:20260420T080630Z
UID:a7522dce-0d76-4f97-9208-5d65dee32e62
CREATED:20260420T080630Z
NAME:Nationaal Jeugdorkest oudega-swf.nl
X-WR-CALNAME:Nationaal Jeugdorkest
X-ALT-DESC;FMTTYPE=text/html:<a href='/agenda/2027/1/21/nationaal-jeugdorkest-130338'>/agenda/2027/1/21/nationaal-jeugdorkest-130338</a> || <p><strong>Hoop en melancholie komen samen in dit winterconcert van het Nationaal Jeugdorkest (NJO) in Stadsschouwburg De Harmonie. Onder leiding van dirigent Christoph Altstaedt hoor je muziek van Britten, Sjostakovitsj en Prokofjev. Het Nationaal Jeugdorkest bestaat uit de beste conservatoriumstudenten van Nederland, tussen de 18 en 26 jaar. Sinds 1957 vormt het orkest een brug tussen studie en de grote concertpodia. Met intensieve projecten en uitdagende programma’s ontwikkelen jonge musici zich op hoog niveau. Soliste is de Nederlandse violiste Liza Ferschtman.</strong><br />
<br />
Het concert opent met Russian Funeral van Benjamin Britten. Hij schreef dit korte werk voor koperblazers in 1936 als reactie op het opkomende fascisme in Europa. In de muziek hoor je invloeden van Sjostakovitsj en Prokofjev. Het hoofdthema gebruikte Sjostakovitsj later opnieuw in zijn Elfde symfonie. Het werk wordt zelden uitgevoerd, maar is nog altijd actueel.<br />
<br />
Daarna speelt Liza Ferschtman het Vioolconcert nr.1 in a klein, opus 77 van Dmitri Sjostakovitsj. Dit concert is expressief en intens. Je hoort lyrische melodieën, scherpe contrasten en virtuoze passages. De lange solocadens maakt diepe indruk. Ferschtman staat bekend om haar gepassioneerde spel en haar sterke aanwezigheid op het podium. Ze groeide op in een muzikaal gezin en bouwde een brede internationale carrière op, van barok tot hedendaagse muziek.<br />
<br />
Het NJO sluit af met de Symfonie nr.5 in Bes groot, opus 100 van Sergej Prokofjev. Deze ‘oorlogssymfonie’ begint klein en hoopvol. In het middendeel klinkt meer duisternis. Aan het einde overheersen energie en opwinding. De volle klank van het symfonieorkest zorgt voor een meeslepende afsluiting.<br />
<br />
<strong>Dirigent Christoph Altstaedt</strong><br />
Als opera- en symfonisch dirigent wil Altstaedt graag zo veel mogelijk mensen enthousiast maken voor opera’s en concerten. De afgelopen jaren deed hij dat onder andere bij de Weense Staatsopera, Wiener Symphoniker, Royal Philharmonic Orchestra en Opera North. “Muziek, kunst en literatuur bieden mensen in elke levensfase troost, kracht, bemoediging en levensvreugde. Ik zou graag zien dat zoveel mogelijk mensen toegang krijgen tot deze rijkdom.”</p>
DESCRIPTION:<a href='/agenda/2027/1/21/nationaal-jeugdorkest-130338'>/agenda/2027/1/21/nationaal-jeugdorkest-130338</a> || <p><strong>Hoop en melancholie komen samen in dit winterconcert van het Nationaal Jeugdorkest (NJO) in Stadsschouwburg De Harmonie. Onder leiding van dirigent Christoph Altstaedt hoor je muziek van Britten, Sjostakovitsj en Prokofjev. Het Nationaal Jeugdorkest bestaat uit de beste conservatoriumstudenten van Nederland, tussen de 18 en 26 jaar. Sinds 1957 vormt het orkest een brug tussen studie en de grote concertpodia. Met intensieve projecten en uitdagende programma’s ontwikkelen jonge musici zich op hoog niveau. Soliste is de Nederlandse violiste Liza Ferschtman.</strong><br />
<br />
Het concert opent met Russian Funeral van Benjamin Britten. Hij schreef dit korte werk voor koperblazers in 1936 als reactie op het opkomende fascisme in Europa. In de muziek hoor je invloeden van Sjostakovitsj en Prokofjev. Het hoofdthema gebruikte Sjostakovitsj later opnieuw in zijn Elfde symfonie. Het werk wordt zelden uitgevoerd, maar is nog altijd actueel.<br />
<br />
Daarna speelt Liza Ferschtman het Vioolconcert nr.1 in a klein, opus 77 van Dmitri Sjostakovitsj. Dit concert is expressief en intens. Je hoort lyrische melodieën, scherpe contrasten en virtuoze passages. De lange solocadens maakt diepe indruk. Ferschtman staat bekend om haar gepassioneerde spel en haar sterke aanwezigheid op het podium. Ze groeide op in een muzikaal gezin en bouwde een brede internationale carrière op, van barok tot hedendaagse muziek.<br />
<br />
Het NJO sluit af met de Symfonie nr.5 in Bes groot, opus 100 van Sergej Prokofjev. Deze ‘oorlogssymfonie’ begint klein en hoopvol. In het middendeel klinkt meer duisternis. Aan het einde overheersen energie en opwinding. De volle klank van het symfonieorkest zorgt voor een meeslepende afsluiting.<br />
<br />
<strong>Dirigent Christoph Altstaedt</strong><br />
Als opera- en symfonisch dirigent wil Altstaedt graag zo veel mogelijk mensen enthousiast maken voor opera’s en concerten. De afgelopen jaren deed hij dat onder andere bij de Weense Staatsopera, Wiener Symphoniker, Royal Philharmonic Orchestra en Opera North. “Muziek, kunst en literatuur bieden mensen in elke levensfase troost, kracht, bemoediging en levensvreugde. Ik zou graag zien dat zoveel mogelijk mensen toegang krijgen tot deze rijkdom.”</p>
LAST-MODIFIED:20260420T080630Z
LOCATION: Stadsschouwburg De Harmonie | Ruiterskwartier 4 Leeuwarden
SEQUENCE:0
STATUS:CONFIRMED
SUMMARY:Nationaal Jeugdorkest
TRANSP:OPAQUE
END:VEVENT
END:VCALENDAR
