BEGIN:VCALENDAR
PRODID:-//PUBBLE//agenda//NL
VERSION:2.0
METHOD:PUBLISH
BEGIN:VEVENT
DTSTART:20261127T191500Z
DTEND:20261127T201500Z
DTSTAMP:20260420T080253Z
UID:94ce01b2-33aa-462e-8f9f-197eb80026de
CREATED:20260420T080253Z
NAME:Noord Nederlands Orkest oudega-swf.nl
X-WR-CALNAME:Noord Nederlands Orkest
X-ALT-DESC;FMTTYPE=text/html:<a href='/agenda/2026/11/27/noord-nederlands-orkest-130342'>/agenda/2026/11/27/noord-nederlands-orkest-130342</a> || <p><strong>In Japanse animaties, ook wel anime genoemd, speelt muziek een grote rol. De muziek draagt het verhaal en laat je meeleven met de personages. Ze versterkt momenten van spanning, ontroering en verwondering. In dit concert hoor je een selectie van bekende songs en verborgen pareltjes uit de wereld van anime.</strong></p>
<p>Het programma gaat van dromerige en warme muziek tot krachtige en dramatische soundtracks. Zo klinken er stukken uit onder andere Spirited Away en My Neighbor Totoro. Deze muziek roept meteen een wereld vol fantasie en avontuur op. Daartegenover staan de energieke en intense klanken uit series als Demon Slayer en Fullmetal Alchemist.</p>
<p>De muziek wordt uitgevoerd door een volledig orkest onder leiding van dirigent Christophe Mangou. Op het podium staan ook het Noord Nederlands Concertkoor (NNCK) en sopraan Bobbie Blommesteijn. Samen zorgen zij voor een rijk en vol geluid.</p>
<p>Dit concert brengt de muziek uit anime tot leven in de concertzaal. Je hoort hoe deze soundtracks ook zonder beeld sterke verhalen vertellen. Zelfs als je de films of series nog nooit hebt gezien, neemt de muziek je mee in de sfeer en emotie van deze bijzondere wereld.</p>
<p>Dirigent&nbsp;&nbsp;&nbsp;&nbsp;&nbsp;&nbsp;&nbsp;&nbsp;&nbsp;&nbsp;&nbsp; Christophe&nbsp;Mangou&nbsp;<br />
Koor&nbsp;&nbsp;&nbsp;&nbsp;&nbsp;&nbsp;&nbsp;&nbsp;&nbsp;&nbsp;&nbsp;&nbsp;&nbsp;&nbsp;&nbsp;&nbsp;&nbsp;&nbsp; NNCK&nbsp;<br />
Sopraan&nbsp;&nbsp;&nbsp;&nbsp;&nbsp;&nbsp;&nbsp;&nbsp;&nbsp;&nbsp; Bobbie Blommesteijn&nbsp;<br />
<br />
&nbsp;</p>
DESCRIPTION:<a href='/agenda/2026/11/27/noord-nederlands-orkest-130342'>/agenda/2026/11/27/noord-nederlands-orkest-130342</a> || <p><strong>In Japanse animaties, ook wel anime genoemd, speelt muziek een grote rol. De muziek draagt het verhaal en laat je meeleven met de personages. Ze versterkt momenten van spanning, ontroering en verwondering. In dit concert hoor je een selectie van bekende songs en verborgen pareltjes uit de wereld van anime.</strong></p>
<p>Het programma gaat van dromerige en warme muziek tot krachtige en dramatische soundtracks. Zo klinken er stukken uit onder andere Spirited Away en My Neighbor Totoro. Deze muziek roept meteen een wereld vol fantasie en avontuur op. Daartegenover staan de energieke en intense klanken uit series als Demon Slayer en Fullmetal Alchemist.</p>
<p>De muziek wordt uitgevoerd door een volledig orkest onder leiding van dirigent Christophe Mangou. Op het podium staan ook het Noord Nederlands Concertkoor (NNCK) en sopraan Bobbie Blommesteijn. Samen zorgen zij voor een rijk en vol geluid.</p>
<p>Dit concert brengt de muziek uit anime tot leven in de concertzaal. Je hoort hoe deze soundtracks ook zonder beeld sterke verhalen vertellen. Zelfs als je de films of series nog nooit hebt gezien, neemt de muziek je mee in de sfeer en emotie van deze bijzondere wereld.</p>
<p>Dirigent&nbsp;&nbsp;&nbsp;&nbsp;&nbsp;&nbsp;&nbsp;&nbsp;&nbsp;&nbsp;&nbsp; Christophe&nbsp;Mangou&nbsp;<br />
Koor&nbsp;&nbsp;&nbsp;&nbsp;&nbsp;&nbsp;&nbsp;&nbsp;&nbsp;&nbsp;&nbsp;&nbsp;&nbsp;&nbsp;&nbsp;&nbsp;&nbsp;&nbsp; NNCK&nbsp;<br />
Sopraan&nbsp;&nbsp;&nbsp;&nbsp;&nbsp;&nbsp;&nbsp;&nbsp;&nbsp;&nbsp; Bobbie Blommesteijn&nbsp;<br />
<br />
&nbsp;</p>
LAST-MODIFIED:20260420T080253Z
LOCATION: Stadsschouwburg De Harmonie | Ruiterskwartier 4 Leeuwarden
SEQUENCE:0
STATUS:CONFIRMED
SUMMARY:Noord Nederlands Orkest
TRANSP:OPAQUE
END:VEVENT
END:VCALENDAR
