BEGIN:VCALENDAR
PRODID:-//PUBBLE//agenda//NL
VERSION:2.0
METHOD:PUBLISH
BEGIN:VEVENT
DTSTART:20261217T183000Z
DTEND:20261217T193000Z
DTSTAMP:20260420T080333Z
UID:77b99000-07f6-4c8a-96d3-1c02c5e980d6
CREATED:20260420T080333Z
NAME:Noord Nederlands Orkest oudega-swf.nl
X-WR-CALNAME:Noord Nederlands Orkest
X-ALT-DESC;FMTTYPE=text/html:<a href='/agenda/2026/12/17/noord-nederlands-orkest-130343'>/agenda/2026/12/17/noord-nederlands-orkest-130343</a> || <p><strong>Met kerst klinkt in Stadsschouwburg De Harmonie muziek uit het Weihnachtsoratorium BWV 248 van Johann Sebastian Bach. In dit concert hoor je delen 1, 4, 5 en 6 van het beroemde werk.</strong></p>
<p><br />
Bachs Weihnachtsoratorium behoort al bijna drie eeuwen tot de bekendste kerstmuziek. De combinatie van koor, solozangers en orkest zorgt voor een rijke en kleurrijke klank. De muziek is feestelijk, maar ook verstild en intiem. Daardoor spreekt het werk veel mensen aan, ook als je weinig met religie hebt.</p>
<p><br />
Dirigent Hartmut Haenchen leidt de uitvoering. Hij is een vaste gastdirigent en kent dit repertoire door en door. Samen met koor en orkest brengt hij de verschillende delen van het oratorium tot leven.</p>
<p><br />
Je hoort een sterke groep solisten. Sopraan Lenneke Ruiten zingt de heldere en lyrische sopraanpartijen. Alt Helena Rasker geeft kleur aan de warme altlijnen. Tenor Benedikt Kristjánsson vertolkt de tenorpartijen en bariton Domen Krizaj neemt de baritonrol voor zijn rekening. Het koor wordt gezongen door het NNCK.</p>
<p><br />
Samen vormen zij een groot muzikaal geheel waarin koorpassages, aria’s en instrumentale delen elkaar afwisselen. Zo neemt Bach je mee in een muzikaal kerstverhaal vol energie, detail en bijzondere zanglijnen.</p>

<p><strong>Viergangen Galadiner</strong></p>
<p>Speciaal bij dit concert organiseren wij een feestelijke viergangendiner inclusief drankjes. Geef bij de boeking je eventuele dieetwensen door, en of je vegetarier bent.&nbsp;&nbsp;</p>
DESCRIPTION:<a href='/agenda/2026/12/17/noord-nederlands-orkest-130343'>/agenda/2026/12/17/noord-nederlands-orkest-130343</a> || <p><strong>Met kerst klinkt in Stadsschouwburg De Harmonie muziek uit het Weihnachtsoratorium BWV 248 van Johann Sebastian Bach. In dit concert hoor je delen 1, 4, 5 en 6 van het beroemde werk.</strong></p>
<p><br />
Bachs Weihnachtsoratorium behoort al bijna drie eeuwen tot de bekendste kerstmuziek. De combinatie van koor, solozangers en orkest zorgt voor een rijke en kleurrijke klank. De muziek is feestelijk, maar ook verstild en intiem. Daardoor spreekt het werk veel mensen aan, ook als je weinig met religie hebt.</p>
<p><br />
Dirigent Hartmut Haenchen leidt de uitvoering. Hij is een vaste gastdirigent en kent dit repertoire door en door. Samen met koor en orkest brengt hij de verschillende delen van het oratorium tot leven.</p>
<p><br />
Je hoort een sterke groep solisten. Sopraan Lenneke Ruiten zingt de heldere en lyrische sopraanpartijen. Alt Helena Rasker geeft kleur aan de warme altlijnen. Tenor Benedikt Kristjánsson vertolkt de tenorpartijen en bariton Domen Krizaj neemt de baritonrol voor zijn rekening. Het koor wordt gezongen door het NNCK.</p>
<p><br />
Samen vormen zij een groot muzikaal geheel waarin koorpassages, aria’s en instrumentale delen elkaar afwisselen. Zo neemt Bach je mee in een muzikaal kerstverhaal vol energie, detail en bijzondere zanglijnen.</p>

<p><strong>Viergangen Galadiner</strong></p>
<p>Speciaal bij dit concert organiseren wij een feestelijke viergangendiner inclusief drankjes. Geef bij de boeking je eventuele dieetwensen door, en of je vegetarier bent.&nbsp;&nbsp;</p>
LAST-MODIFIED:20260420T080333Z
LOCATION: Stadsschouwburg De Harmonie | Ruiterskwartier 4 Leeuwarden
SEQUENCE:0
STATUS:CONFIRMED
SUMMARY:Noord Nederlands Orkest
TRANSP:OPAQUE
END:VEVENT
END:VCALENDAR
