BEGIN:VCALENDAR
PRODID:-//PUBBLE//agenda//NL
VERSION:2.0
METHOD:PUBLISH
BEGIN:VEVENT
DTSTART:20270416T201500Z
DTEND:20270416T211500Z
DTSTAMP:20260420T063252Z
UID:cb7cd430-8a0a-4afa-bc78-be598b3db521
CREATED:20260420T063252Z
NAME:Noord Nederlands Orkest oudega-swf.nl
X-WR-CALNAME:Noord Nederlands Orkest
X-ALT-DESC;FMTTYPE=text/html:<a href='/agenda/2027/4/16/noord-nederlands-orkest-130344'>/agenda/2027/4/16/noord-nederlands-orkest-130344</a> || <p><strong>Voor de vijfde keer presenteert het Noord Nederlands Orkest Game Music in Concert. In dit concert hoor je muziek uit bekende videogames, live gespeeld door een groot symfonieorkest.</strong></p>
<p><br />
Dirigent Jukka Iisakkila leidt het orkest door een programma vol herkenbare soundtracks. De muziek komt uit onder andere Final Fantasy, Super Mario en The Legend of Zelda. Deze melodieën zijn voor veel gamers direct herkenbaar. Ze horen bij avonturen, personages en werelden die miljoenen mensen kennen.</p>
<p><br />
Sopraan Laetitia Gerards geeft extra kleur aan het programma met haar stem. Presentator Jelle van der Meulen neemt je mee door de avond en vertelt meer over de muziek en de games waaruit die komt.</p>
<p><br />
Het programma brengt een mix van nostalgische klassiekers en muziek uit recentere games. Muziek die je vaak alleen via je koptelefoon of speakers hoort, beleef je hier samen in de zaal. Met de klank van een volledig symfonieorkest krijgen deze soundtracks een nieuwe kracht en detail.</p>
<p><br />
Game Music in Concert laat horen hoe rijk en veelzijdig de muziek uit videogames is. Het is een avond voor gamers, filmliefhebbers en iedereen die nieuwsgierig is naar symfonische muziek uit de wereld van games.</p>
DESCRIPTION:<a href='/agenda/2027/4/16/noord-nederlands-orkest-130344'>/agenda/2027/4/16/noord-nederlands-orkest-130344</a> || <p><strong>Voor de vijfde keer presenteert het Noord Nederlands Orkest Game Music in Concert. In dit concert hoor je muziek uit bekende videogames, live gespeeld door een groot symfonieorkest.</strong></p>
<p><br />
Dirigent Jukka Iisakkila leidt het orkest door een programma vol herkenbare soundtracks. De muziek komt uit onder andere Final Fantasy, Super Mario en The Legend of Zelda. Deze melodieën zijn voor veel gamers direct herkenbaar. Ze horen bij avonturen, personages en werelden die miljoenen mensen kennen.</p>
<p><br />
Sopraan Laetitia Gerards geeft extra kleur aan het programma met haar stem. Presentator Jelle van der Meulen neemt je mee door de avond en vertelt meer over de muziek en de games waaruit die komt.</p>
<p><br />
Het programma brengt een mix van nostalgische klassiekers en muziek uit recentere games. Muziek die je vaak alleen via je koptelefoon of speakers hoort, beleef je hier samen in de zaal. Met de klank van een volledig symfonieorkest krijgen deze soundtracks een nieuwe kracht en detail.</p>
<p><br />
Game Music in Concert laat horen hoe rijk en veelzijdig de muziek uit videogames is. Het is een avond voor gamers, filmliefhebbers en iedereen die nieuwsgierig is naar symfonische muziek uit de wereld van games.</p>
LAST-MODIFIED:20260420T063252Z
LOCATION: Stadsschouwburg De Harmonie | Ruiterskwartier 4 Leeuwarden
SEQUENCE:0
STATUS:CONFIRMED
SUMMARY:Noord Nederlands Orkest
TRANSP:OPAQUE
END:VEVENT
END:VCALENDAR
