BEGIN:VCALENDAR
PRODID:-//PUBBLE//agenda//NL
VERSION:2.0
METHOD:PUBLISH
BEGIN:VEVENT
DTSTART:20270108T191500Z
DTEND:20270108T201500Z
DTSTAMP:20260420T080630Z
UID:a3854d05-3b56-42ae-b752-01c9582451ad
CREATED:20260420T080630Z
NAME:Noord Nederlands Orkest oudega-swf.nl
X-WR-CALNAME:Noord Nederlands Orkest
X-ALT-DESC;FMTTYPE=text/html:<a href='/agenda/2027/1/8/noord-nederlands-orkest-130345'>/agenda/2027/1/8/noord-nederlands-orkest-130345</a> || <p><strong>Het Noord Nederlands Orkest luidt het nieuwe jaar in met een feestelijk nieuwjaarsconcert in De Harmonie in Leeuwarden. Dirigent Lucie Leguay staat voor het orkest. Sopraan Annemarie Kremer is de solist van de avond.</strong></p>
<p><br />
Samen maken ze een muzikale rondreis door Europa. De muziek voert je langs Oostenrijk, Hongarije, Italië en Spanje. Je hoort hoogtepunten uit opera, Weense walsen en populaire klassieke stukken.</p>
<p><br />
De liederen en muziek volgen elkaar in hoog tempo op. Veel van de stukken gaan over de liefde. Dat maakt het programma licht, warm en herkenbaar.</p>
<p><br />
Het concert past bij een lange nieuwjaarstraditie van het Noord Nederlands Orkest: zingend en luisterend het nieuwe jaar beginnen met muziek vol energie en plezier. In De Harmonie komt dit feestelijke programma samen met de krachtige stem van Annemarie Kremer en het orkest onder leiding van Lucie Leguay.</p>
DESCRIPTION:<a href='/agenda/2027/1/8/noord-nederlands-orkest-130345'>/agenda/2027/1/8/noord-nederlands-orkest-130345</a> || <p><strong>Het Noord Nederlands Orkest luidt het nieuwe jaar in met een feestelijk nieuwjaarsconcert in De Harmonie in Leeuwarden. Dirigent Lucie Leguay staat voor het orkest. Sopraan Annemarie Kremer is de solist van de avond.</strong></p>
<p><br />
Samen maken ze een muzikale rondreis door Europa. De muziek voert je langs Oostenrijk, Hongarije, Italië en Spanje. Je hoort hoogtepunten uit opera, Weense walsen en populaire klassieke stukken.</p>
<p><br />
De liederen en muziek volgen elkaar in hoog tempo op. Veel van de stukken gaan over de liefde. Dat maakt het programma licht, warm en herkenbaar.</p>
<p><br />
Het concert past bij een lange nieuwjaarstraditie van het Noord Nederlands Orkest: zingend en luisterend het nieuwe jaar beginnen met muziek vol energie en plezier. In De Harmonie komt dit feestelijke programma samen met de krachtige stem van Annemarie Kremer en het orkest onder leiding van Lucie Leguay.</p>
LAST-MODIFIED:20260420T080630Z
LOCATION: Stadsschouwburg De Harmonie | Ruiterskwartier 4 Leeuwarden
SEQUENCE:0
STATUS:CONFIRMED
SUMMARY:Noord Nederlands Orkest
TRANSP:OPAQUE
END:VEVENT
END:VCALENDAR
