BEGIN:VCALENDAR
PRODID:-//PUBBLE//agenda//NL
VERSION:2.0
METHOD:PUBLISH
BEGIN:VEVENT
DTSTART:20270219T191500Z
DTEND:20270219T201500Z
DTSTAMP:20260420T080455Z
UID:b504cf19-98a6-48d2-a62a-ceae399376a7
CREATED:20260420T080455Z
NAME:Noord Nederlands Orkest oudega-swf.nl
X-WR-CALNAME:Noord Nederlands Orkest
X-ALT-DESC;FMTTYPE=text/html:<a href='/agenda/2027/2/19/noord-nederlands-orkest-130346'>/agenda/2027/2/19/noord-nederlands-orkest-130346</a> || <p><strong>Wie zich bij muziek graag iets voorstelt, krijgt in dit concert veel om bij weg te dromen. Dirigent Kerem Hasan leidt het orkest in een programma met contrasten, sterke beelden en veel ruimte voor de viool. Solist is violist Arabella Steinbacher.</strong></p>
<p><br />
Het concert opent met This Midnight Hour van de Britse componist Anna Clyne. Dit orkestwerk heeft een donkere, sprookjesachtige sfeer. De muziek bouwt langzaam spanning op en klinkt soms alsof je midden in een fantasyfilm zit. Het orkest beweegt in golven van klank en ritme.</p>
<p><br />
Daarna volgt Lonely Angel van de Letse componist Peteris Vasks. In dit verstilde stuk klinkt een soloviool boven een zacht en dromerig orkest. De muziek is rustig en meditatief. De viool lijkt als een eenzame stem door het klanklandschap te zweven. De sfeer doet denken aan spirituele muziek, zoals die van Arvo Pärt.</p>
<p><br />
Arabella Steinbacher speelt ook Poème van Ernest Chausson. Dit werk is een lyrische monoloog voor viool en orkest. De viool vertelt een intens en emotioneel verhaal, terwijl het orkest een zachte, bijna mistige achtergrond vormt. De muziek beweegt vrij en expressief.</p>
<p><br />
Na de pauze klinkt Symfonie nr. 8 van Antonín Dvorák. Deze symfonie zit vol melodieën die direct blijven hangen. Dvorák had een groot talent voor sterke thema’s. In deze symfonie hoor je ook duidelijk zijn liefde voor Tsjechische volksmuziek. Dansachtige ritmes geven de muziek energie en beweging.</p>
<p><br />
De symfonie begint rustig, met een sfeer van verwachting. Daarna volgt muziek vol kleur en contrast. In het laatste deel barst de symfonie los in een uitbundige finale.</p>
<p><br />
Samen vormen deze werken een avond vol verhalen in klank: van verstilde vioolmuziek tot de levendige symfonische wereld van Dvorák.</p>
DESCRIPTION:<a href='/agenda/2027/2/19/noord-nederlands-orkest-130346'>/agenda/2027/2/19/noord-nederlands-orkest-130346</a> || <p><strong>Wie zich bij muziek graag iets voorstelt, krijgt in dit concert veel om bij weg te dromen. Dirigent Kerem Hasan leidt het orkest in een programma met contrasten, sterke beelden en veel ruimte voor de viool. Solist is violist Arabella Steinbacher.</strong></p>
<p><br />
Het concert opent met This Midnight Hour van de Britse componist Anna Clyne. Dit orkestwerk heeft een donkere, sprookjesachtige sfeer. De muziek bouwt langzaam spanning op en klinkt soms alsof je midden in een fantasyfilm zit. Het orkest beweegt in golven van klank en ritme.</p>
<p><br />
Daarna volgt Lonely Angel van de Letse componist Peteris Vasks. In dit verstilde stuk klinkt een soloviool boven een zacht en dromerig orkest. De muziek is rustig en meditatief. De viool lijkt als een eenzame stem door het klanklandschap te zweven. De sfeer doet denken aan spirituele muziek, zoals die van Arvo Pärt.</p>
<p><br />
Arabella Steinbacher speelt ook Poème van Ernest Chausson. Dit werk is een lyrische monoloog voor viool en orkest. De viool vertelt een intens en emotioneel verhaal, terwijl het orkest een zachte, bijna mistige achtergrond vormt. De muziek beweegt vrij en expressief.</p>
<p><br />
Na de pauze klinkt Symfonie nr. 8 van Antonín Dvorák. Deze symfonie zit vol melodieën die direct blijven hangen. Dvorák had een groot talent voor sterke thema’s. In deze symfonie hoor je ook duidelijk zijn liefde voor Tsjechische volksmuziek. Dansachtige ritmes geven de muziek energie en beweging.</p>
<p><br />
De symfonie begint rustig, met een sfeer van verwachting. Daarna volgt muziek vol kleur en contrast. In het laatste deel barst de symfonie los in een uitbundige finale.</p>
<p><br />
Samen vormen deze werken een avond vol verhalen in klank: van verstilde vioolmuziek tot de levendige symfonische wereld van Dvorák.</p>
LAST-MODIFIED:20260420T080455Z
LOCATION: Stadsschouwburg De Harmonie | Ruiterskwartier 4 Leeuwarden
SEQUENCE:0
STATUS:CONFIRMED
SUMMARY:Noord Nederlands Orkest
TRANSP:OPAQUE
END:VEVENT
END:VCALENDAR
