BEGIN:VCALENDAR
PRODID:-//PUBBLE//agenda//NL
VERSION:2.0
METHOD:PUBLISH
BEGIN:VEVENT
DTSTART:20260428T184500Z
DTEND:20260428T205100Z
DTSTAMP:20260420T063438Z
UID:87bc9aba-3ccc-4808-8c20-9b135825b803
CREATED:20260420T063438Z
NAME:Ocean’s 8 oudega-swf.nl
X-WR-CALNAME:Ocean’s 8
X-ALT-DESC;FMTTYPE=text/html:<a href='/agenda/2026/4/28/oceans-8-130349'>/agenda/2026/4/28/oceans-8-130349</a> || <p>Debbie Ocean heeft meer dan vijf jaar moeten wachten op wat de grootste roof van haar leven moet worden. Als geen ander weet ze wat je daarvoor nodig hebt: experts. Samen met haar partner in crime stelt ze een team van specialisten samen.</p>
<p>Regisseur</p>
<ul><li>Gary Ross</li></ul>
<p>Acteurs</p>
<ul><li>Katie Holmes</li><li>Rihanna .</li><li>Cate Blanchett</li><li>Matt Damon</li><li>Sandra Bullock</li><li>Dakota Fanning</li><li>Mindy Kaling</li><li>Anne Hathaway</li><li>Sarah Paulson</li></ul>
<p>Duur: 106 minuten</p>
<p>Genres</p>
<ul><li>Drama</li><li>Actie</li><li>Misdaad</li></ul>
DESCRIPTION:<a href='/agenda/2026/4/28/oceans-8-130349'>/agenda/2026/4/28/oceans-8-130349</a> || <p>Debbie Ocean heeft meer dan vijf jaar moeten wachten op wat de grootste roof van haar leven moet worden. Als geen ander weet ze wat je daarvoor nodig hebt: experts. Samen met haar partner in crime stelt ze een team van specialisten samen.</p>
<p>Regisseur</p>
<ul><li>Gary Ross</li></ul>
<p>Acteurs</p>
<ul><li>Katie Holmes</li><li>Rihanna .</li><li>Cate Blanchett</li><li>Matt Damon</li><li>Sandra Bullock</li><li>Dakota Fanning</li><li>Mindy Kaling</li><li>Anne Hathaway</li><li>Sarah Paulson</li></ul>
<p>Duur: 106 minuten</p>
<p>Genres</p>
<ul><li>Drama</li><li>Actie</li><li>Misdaad</li></ul>
LAST-MODIFIED:20260420T063438Z
LOCATION: Onbekend | Ruiterskwartier 6a Leeuwarden
SEQUENCE:0
STATUS:CONFIRMED
SUMMARY:Ocean’s 8
TRANSP:OPAQUE
END:VEVENT
END:VCALENDAR
