BEGIN:VCALENDAR
PRODID:-//PUBBLE//agenda//NL
VERSION:2.0
METHOD:PUBLISH
BEGIN:VEVENT
DTSTART:20261112T191500Z
DTEND:20261112T201500Z
DTSTAMP:20260420T080721Z
UID:627da626-6783-4a36-abbf-1bf4f935cbd2
CREATED:20260420T080721Z
NAME:Pianotrio oudega-swf.nl
X-WR-CALNAME:Pianotrio
X-ALT-DESC;FMTTYPE=text/html:<a href='/agenda/2026/11/12/pianotrio-130354'>/agenda/2026/11/12/pianotrio-130354</a> || <p><strong>Een volledig programma met late kamermuziek van Johannes Brahms hoor je niet vaak. Brahms had eerder gezegd dat hij zou stoppen met componeren. Toch raakte hij in 1891 sterk geïnspireerd door het spel van klarinettist Richard Mühlfeld. Dat leidde tot nieuwe kamermuziekwerken. Van zijn klarinetstukken maakte hij zelf een versie voor altviool. In deze muziek hoor je de warme, volle klank die zo kenmerkend is voor zijn stijl in de herfst van zijn leven.</strong><br />
<br />
In dit concert staan drie werken uit zijn latere periode centraal: de Sonate voor altviool en piano in f klein op.120 nr.1, de Sonate voor cello en piano in F groot op.99 en het Trio voor altviool, cello en piano op.114.<br />
<br />
<strong>Musici</strong><br />
Altvioliste Ásdís Valdimarsdóttir komt uit IJsland. Zij is hoofdvakdocent altviool aan het Koninklijk Conservatorium Den Haag. Ook speelde zij in verschillende buitenlandse strijkkwartetten, waaronder het Chilingirian Quartet.<br />
Cellist Mick Stirling komt uit Engeland. Hij is hoofdvakdocent cello aan het Amsterdams Conservatorium en is aanvoerder van de celli in het Radio Philharmonisch Orkest.<br />
Pianist Marcel Worms studeerde aan het Sweelinck Conservatorium in Amsterdam bij Hans Dercksen. Ook volgde hij lessen bij Youri Egorov en Alicia de Larrocha. Hij trad wereldwijd op, onder meer met zijn project New Blues for Piano.<br />
<br />
Samen nemen deze drie musici je mee in het rijke en persoonlijke klankwereld van Brahms’ late kamermuziek.</p>
DESCRIPTION:<a href='/agenda/2026/11/12/pianotrio-130354'>/agenda/2026/11/12/pianotrio-130354</a> || <p><strong>Een volledig programma met late kamermuziek van Johannes Brahms hoor je niet vaak. Brahms had eerder gezegd dat hij zou stoppen met componeren. Toch raakte hij in 1891 sterk geïnspireerd door het spel van klarinettist Richard Mühlfeld. Dat leidde tot nieuwe kamermuziekwerken. Van zijn klarinetstukken maakte hij zelf een versie voor altviool. In deze muziek hoor je de warme, volle klank die zo kenmerkend is voor zijn stijl in de herfst van zijn leven.</strong><br />
<br />
In dit concert staan drie werken uit zijn latere periode centraal: de Sonate voor altviool en piano in f klein op.120 nr.1, de Sonate voor cello en piano in F groot op.99 en het Trio voor altviool, cello en piano op.114.<br />
<br />
<strong>Musici</strong><br />
Altvioliste Ásdís Valdimarsdóttir komt uit IJsland. Zij is hoofdvakdocent altviool aan het Koninklijk Conservatorium Den Haag. Ook speelde zij in verschillende buitenlandse strijkkwartetten, waaronder het Chilingirian Quartet.<br />
Cellist Mick Stirling komt uit Engeland. Hij is hoofdvakdocent cello aan het Amsterdams Conservatorium en is aanvoerder van de celli in het Radio Philharmonisch Orkest.<br />
Pianist Marcel Worms studeerde aan het Sweelinck Conservatorium in Amsterdam bij Hans Dercksen. Ook volgde hij lessen bij Youri Egorov en Alicia de Larrocha. Hij trad wereldwijd op, onder meer met zijn project New Blues for Piano.<br />
<br />
Samen nemen deze drie musici je mee in het rijke en persoonlijke klankwereld van Brahms’ late kamermuziek.</p>
LAST-MODIFIED:20260420T080721Z
LOCATION: Onbekend | Wirdumerdijk 18 Leeuwarden
SEQUENCE:0
STATUS:CONFIRMED
SUMMARY:Pianotrio
TRANSP:OPAQUE
END:VEVENT
END:VCALENDAR
