BEGIN:VCALENDAR
PRODID:-//PUBBLE//agenda//NL
VERSION:2.0
METHOD:PUBLISH
BEGIN:VEVENT
DTSTART:20260420T201500Z
DTEND:20260420T231100Z
DTSTAMP:20260420T045141Z
UID:0ca142b3-05be-46a0-8c9b-f0ca27f4d840
CREATED:20260420T045141Z
NAME:Project Hail Mary oudega-swf.nl
X-WR-CALNAME:Project Hail Mary
X-ALT-DESC;FMTTYPE=text/html:<a href='/agenda/2026/4/20/project-hail-mary-130366'>/agenda/2026/4/20/project-hail-mary-130366</a> || <p>Natuurkundeleraar Ryland Grace (Academy Award® genomineerde Ryan Gosling) wordt lichtjaren van huis wakker op een ruimteschip zonder zich te herinneren wie hij is of hoe hij daar is gekomen. Langzamerhand keert zijn geheugen terug: hij is op een missie om erachter te komen waarom een mysterieuze substantie ervoor zorgt dat de zon uitdooft. Om alles op aarde voor uitsterven te behoeden, moet hij een beroep doen op zijn wetenschappelijke kennis en een aantal onorthodoxe ideeën. Maar een onverwachte vriendschap betekent dat hij er misschien niet helemaal alleen voor staat.<br /><br />Gebaseerd op de New York Times bestseller van Andy Weir. Geregisseerd door Oscar®-winnaars Phil Lord en Christopher Miller.</p>
<p>Regisseur</p>
<ul><li>Phil Lord</li><li>Christopher Miller</li></ul>
<p>Acteurs</p>
<ul><li>Ryan Gosling</li><li>Ken Leung</li><li>Sandra Hüller</li><li>Lionel Boyce</li><li>Milana Vayntrub</li></ul>
<p>Duur: 156 minuten</p>
<p>Genres</p>
<ul><li>Actie</li><li>Science Fiction</li><li>Avontuur</li></ul>
DESCRIPTION:<a href='/agenda/2026/4/20/project-hail-mary-130366'>/agenda/2026/4/20/project-hail-mary-130366</a> || <p>Natuurkundeleraar Ryland Grace (Academy Award® genomineerde Ryan Gosling) wordt lichtjaren van huis wakker op een ruimteschip zonder zich te herinneren wie hij is of hoe hij daar is gekomen. Langzamerhand keert zijn geheugen terug: hij is op een missie om erachter te komen waarom een mysterieuze substantie ervoor zorgt dat de zon uitdooft. Om alles op aarde voor uitsterven te behoeden, moet hij een beroep doen op zijn wetenschappelijke kennis en een aantal onorthodoxe ideeën. Maar een onverwachte vriendschap betekent dat hij er misschien niet helemaal alleen voor staat.<br /><br />Gebaseerd op de New York Times bestseller van Andy Weir. Geregisseerd door Oscar®-winnaars Phil Lord en Christopher Miller.</p>
<p>Regisseur</p>
<ul><li>Phil Lord</li><li>Christopher Miller</li></ul>
<p>Acteurs</p>
<ul><li>Ryan Gosling</li><li>Ken Leung</li><li>Sandra Hüller</li><li>Lionel Boyce</li><li>Milana Vayntrub</li></ul>
<p>Duur: 156 minuten</p>
<p>Genres</p>
<ul><li>Actie</li><li>Science Fiction</li><li>Avontuur</li></ul>
LAST-MODIFIED:20260420T045141Z
LOCATION: Onbekend | Ruiterskwartier 6a Leeuwarden
SEQUENCE:0
STATUS:CONFIRMED
SUMMARY:Project Hail Mary
TRANSP:OPAQUE
END:VEVENT
END:VCALENDAR
