BEGIN:VCALENDAR
PRODID:-//PUBBLE//agenda//NL
VERSION:2.0
METHOD:PUBLISH
BEGIN:VEVENT
DTSTART:20260918T201500Z
DTEND:20260918T211500Z
DTSTAMP:20260420T092444Z
UID:40935382-20a9-4db1-90e2-35539eb73565
CREATED:20260420T092444Z
NAME:Ragazze Quartet oudega-swf.nl
X-WR-CALNAME:Ragazze Quartet
X-ALT-DESC;FMTTYPE=text/html:<a href='/agenda/2026/9/18/ragazze-quartet-130374'>/agenda/2026/9/18/ragazze-quartet-130374</a> || <p><strong>In Voces Intimae verweeft het Ragazze Quartet drie muzikale stemmen uit het noorden. Volksmuziek, Kaija Saariaho en Jean Sibelius komen samen in één programma. De muziek gaat over herinnering, traditie en innerlijke beleving. Het concert opent met werken van Fredrik Sjölin: Shore en Naja’s Waltz. Ook klinken traditionele melodieën in arrangementen van Danish String Quartet: Staedelil en Æ Rømeser. Daarnaast hoor je Shine You No More van Rune Tonsgaard Sørensen. Deze stukken laten de rijke Scandinavische volksmuziektraditie horen. De melodieën zijn vaak melancholisch. Ze vertellen verhalen over natuur, zee en menselijke emoties. Ze zijn generaties lang mondeling doorgegeven.</strong><br />
<br />
Na de pauze klinkt het Strijkkwartet in d klein, op. 56 Voces Intimae (1908) van Jean Sibelius. Dit werk voelt als een intiem gesprek tussen stemmen uit verleden en heden. De titel verwijst naar de innerlijke stem van de componist. De muziek is weemoedig en reflectief. Je hoort rust, spanning en subtiele verwijzingen naar volksmuziek.</p>
<p><br />
Ook Terra Memoria (2007) van Kaija Saariaho staat op het programma. In dit strijkkwartet onderzoekt zij hoe herinneringen in klank blijven voortleven. Herinneringen kunnen veranderen. Soms zijn ze troostend, soms pijnlijk helder. Saariaho beschrijft hoe de stemmen van mensen die er niet meer zijn, toch bij ons blijven. Hun leven is voltooid, maar in onze gedachten en gevoelens leven zij verder.</p>
<p><br />
Het Ragazze Quartet bestaat uit Rosa Arnold en Jeanita Vriens-van Tongeren (viool), Annemijn Bergkotte (altviool) en Nathalie Flintrop (cello). Zij spelen klassieke en moderne strijkkwartetten met grote betrokkenheid. In hun programma’s verbinden ze muziek met thema’s van deze tijd. Zo geven ze nieuwe betekenis aan het strijkkwartet, met eigen producties en nieuwe composities speciaal voor het ensemble. Met Voces Intimae nemen zij je mee naar het noorden.</p>

<p>Rosa Arnold – viool<br />
Jeanita Vriens-van Tongeren - viool<br />
Annemijn Bergkotte -altviool<br />
Nathalie Flintrop - cello</p>
DESCRIPTION:<a href='/agenda/2026/9/18/ragazze-quartet-130374'>/agenda/2026/9/18/ragazze-quartet-130374</a> || <p><strong>In Voces Intimae verweeft het Ragazze Quartet drie muzikale stemmen uit het noorden. Volksmuziek, Kaija Saariaho en Jean Sibelius komen samen in één programma. De muziek gaat over herinnering, traditie en innerlijke beleving. Het concert opent met werken van Fredrik Sjölin: Shore en Naja’s Waltz. Ook klinken traditionele melodieën in arrangementen van Danish String Quartet: Staedelil en Æ Rømeser. Daarnaast hoor je Shine You No More van Rune Tonsgaard Sørensen. Deze stukken laten de rijke Scandinavische volksmuziektraditie horen. De melodieën zijn vaak melancholisch. Ze vertellen verhalen over natuur, zee en menselijke emoties. Ze zijn generaties lang mondeling doorgegeven.</strong><br />
<br />
Na de pauze klinkt het Strijkkwartet in d klein, op. 56 Voces Intimae (1908) van Jean Sibelius. Dit werk voelt als een intiem gesprek tussen stemmen uit verleden en heden. De titel verwijst naar de innerlijke stem van de componist. De muziek is weemoedig en reflectief. Je hoort rust, spanning en subtiele verwijzingen naar volksmuziek.</p>
<p><br />
Ook Terra Memoria (2007) van Kaija Saariaho staat op het programma. In dit strijkkwartet onderzoekt zij hoe herinneringen in klank blijven voortleven. Herinneringen kunnen veranderen. Soms zijn ze troostend, soms pijnlijk helder. Saariaho beschrijft hoe de stemmen van mensen die er niet meer zijn, toch bij ons blijven. Hun leven is voltooid, maar in onze gedachten en gevoelens leven zij verder.</p>
<p><br />
Het Ragazze Quartet bestaat uit Rosa Arnold en Jeanita Vriens-van Tongeren (viool), Annemijn Bergkotte (altviool) en Nathalie Flintrop (cello). Zij spelen klassieke en moderne strijkkwartetten met grote betrokkenheid. In hun programma’s verbinden ze muziek met thema’s van deze tijd. Zo geven ze nieuwe betekenis aan het strijkkwartet, met eigen producties en nieuwe composities speciaal voor het ensemble. Met Voces Intimae nemen zij je mee naar het noorden.</p>

<p>Rosa Arnold – viool<br />
Jeanita Vriens-van Tongeren - viool<br />
Annemijn Bergkotte -altviool<br />
Nathalie Flintrop - cello</p>
LAST-MODIFIED:20260420T092444Z
LOCATION: Onbekend | Wirdumerdijk 18 Leeuwarden
SEQUENCE:0
STATUS:CONFIRMED
SUMMARY:Ragazze Quartet
TRANSP:OPAQUE
END:VEVENT
END:VCALENDAR
