BEGIN:VCALENDAR
PRODID:-//PUBBLE//agenda//NL
VERSION:2.0
METHOD:PUBLISH
BEGIN:VEVENT
DTSTART:20270213T191500Z
DTEND:20270213T201500Z
DTSTAMP:20260420T080517Z
UID:e2648dc6-eb83-4f82-a175-78dc1a0f24a6
CREATED:20260420T080517Z
NAME:Roxeanne Hazes oudega-swf.nl
X-WR-CALNAME:Roxeanne Hazes
X-ALT-DESC;FMTTYPE=text/html:<a href='/agenda/2027/2/13/roxeanne-hazes-130382'>/agenda/2027/2/13/roxeanne-hazes-130382</a> || <p><strong>Roxeanne Hazes heeft heimwee… naar het theater. Na een eerste reeks theatershows in 2025, komt ze dit najaar terug met een nieuw album en een nieuwe show ‘…met heimwee’. Het is het overkoepelende thema van haar aanstaande derde studioalbum. Heimwee naar een thuis, of juist allesbehalve. Heimwee naar mensen, naar plekken, smaken, geuren… en zoveel meer. Het is een warm en hoopvol album geworden, maar met haar typische weemoedigheid en beeldende teksten. Onlangs verscheen de eerste single ‘Chaos Gedoofd’.</strong></p>
<p>Tijdens de intieme, warme en verhalende theatertour neemt Hazes natuurlijk haar vaste band mee, de mannen met wie ze ook dit nieuwe album schreef en opnam. Maar ook de liedjes van haar Edison-genomineerde eerste twee albums komen natuurlijk aan bod. Naast losse tracks en covers waarmee ze de afgelopen jaren indruk maakte.</p>
<p>Hazes presenteerde tv-programma’s, schreef twee kinderboeken, acteert, is dit jaar Moeder Maria in The Passion, heeft een podcast met haar broertje en was afgelopen jaar te horen op samenwerkingen met Herman van Veen, Bente en Jan Dulles. Ze ontving twee gouden platen, is komend voorjaar te zien in musicalprogramma Stars On Stage en staat tweemaal in het Concertgebouw Amsterdam.</p>
DESCRIPTION:<a href='/agenda/2027/2/13/roxeanne-hazes-130382'>/agenda/2027/2/13/roxeanne-hazes-130382</a> || <p><strong>Roxeanne Hazes heeft heimwee… naar het theater. Na een eerste reeks theatershows in 2025, komt ze dit najaar terug met een nieuw album en een nieuwe show ‘…met heimwee’. Het is het overkoepelende thema van haar aanstaande derde studioalbum. Heimwee naar een thuis, of juist allesbehalve. Heimwee naar mensen, naar plekken, smaken, geuren… en zoveel meer. Het is een warm en hoopvol album geworden, maar met haar typische weemoedigheid en beeldende teksten. Onlangs verscheen de eerste single ‘Chaos Gedoofd’.</strong></p>
<p>Tijdens de intieme, warme en verhalende theatertour neemt Hazes natuurlijk haar vaste band mee, de mannen met wie ze ook dit nieuwe album schreef en opnam. Maar ook de liedjes van haar Edison-genomineerde eerste twee albums komen natuurlijk aan bod. Naast losse tracks en covers waarmee ze de afgelopen jaren indruk maakte.</p>
<p>Hazes presenteerde tv-programma’s, schreef twee kinderboeken, acteert, is dit jaar Moeder Maria in The Passion, heeft een podcast met haar broertje en was afgelopen jaar te horen op samenwerkingen met Herman van Veen, Bente en Jan Dulles. Ze ontving twee gouden platen, is komend voorjaar te zien in musicalprogramma Stars On Stage en staat tweemaal in het Concertgebouw Amsterdam.</p>
LAST-MODIFIED:20260420T080517Z
LOCATION: Stadsschouwburg De Harmonie | Ruiterskwartier 4 Leeuwarden
SEQUENCE:0
STATUS:CONFIRMED
SUMMARY:Roxeanne Hazes
TRANSP:OPAQUE
END:VEVENT
END:VCALENDAR
