BEGIN:VCALENDAR
PRODID:-//PUBBLE//agenda//NL
VERSION:2.0
METHOD:PUBLISH
BEGIN:VEVENT
DTSTART:20271002T150000Z
DTEND:20271002T160000Z
DTSTAMP:20260420T062444Z
UID:de8014cd-a7ac-46bd-933e-f463f981c9cf
CREATED:20260420T062444Z
NAME:The Bodyguard oudega-swf.nl
X-WR-CALNAME:The Bodyguard
X-ALT-DESC;FMTTYPE=text/html:<a href='/agenda/2027/10/2/the-bodyguard-130391'>/agenda/2027/10/2/the-bodyguard-130391</a> || <p><strong>De tijdloze muziek van Whitney Houston vormt het hart van <em>The Bodyguard</em>. In deze musical hoor je bekende nummers als <em>I Wanna Dance with Somebody</em>, <em>Greatest Love of All</em> en <em>I Will Always Love You</em>. De muziek en het verhaal komen samen in een voorstelling vol spanning, emotie en vaart.</strong></p>
<p>Centraal staat Rachel Marron, een grote ster die leeft onder hoge druk. Ze staat altijd in de schijnwerpers en wordt omringd door fans, verwachtingen en aandacht. Om haar te beschermen, wordt voormalig geheim agent Frank Farmer ingehuurd als bodyguard.</p>
<p>Tussen Rachel en Frank ontstaat een sterke spanning. Ze botsen, trekken naar elkaar toe en houden elkaar tegelijk op afstand. Wat begint als een zakelijke opdracht, groeit langzaam uit tot een persoonlijk en intens contact. Ondertussen komt een dreigende stalker steeds dichterbij en neemt het gevaar toe.</p>
<p><em>The Bodyguard</em> is meer dan een musical met bekende hits. Het is ook een verhaal over liefde, vertrouwen en verbondenheid. Over kiezen tussen afstand houden of je openstellen. Over wat er gebeurt als plicht en gevoel door elkaar gaan lopen.</p>
<p>Deze show brengt muziek, emotie en spanning samen in een eigentijdse voorstelling die nog lang blijft nazinderen.</p>
DESCRIPTION:<a href='/agenda/2027/10/2/the-bodyguard-130391'>/agenda/2027/10/2/the-bodyguard-130391</a> || <p><strong>De tijdloze muziek van Whitney Houston vormt het hart van <em>The Bodyguard</em>. In deze musical hoor je bekende nummers als <em>I Wanna Dance with Somebody</em>, <em>Greatest Love of All</em> en <em>I Will Always Love You</em>. De muziek en het verhaal komen samen in een voorstelling vol spanning, emotie en vaart.</strong></p>
<p>Centraal staat Rachel Marron, een grote ster die leeft onder hoge druk. Ze staat altijd in de schijnwerpers en wordt omringd door fans, verwachtingen en aandacht. Om haar te beschermen, wordt voormalig geheim agent Frank Farmer ingehuurd als bodyguard.</p>
<p>Tussen Rachel en Frank ontstaat een sterke spanning. Ze botsen, trekken naar elkaar toe en houden elkaar tegelijk op afstand. Wat begint als een zakelijke opdracht, groeit langzaam uit tot een persoonlijk en intens contact. Ondertussen komt een dreigende stalker steeds dichterbij en neemt het gevaar toe.</p>
<p><em>The Bodyguard</em> is meer dan een musical met bekende hits. Het is ook een verhaal over liefde, vertrouwen en verbondenheid. Over kiezen tussen afstand houden of je openstellen. Over wat er gebeurt als plicht en gevoel door elkaar gaan lopen.</p>
<p>Deze show brengt muziek, emotie en spanning samen in een eigentijdse voorstelling die nog lang blijft nazinderen.</p>
LAST-MODIFIED:20260420T062444Z
LOCATION: Stadsschouwburg De Harmonie | Ruiterskwartier 4 Leeuwarden
SEQUENCE:0
STATUS:CONFIRMED
SUMMARY:The Bodyguard
TRANSP:OPAQUE
END:VEVENT
END:VCALENDAR
