BEGIN:VCALENDAR
PRODID:-//PUBBLE//agenda//NL
VERSION:2.0
METHOD:PUBLISH
BEGIN:VEVENT
DTSTART:20260526T133000Z
DTEND:20260526T154300Z
DTSTAMP:20260420T150411Z
UID:f734b927-02ae-43c9-9f49-2ce365680df2
CREATED:20260420T150411Z
NAME:The Choral oudega-swf.nl
X-WR-CALNAME:The Choral
X-ALT-DESC;FMTTYPE=text/html:<a href='/agenda/2026/5/26/the-choral-130394'>/agenda/2026/5/26/the-choral-130394</a> || <p>In het door oorlog geteisterde Yorkshire van 1916 dreigt het plaatselijke koor te verdwijnen als vrijwel alle mannen naar het front zijn vertrokken. Vastbesloten om door te gaan, ziet het bestuur van The Choral Society zich genoodzaakt nieuwe zangers werven onder de jongens van het dorp - tieners die zelf op het punt staan om opgeroepen te worden voor militaire dienst.<br />Tegelijkertijd moet er een nieuwe dirigent worden aangesteld. De keuze valt op Dr. Henry Guthrie (Ralph Fiennes), een gedreven en compromisloze musicus die recent is teruggekeerd uit Duitsland. Onder Guthrie’s strenge maar gepassioneerde leiding ontdekken de jongens de kracht van samen zingen: kameraadschap, humor entroost in een tijd die gedomineerd wordt door verlies en onzekerheid.<br /><br />The Choral is een warm en nostalgisch drama, geregisseerd door BAFTA-, Olivier- en Tony Award-winnaar Nicholas Hytner, bekend van onder meer The Lady in the Van en The Madness of King George. Het prachtig geschreven scenario is van de eveneens bekroonde Britse schrijver Alan Bennett en markeert hun vierde samenwerking. De film wordt gedragen door uitmuntende acteerprestaties, met een indrukwekkende hoofdrol van Ralph Fiennes als de bevlogen koorleider Dr. Guthrie, bekend van Conclave en Schindler’s List. The Choral beleefde zijn wereldpremière op het Toronto International Film Festival.</p>
<p>Regisseur</p>
<ul><li>Nicholas Hytner</li></ul>
<p>Acteurs</p>
<ul><li>Robert Emms</li><li>Alun Armstrong</li><li>Mark Addy</li><li>Roger Allam</li><li>Ralph Fiennes</li><li>Simon Russell Beale</li></ul>
<p>Duur: 113 minuten</p>
<p>Genres</p>
<ul><li>Drama</li><li>Nederlands</li></ul>
DESCRIPTION:<a href='/agenda/2026/5/26/the-choral-130394'>/agenda/2026/5/26/the-choral-130394</a> || <p>In het door oorlog geteisterde Yorkshire van 1916 dreigt het plaatselijke koor te verdwijnen als vrijwel alle mannen naar het front zijn vertrokken. Vastbesloten om door te gaan, ziet het bestuur van The Choral Society zich genoodzaakt nieuwe zangers werven onder de jongens van het dorp - tieners die zelf op het punt staan om opgeroepen te worden voor militaire dienst.<br />Tegelijkertijd moet er een nieuwe dirigent worden aangesteld. De keuze valt op Dr. Henry Guthrie (Ralph Fiennes), een gedreven en compromisloze musicus die recent is teruggekeerd uit Duitsland. Onder Guthrie’s strenge maar gepassioneerde leiding ontdekken de jongens de kracht van samen zingen: kameraadschap, humor entroost in een tijd die gedomineerd wordt door verlies en onzekerheid.<br /><br />The Choral is een warm en nostalgisch drama, geregisseerd door BAFTA-, Olivier- en Tony Award-winnaar Nicholas Hytner, bekend van onder meer The Lady in the Van en The Madness of King George. Het prachtig geschreven scenario is van de eveneens bekroonde Britse schrijver Alan Bennett en markeert hun vierde samenwerking. De film wordt gedragen door uitmuntende acteerprestaties, met een indrukwekkende hoofdrol van Ralph Fiennes als de bevlogen koorleider Dr. Guthrie, bekend van Conclave en Schindler’s List. The Choral beleefde zijn wereldpremière op het Toronto International Film Festival.</p>
<p>Regisseur</p>
<ul><li>Nicholas Hytner</li></ul>
<p>Acteurs</p>
<ul><li>Robert Emms</li><li>Alun Armstrong</li><li>Mark Addy</li><li>Roger Allam</li><li>Ralph Fiennes</li><li>Simon Russell Beale</li></ul>
<p>Duur: 113 minuten</p>
<p>Genres</p>
<ul><li>Drama</li><li>Nederlands</li></ul>
LAST-MODIFIED:20260420T150411Z
LOCATION: Onbekend | Ruiterskwartier 6a Leeuwarden
SEQUENCE:0
STATUS:CONFIRMED
SUMMARY:The Choral
TRANSP:OPAQUE
END:VEVENT
END:VCALENDAR
