BEGIN:VCALENDAR
PRODID:-//PUBBLE//agenda//NL
VERSION:2.0
METHOD:PUBLISH
BEGIN:VEVENT
DTSTART:20261203T191500Z
DTEND:20261203T201500Z
DTSTAMP:20260420T080253Z
UID:910f2316-8ca6-4abb-91cb-453682c81e8c
CREATED:20260420T080253Z
NAME:Titanique oudega-swf.nl
X-WR-CALNAME:Titanique
X-ALT-DESC;FMTTYPE=text/html:<a href='/agenda/2026/12/3/titanique-130457'>/agenda/2026/12/3/titanique-130457</a> || <p><strong>De internationale hitsensatie ‘Titanique’ meert aan in Nederland! Een over de top musical waarin de iconische film Titanic een hilarische remix krijgt. Met niemand minder dan Céline Dion ‘herself’ aan het roer! Verwacht knetterende humor, megahits die je gegarandeerd meezingt en een plottwist die je niet ziet aankomen.</strong></p>
<p>De musical die vertelt wat er écht is gebeurd op het noodlottige schip… tenminste, volgens Céline Dion. Of zong ze alleen de titelsong?! Met haar grootste hits als ‘My Heart Will Go On’, ‘All By Myself’ en ‘To Love You More’ komt het “ware” verhaal eindelijk bovendrijven.</p>
<p>Over de hele wereld is ‘Titanique’ uitgegroeid tot dé publiekslieveling: bekroond met grote theaterprijzen en overladen met sterren.&nbsp;</p>
<p>Verwacht glitter, drama, vocaal geweld en tranen van het lachen. ‘Titanique’ is niet zomaar een musical, het is een fenomeen.</p>
DESCRIPTION:<a href='/agenda/2026/12/3/titanique-130457'>/agenda/2026/12/3/titanique-130457</a> || <p><strong>De internationale hitsensatie ‘Titanique’ meert aan in Nederland! Een over de top musical waarin de iconische film Titanic een hilarische remix krijgt. Met niemand minder dan Céline Dion ‘herself’ aan het roer! Verwacht knetterende humor, megahits die je gegarandeerd meezingt en een plottwist die je niet ziet aankomen.</strong></p>
<p>De musical die vertelt wat er écht is gebeurd op het noodlottige schip… tenminste, volgens Céline Dion. Of zong ze alleen de titelsong?! Met haar grootste hits als ‘My Heart Will Go On’, ‘All By Myself’ en ‘To Love You More’ komt het “ware” verhaal eindelijk bovendrijven.</p>
<p>Over de hele wereld is ‘Titanique’ uitgegroeid tot dé publiekslieveling: bekroond met grote theaterprijzen en overladen met sterren.&nbsp;</p>
<p>Verwacht glitter, drama, vocaal geweld en tranen van het lachen. ‘Titanique’ is niet zomaar een musical, het is een fenomeen.</p>
LAST-MODIFIED:20260420T080253Z
LOCATION: Stadsschouwburg De Harmonie | Ruiterskwartier 4 Leeuwarden
SEQUENCE:0
STATUS:CONFIRMED
SUMMARY:Titanique
TRANSP:OPAQUE
END:VEVENT
END:VCALENDAR
