BEGIN:VCALENDAR
PRODID:-//PUBBLE//agenda//NL
VERSION:2.0
METHOD:PUBLISH
BEGIN:VEVENT
DTSTART:20270214T180000Z
DTEND:20270214T190000Z
DTSTAMP:20260420T080456Z
UID:0179fcbb-2f06-4cdf-bbef-85eab1e8dc3f
CREATED:20260420T080456Z
NAME:Voor Haar, de Frans Halsema Musical oudega-swf.nl
X-WR-CALNAME:Voor Haar, de Frans Halsema Musical
X-ALT-DESC;FMTTYPE=text/html:<a href='/agenda/2027/2/14/voor-haar-de-frans-halsema-musical-130458'>/agenda/2027/2/14/voor-haar-de-frans-halsema-musical-130458</a> || <p><strong>Na autobiografische musicals over grote namen is er nu Voor Haar, een biografische musical over Frans Halsema. Meer dan veertig jaar na zijn overlijden blijft hij geliefd bij een groot publiek. Zijn liedjes worden nog vaak gedraaid en staan hoog in evergreenlijsten.</strong></p>
<p>In deze voorstelling leer je de mens achter de cabaretier kennen. Frans Halsema stond bekend om zijn warme uitstraling en humor. Tegelijk had hij het in zijn privéleven niet altijd makkelijk. Die tegenstelling zie je terug op het toneel.</p>
<p>Soy Kroon kruipt in de huid van Halsema. Onder regie van Michiel van Erp, bekend van de serie over Ramses Shaffy, komt zijn verhaal tot leven. De voorstelling laat bekende en minder bekende kanten van Halsema zien.</p>
<p>Je hoort bekende liedjes zoals Voor Haar, Vluchten Kan Niet Meer, Sandra en Kees. Ook herkenbare scènes uit zijn cabaret komen voorbij. Zo ontstaat een voorstelling met zowel lichte als meer persoonlijke momenten.</p>
<p>Voor Haar is een musical met humor en gevoel. Je krijgt een inkijk in het leven en werk van een bijzondere artiest uit de Nederlandse cabaretgeschiedenis.</p>
DESCRIPTION:<a href='/agenda/2027/2/14/voor-haar-de-frans-halsema-musical-130458'>/agenda/2027/2/14/voor-haar-de-frans-halsema-musical-130458</a> || <p><strong>Na autobiografische musicals over grote namen is er nu Voor Haar, een biografische musical over Frans Halsema. Meer dan veertig jaar na zijn overlijden blijft hij geliefd bij een groot publiek. Zijn liedjes worden nog vaak gedraaid en staan hoog in evergreenlijsten.</strong></p>
<p>In deze voorstelling leer je de mens achter de cabaretier kennen. Frans Halsema stond bekend om zijn warme uitstraling en humor. Tegelijk had hij het in zijn privéleven niet altijd makkelijk. Die tegenstelling zie je terug op het toneel.</p>
<p>Soy Kroon kruipt in de huid van Halsema. Onder regie van Michiel van Erp, bekend van de serie over Ramses Shaffy, komt zijn verhaal tot leven. De voorstelling laat bekende en minder bekende kanten van Halsema zien.</p>
<p>Je hoort bekende liedjes zoals Voor Haar, Vluchten Kan Niet Meer, Sandra en Kees. Ook herkenbare scènes uit zijn cabaret komen voorbij. Zo ontstaat een voorstelling met zowel lichte als meer persoonlijke momenten.</p>
<p>Voor Haar is een musical met humor en gevoel. Je krijgt een inkijk in het leven en werk van een bijzondere artiest uit de Nederlandse cabaretgeschiedenis.</p>
LAST-MODIFIED:20260420T080456Z
LOCATION: Stadsschouwburg De Harmonie | Ruiterskwartier 4 Leeuwarden
SEQUENCE:0
STATUS:CONFIRMED
SUMMARY:Voor Haar, de Frans Halsema Musical
TRANSP:OPAQUE
END:VEVENT
END:VCALENDAR
