BEGIN:VCALENDAR
PRODID:-//PUBBLE//agenda//NL
VERSION:2.0
METHOD:PUBLISH
BEGIN:VEVENT
DTSTART:20260531T163000Z
DTEND:20260531T173000Z
DTSTAMP:20260420T150331Z
UID:1aefdb40-1ca0-453c-9cda-9e0a9fcb1807
CREATED:20260420T150331Z
NAME:Vriendenreis Bakkeveen oudega-swf.nl
X-WR-CALNAME:Vriendenreis Bakkeveen
X-ALT-DESC;FMTTYPE=text/html:<a href='/agenda/2026/5/31/vriendenreis-bakkeveen-130459'>/agenda/2026/5/31/vriendenreis-bakkeveen-130459</a> || <p><strong>Ga mee op Vriendenreis naar Tryater’s nieuwe voorstelling: <em>Swimbad!&nbsp;</em>Sluit het jubileumseizoen van Tryater feestelijk af met een unieke ervaring. Tijdens deze Vriendenreis geniet je van:</strong></p>
<ul>
	<li><strong>Comfortabele busreis</strong> van Leeuwarden naar Bakkeveen en terug</li>
	<li><strong>Heerlijk driegangendiner</strong> op locatie</li>
	<li><strong>Een ticket voor de openluchtvoorstelling <em>Swimbad</em></strong></li>
</ul>
<p>De bus vertrekt om <strong>16:30 uur vanaf de Oldehoofsterkerkhof</strong>&nbsp;en brengt je rond <strong>22:30 uur weer terug in Leeuwarden</strong>.</p>
<p><strong>Over de voorstelling <em>Swimbad</em></strong><br />
In openluchtzwembad Dúndelle in Bakkeveen neemt Tryater je mee naar een doodgewone dag vol bijzondere badgasten. Je ontmoet Swaantsje (Joke Tjalsma), een gepensioneerde badjuf die terugblikt op haar leven vanaf de duikplank. Ontmoet schoonzwemmers, aquajoggers en een topcast in een magische, vloeibare theaterzaal. <em>Swimbad</em> is een hartverwarmende ode aan het leven, waarin herinneringen en heden samenvloeien.</p>
<p><strong>Driegangendiner</strong><br />
Op locatie kies je uit:</p>
<ul>
	<li><strong>Voorgerecht:</strong> soep of broodplankje</li>
	<li><strong>Hoofdgerecht:</strong> pasta Bolognese (vega mogelijk), kipsaté met friet en rauwkost of schnitzel champignon/ui met friet en rauwkost</li>
	<li><strong>Nagerecht:</strong> brownie met ijs en slagroom of crème brûlée met ijs en slagroom</li>
</ul>
<p>Reserveer nu en beleef een onvergetelijke avond vol theater, gezelligheid en lekker eten!</p>
DESCRIPTION:<a href='/agenda/2026/5/31/vriendenreis-bakkeveen-130459'>/agenda/2026/5/31/vriendenreis-bakkeveen-130459</a> || <p><strong>Ga mee op Vriendenreis naar Tryater’s nieuwe voorstelling: <em>Swimbad!&nbsp;</em>Sluit het jubileumseizoen van Tryater feestelijk af met een unieke ervaring. Tijdens deze Vriendenreis geniet je van:</strong></p>
<ul>
	<li><strong>Comfortabele busreis</strong> van Leeuwarden naar Bakkeveen en terug</li>
	<li><strong>Heerlijk driegangendiner</strong> op locatie</li>
	<li><strong>Een ticket voor de openluchtvoorstelling <em>Swimbad</em></strong></li>
</ul>
<p>De bus vertrekt om <strong>16:30 uur vanaf de Oldehoofsterkerkhof</strong>&nbsp;en brengt je rond <strong>22:30 uur weer terug in Leeuwarden</strong>.</p>
<p><strong>Over de voorstelling <em>Swimbad</em></strong><br />
In openluchtzwembad Dúndelle in Bakkeveen neemt Tryater je mee naar een doodgewone dag vol bijzondere badgasten. Je ontmoet Swaantsje (Joke Tjalsma), een gepensioneerde badjuf die terugblikt op haar leven vanaf de duikplank. Ontmoet schoonzwemmers, aquajoggers en een topcast in een magische, vloeibare theaterzaal. <em>Swimbad</em> is een hartverwarmende ode aan het leven, waarin herinneringen en heden samenvloeien.</p>
<p><strong>Driegangendiner</strong><br />
Op locatie kies je uit:</p>
<ul>
	<li><strong>Voorgerecht:</strong> soep of broodplankje</li>
	<li><strong>Hoofdgerecht:</strong> pasta Bolognese (vega mogelijk), kipsaté met friet en rauwkost of schnitzel champignon/ui met friet en rauwkost</li>
	<li><strong>Nagerecht:</strong> brownie met ijs en slagroom of crème brûlée met ijs en slagroom</li>
</ul>
<p>Reserveer nu en beleef een onvergetelijke avond vol theater, gezelligheid en lekker eten!</p>
LAST-MODIFIED:20260420T150331Z
LOCATION: Stadsschouwburg De Harmonie | Ruiterskwartier 4 Leeuwarden
SEQUENCE:0
STATUS:CONFIRMED
SUMMARY:Vriendenreis Bakkeveen
TRANSP:OPAQUE
END:VEVENT
END:VCALENDAR
