BEGIN:VCALENDAR
PRODID:-//PUBBLE//agenda//NL
VERSION:2.0
METHOD:PUBLISH
BEGIN:VEVENT
DTSTART:20260517T090000Z
DTEND:20260517T101500Z
DTSTAMP:20260422T103004Z
UID:098c084a-8877-419f-86bc-b3ffb83510aa
CREATED:20260422T103004Z
NAME:Klankreis in Lemmer – 17 mei om 11:00 oudega-swf.nl
X-WR-CALNAME:Klankreis in Lemmer – 17 mei om 11:00
X-ALT-DESC;FMTTYPE=text/html:<a href='/agenda/2026/5/17/klankreis-in-lemmer-17-mei-om-11-00-130556'>/agenda/2026/5/17/klankreis-in-lemmer-17-mei-om-11-00-130556</a> || <p>Even uit de drukte stappen. Geen afleiding, geen moeten — alleen jij, de stilte en de helende klanken. Klinkt dat als wat je nodig hebt? Dan is deze klankreis precies voor jou.</p><p>Tijdens deze sessie neemt Josephien van steps je mee op een diepe ontspanningsreis. We beginnen met een rustige aarding en visualisatie, waarna je wordt meegenomen door de klanken van klankschalen, windgongen en andere instrumenten. Je lichaam ontspant, je hoofd wordt stiller en je komt weer helemaal bij jezelf.</p><p>Na afloop is er alle ruimte om rustig terug te komen, met een bakje</p><p><strong>Locatie</strong>
</p><p>Papagenohuis Friesland in Lemmer, bovenin de prachtig voormalige gereformeerde kerk.</p><p><strong>Tijd</strong>
</p><p>17 mei 2026</p><p>Inloop: vanaf 10:45 uur
</p><p>Start: 11:00 uur
</p><p>Duur: ± 45-60 minuten, daarna nagenieten met koffie/thee</p><p><strong>Bijdrage</strong>
</p><p>€25 per persoon
</p><p>Inclusief matje, kussentje, dekentje en koffie/thee
(Betaling direct na boeking)</p><p><strong>Wat neem je mee?</strong>
</p><p>• Comfortabele kleding
</p><p>• Eventueel extra: warme sokken, vest, kussen of oogmasker voor extra comfort</p><p><strong>Aanmelden</strong>
</p><p>Boek je sessie via: https://calendly.com/stapdichterbij/klankschaal-sessie</p><p><strong>Goed om te weten</strong>
</p><p>De locatie is niet rolstoeltoegankelijk omdat we boven zitten.
</p><p>Heb je specifieke wensen of ben je minder mobiel?</p><p>Neem dan contact met me op.&nbsp;</p><p>Mogelijk kunnen we dan een andere ruimte gebruiken zodat je gewoon mee kunt doen.</p><p>Meer weten over mij en steps?
</p><p>Ga naar www.stapdichterbij.nl</p>
DESCRIPTION:<a href='/agenda/2026/5/17/klankreis-in-lemmer-17-mei-om-11-00-130556'>/agenda/2026/5/17/klankreis-in-lemmer-17-mei-om-11-00-130556</a> || <p>Even uit de drukte stappen. Geen afleiding, geen moeten — alleen jij, de stilte en de helende klanken. Klinkt dat als wat je nodig hebt? Dan is deze klankreis precies voor jou.</p><p>Tijdens deze sessie neemt Josephien van steps je mee op een diepe ontspanningsreis. We beginnen met een rustige aarding en visualisatie, waarna je wordt meegenomen door de klanken van klankschalen, windgongen en andere instrumenten. Je lichaam ontspant, je hoofd wordt stiller en je komt weer helemaal bij jezelf.</p><p>Na afloop is er alle ruimte om rustig terug te komen, met een bakje</p><p><strong>Locatie</strong>
</p><p>Papagenohuis Friesland in Lemmer, bovenin de prachtig voormalige gereformeerde kerk.</p><p><strong>Tijd</strong>
</p><p>17 mei 2026</p><p>Inloop: vanaf 10:45 uur
</p><p>Start: 11:00 uur
</p><p>Duur: ± 45-60 minuten, daarna nagenieten met koffie/thee</p><p><strong>Bijdrage</strong>
</p><p>€25 per persoon
</p><p>Inclusief matje, kussentje, dekentje en koffie/thee
(Betaling direct na boeking)</p><p><strong>Wat neem je mee?</strong>
</p><p>• Comfortabele kleding
</p><p>• Eventueel extra: warme sokken, vest, kussen of oogmasker voor extra comfort</p><p><strong>Aanmelden</strong>
</p><p>Boek je sessie via: https://calendly.com/stapdichterbij/klankschaal-sessie</p><p><strong>Goed om te weten</strong>
</p><p>De locatie is niet rolstoeltoegankelijk omdat we boven zitten.
</p><p>Heb je specifieke wensen of ben je minder mobiel?</p><p>Neem dan contact met me op.&nbsp;</p><p>Mogelijk kunnen we dan een andere ruimte gebruiken zodat je gewoon mee kunt doen.</p><p>Meer weten over mij en steps?
</p><p>Ga naar www.stapdichterbij.nl</p>
LAST-MODIFIED:20260422T103004Z
LOCATION: Papageno Huis Fryslân | nieuwburen 36 Lemmer
SEQUENCE:0
STATUS:CONFIRMED
SUMMARY:Klankreis in Lemmer – 17 mei om 11:00
TRANSP:OPAQUE
END:VEVENT
END:VCALENDAR
