BEGIN:VCALENDAR
PRODID:-//PUBBLE//agenda//NL
VERSION:2.0
METHOD:PUBLISH
BEGIN:VEVENT
DTSTART:20260517T120000Z
DTEND:20260517T131500Z
DTSTAMP:20260420T113312Z
UID:f4246059-94a9-4c80-a8ba-7e862a8be82f
CREATED:20260420T113312Z
NAME:Klankreis in Delfstrahuizen – 17 mei om 14:00 oudega-swf.nl
X-WR-CALNAME:Klankreis in Delfstrahuizen – 17 mei om 14:00
X-ALT-DESC;FMTTYPE=text/html:<a href='/agenda/2026/5/17/klankreis-in-delfstrahuizen-17-mei-om-14-00-130557'>/agenda/2026/5/17/klankreis-in-delfstrahuizen-17-mei-om-14-00-130557</a> || <p>Even uit de drukte stappen. Geen afleiding, geen moeten — alleen jij, de stilte en de helende klanken. Klinkt dat als wat je nodig hebt? Dan is deze klankreis precies voor jou.</p><p>Tijdens deze sessie neemt Josephien van steps je mee op een diepe ontspanningsreis. We beginnen met een rustige aarding en visualisatie, waarna je wordt meegenomen door de klanken van klankschalen, windgongen en andere instrumenten. Je lichaam ontspant, je hoofd wordt stiller en je komt weer helemaal bij jezelf.</p><p>Na afloop is er alle ruimte om rustig terug te komen, met een bakje.</p><p><strong>Locatie</strong>
</p><p>Flou (Friesland)</p><p>Prachtig klein kerkje in Delfstrahuizen.</p><p><strong>Tijd</strong>
</p><p>17 mei 2026&nbsp;</p><p>Inloop: vanaf 13:45 uur
</p><p>Start: 14:00 uur
</p><p>Duur: ± 45-60 minuten, daarna nagenieten met koffie/thee</p><p><strong>Bijdrage</strong>
</p><p>€25 per persoon
</p><p>Inclusief matje, kussentje, dekentje en koffie/thee
(Betaling direct na boeking)</p><p><strong>Wat neem je mee?</strong>
</p><p>• Comfortabele kleding
</p><p>• Eventueel extra: warme sokken, vest, kussen of oogmasker voor extra comfort</p><p><strong>Aanmelden</strong>
</p><p>Boek je sessie via:https://calendly.com/stapdichterbij/klankschaal-sessie-delfstrahuizen</p><p><strong>Goed om te weten</strong>
</p><p>De locatie is rolstoeltoegankelijk.
</p><p>Heb je specifieke wensen of ben je minder mobiel?&nbsp;</p><p>Geef het aan bij je boeking, dan wordt er contact met je opgenomen.</p><p>Meer weten over mij en steps?
</p><p>Ga naar www.stapdichterbij.nl</p>
DESCRIPTION:<a href='/agenda/2026/5/17/klankreis-in-delfstrahuizen-17-mei-om-14-00-130557'>/agenda/2026/5/17/klankreis-in-delfstrahuizen-17-mei-om-14-00-130557</a> || <p>Even uit de drukte stappen. Geen afleiding, geen moeten — alleen jij, de stilte en de helende klanken. Klinkt dat als wat je nodig hebt? Dan is deze klankreis precies voor jou.</p><p>Tijdens deze sessie neemt Josephien van steps je mee op een diepe ontspanningsreis. We beginnen met een rustige aarding en visualisatie, waarna je wordt meegenomen door de klanken van klankschalen, windgongen en andere instrumenten. Je lichaam ontspant, je hoofd wordt stiller en je komt weer helemaal bij jezelf.</p><p>Na afloop is er alle ruimte om rustig terug te komen, met een bakje.</p><p><strong>Locatie</strong>
</p><p>Flou (Friesland)</p><p>Prachtig klein kerkje in Delfstrahuizen.</p><p><strong>Tijd</strong>
</p><p>17 mei 2026&nbsp;</p><p>Inloop: vanaf 13:45 uur
</p><p>Start: 14:00 uur
</p><p>Duur: ± 45-60 minuten, daarna nagenieten met koffie/thee</p><p><strong>Bijdrage</strong>
</p><p>€25 per persoon
</p><p>Inclusief matje, kussentje, dekentje en koffie/thee
(Betaling direct na boeking)</p><p><strong>Wat neem je mee?</strong>
</p><p>• Comfortabele kleding
</p><p>• Eventueel extra: warme sokken, vest, kussen of oogmasker voor extra comfort</p><p><strong>Aanmelden</strong>
</p><p>Boek je sessie via:https://calendly.com/stapdichterbij/klankschaal-sessie-delfstrahuizen</p><p><strong>Goed om te weten</strong>
</p><p>De locatie is rolstoeltoegankelijk.
</p><p>Heb je specifieke wensen of ben je minder mobiel?&nbsp;</p><p>Geef het aan bij je boeking, dan wordt er contact met je opgenomen.</p><p>Meer weten over mij en steps?
</p><p>Ga naar www.stapdichterbij.nl</p>
LAST-MODIFIED:20260420T113312Z
LOCATION: Flou | Marwei 86 Delfstrahuizen
SEQUENCE:0
STATUS:CONFIRMED
SUMMARY:Klankreis in Delfstrahuizen – 17 mei om 14:00
TRANSP:OPAQUE
END:VEVENT
END:VCALENDAR
