BEGIN:VCALENDAR
PRODID:-//PUBBLE//agenda//NL
VERSION:2.0
METHOD:PUBLISH
BEGIN:VEVENT
DTSTART:20260518T173000Z
DTEND:20260518T190000Z
DTSTAMP:20260420T131818Z
UID:aea6f6f6-eb0d-42b1-9584-010c7902cef4
CREATED:20260420T131818Z
NAME:Klankbad in Beetsterzwaag – 18 mei om 19:30 oudega-swf.nl
X-WR-CALNAME:Klankbad in Beetsterzwaag – 18 mei om 19:30
X-ALT-DESC;FMTTYPE=text/html:<a href='/agenda/2026/5/18/klankbad-in-beetsterzwaag-18-mei-om-19-30-130558'>/agenda/2026/5/18/klankbad-in-beetsterzwaag-18-mei-om-19-30-130558</a> || <p>Even ontsnappen aan de drukte. Geen moeten, geen haast — alleen jij, het warme water en rustgevende klanken. Klinkt dat als muziek in je oren? Dan is dit klankbad precies wat je zoekt. ?</p><p>Tijdens deze bijzondere sessie neemt Josephien van Steps je mee op een diepe ontspanningsreis. Terwijl je comfortabel drijft op een floaty in het warme, ondiepe water, word je omhuld door de zachte trillingen van klankschalen. Laat je meevoeren en ervaar hoe lichaam en geest volledig tot rust komen.</p><p><strong>Locatie</strong>
</p><p>Revalidatie Friesland (Hoofdstraat 3) in Beetsterzwaag</p><p><strong>Tijd</strong>
</p><p>18 mei 2026</p><p>Start: 19:30 uur
</p><p>Inloop &amp; omkleden: vanaf 19:15 uur
</p><p>Duur: ± 40 minuten (klankreis), daarna rustig omkleden en nagenieten met een kopje koffie of thee</p><p><strong>Bijdrage</strong>
</p><p>€35 per persoon
</p><p>Inclusief koffie/thee en gebruik van een floaty
</p><p>Betaling direct na boeking</p><p><strong>Wat neem je mee?</strong>
</p><p>• Badkleding
</p><p>• Handdoek
</p><p>• Eventueel badslippers en verzorgingsproducten</p><p><strong>Aanmelden</strong>
</p><p>Boek je sessie via: https://calendly.com/stapdichterbij/klankbad-beetsterzwaag</p><p><strong>Goed om te weten</strong>
</p><p>Er zijn twee ruime gezamenlijke kleedruimtes aanwezig.
</p><p>Ben je minder mobiel of heb je specifieke wensen?&nbsp;</p><p>Neem gerust even contact op, dan kijken we samen naar de mogelijkheden.</p><p>Meer over mij en steps?
</p><p>Ga naar www.stapdichterbij.nl</p>
DESCRIPTION:<a href='/agenda/2026/5/18/klankbad-in-beetsterzwaag-18-mei-om-19-30-130558'>/agenda/2026/5/18/klankbad-in-beetsterzwaag-18-mei-om-19-30-130558</a> || <p>Even ontsnappen aan de drukte. Geen moeten, geen haast — alleen jij, het warme water en rustgevende klanken. Klinkt dat als muziek in je oren? Dan is dit klankbad precies wat je zoekt. ?</p><p>Tijdens deze bijzondere sessie neemt Josephien van Steps je mee op een diepe ontspanningsreis. Terwijl je comfortabel drijft op een floaty in het warme, ondiepe water, word je omhuld door de zachte trillingen van klankschalen. Laat je meevoeren en ervaar hoe lichaam en geest volledig tot rust komen.</p><p><strong>Locatie</strong>
</p><p>Revalidatie Friesland (Hoofdstraat 3) in Beetsterzwaag</p><p><strong>Tijd</strong>
</p><p>18 mei 2026</p><p>Start: 19:30 uur
</p><p>Inloop &amp; omkleden: vanaf 19:15 uur
</p><p>Duur: ± 40 minuten (klankreis), daarna rustig omkleden en nagenieten met een kopje koffie of thee</p><p><strong>Bijdrage</strong>
</p><p>€35 per persoon
</p><p>Inclusief koffie/thee en gebruik van een floaty
</p><p>Betaling direct na boeking</p><p><strong>Wat neem je mee?</strong>
</p><p>• Badkleding
</p><p>• Handdoek
</p><p>• Eventueel badslippers en verzorgingsproducten</p><p><strong>Aanmelden</strong>
</p><p>Boek je sessie via: https://calendly.com/stapdichterbij/klankbad-beetsterzwaag</p><p><strong>Goed om te weten</strong>
</p><p>Er zijn twee ruime gezamenlijke kleedruimtes aanwezig.
</p><p>Ben je minder mobiel of heb je specifieke wensen?&nbsp;</p><p>Neem gerust even contact op, dan kijken we samen naar de mogelijkheden.</p><p>Meer over mij en steps?
</p><p>Ga naar www.stapdichterbij.nl</p>
LAST-MODIFIED:20260420T131818Z
LOCATION: Revalidatie Fryslan | Hoofdstraat 3 Beetsterzwaag
SEQUENCE:0
STATUS:CONFIRMED
SUMMARY:Klankbad in Beetsterzwaag – 18 mei om 19:30
TRANSP:OPAQUE
END:VEVENT
END:VCALENDAR
