BEGIN:VCALENDAR
PRODID:-//PUBBLE//agenda//NL
VERSION:2.0
METHOD:PUBLISH
BEGIN:VEVENT
DTSTART:20260524T080000Z
DTEND:20260524T091500Z
DTSTAMP:20260420T131930Z
UID:bc7d3a14-eda6-4de1-bf2c-572fd9f412c5
CREATED:20260420T131930Z
NAME:Klankschaalsessie in het Wild – Ontspan aan het Strand oudega-swf.nl
X-WR-CALNAME:Klankschaalsessie in het Wild – Ontspan aan het Strand
X-ALT-DESC;FMTTYPE=text/html:<a href='/agenda/2026/5/24/klankschaalsessie-in-het-wild-ontspan-aan-het-strand-130559'>/agenda/2026/5/24/klankschaalsessie-in-het-wild-ontspan-aan-het-strand-130559</a> || <p>Lemmer – Kom deze zomer tot rust in de natuur tijdens een bijzondere klankschaalsessie aan het strand. Op 24 mei om 10:00 uur neem ik, Josephien van Steps, je mee op een ontspannen klankreis aan het water.</p><p>We beginnen met een fijne aarding en visualisatie, gevolgd door diepe ontspanning met klankschalen, windgongen en andere rustgevende klanken. Na afloop is er ruimte om rustig bij te komen met een kopje thee of water.</p><p><strong>Praktische informatie:</strong></p><p>Locatie: Lemmer strand.&nbsp;</p><p>Datum: 24 mei&nbsp;</p><p>Tijd: 10:00 uur (inloop vanaf 15 min. van tevoren)&nbsp;</p><p>Duur: 45 tot 60 minuten&nbsp;</p><p>Kosten: €15 per persoon (inclusief thee/water en gebruik van matje en dekentje)</p><p><strong>Wat neem je mee?</strong></p><p>Comfortabele kleding (mag vies worden)&nbsp;</p><p>Eigen matje en dekentje (optioneel, deze zijn ook aanwezig) warme sokken, een vest, en eventueel een handdoek of oogkussentje</p><p>Houd er rekening mee dat dit een openbare plek is en vrij toegankelijk voor bezoekers (en beestjes).</p><p><strong>Parkeren:</strong></p><p>Parkeren kan bij het strand (er is een grote parkeerplaats aan de overkant van de weg).</p><p><strong>Aanmelden:</strong></p><p>Boek je sessie via: https://calendly.com/stapdichterbij/klankschalenlemmerstrand
</p><p>Betaling volgt direct na boeking.</p><p><strong>Mindervalide toegankelijkheid:</strong>
</p><p>Neem contact met me op om te kijken naar de mogelijkheden.</p><p>Meer informatie? Ga naar www.stapdichterbij.nl</p>
DESCRIPTION:<a href='/agenda/2026/5/24/klankschaalsessie-in-het-wild-ontspan-aan-het-strand-130559'>/agenda/2026/5/24/klankschaalsessie-in-het-wild-ontspan-aan-het-strand-130559</a> || <p>Lemmer – Kom deze zomer tot rust in de natuur tijdens een bijzondere klankschaalsessie aan het strand. Op 24 mei om 10:00 uur neem ik, Josephien van Steps, je mee op een ontspannen klankreis aan het water.</p><p>We beginnen met een fijne aarding en visualisatie, gevolgd door diepe ontspanning met klankschalen, windgongen en andere rustgevende klanken. Na afloop is er ruimte om rustig bij te komen met een kopje thee of water.</p><p><strong>Praktische informatie:</strong></p><p>Locatie: Lemmer strand.&nbsp;</p><p>Datum: 24 mei&nbsp;</p><p>Tijd: 10:00 uur (inloop vanaf 15 min. van tevoren)&nbsp;</p><p>Duur: 45 tot 60 minuten&nbsp;</p><p>Kosten: €15 per persoon (inclusief thee/water en gebruik van matje en dekentje)</p><p><strong>Wat neem je mee?</strong></p><p>Comfortabele kleding (mag vies worden)&nbsp;</p><p>Eigen matje en dekentje (optioneel, deze zijn ook aanwezig) warme sokken, een vest, en eventueel een handdoek of oogkussentje</p><p>Houd er rekening mee dat dit een openbare plek is en vrij toegankelijk voor bezoekers (en beestjes).</p><p><strong>Parkeren:</strong></p><p>Parkeren kan bij het strand (er is een grote parkeerplaats aan de overkant van de weg).</p><p><strong>Aanmelden:</strong></p><p>Boek je sessie via: https://calendly.com/stapdichterbij/klankschalenlemmerstrand
</p><p>Betaling volgt direct na boeking.</p><p><strong>Mindervalide toegankelijkheid:</strong>
</p><p>Neem contact met me op om te kijken naar de mogelijkheden.</p><p>Meer informatie? Ga naar www.stapdichterbij.nl</p>
LAST-MODIFIED:20260420T131930Z
LOCATION: Lemsterstrand | Industrieweg 2 Lemmer
SEQUENCE:0
STATUS:CONFIRMED
SUMMARY:Klankschaalsessie in het Wild – Ontspan aan het Strand
TRANSP:OPAQUE
END:VEVENT
END:VCALENDAR
