BEGIN:VCALENDAR
PRODID:-//PUBBLE//agenda//NL
VERSION:2.0
METHOD:PUBLISH
BEGIN:VEVENT
DTSTART:20260522T113000Z
DTEND:20260522T124500Z
DTSTAMP:20260420T132203Z
UID:90f65756-c87d-43af-898a-9d549253acc2
CREATED:20260420T132203Z
NAME:Klank sessie in het Wild – Ontspan bij Mirnserklif oudega-swf.nl
X-WR-CALNAME:Klank sessie in het Wild – Ontspan bij Mirnserklif
X-ALT-DESC;FMTTYPE=text/html:<a href='/agenda/2026/5/22/klank-sessie-in-het-wild-ontspan-bij-mirnserklif-130560'>/agenda/2026/5/22/klank-sessie-in-het-wild-ontspan-bij-mirnserklif-130560</a> || <p>Mirns – Kom deze zomer tot rust in de natuur tijdens een bijzondere klankschaalsessie aan het water</p><p>Op 22 mei om 13:30 uur neem ik, Josephien van Steps, je mee op een ontspannen klankreis aan het water.</p><p>We beginnen met een fijne aarding en visualisatie, gevolgd door diepe ontspanning met klankschalen, windgongen en andere rustgevende klanken. Na afloop is er ruimte om rustig bij te komen met een kopje thee of water.</p><p><strong>Praktische informatie:</strong></p><p>Locatie: Mirnserklif, Mirns&nbsp;</p><p>Datum: 22 mei&nbsp;</p><p>Tijd: 13:30 uur (inloop vanaf 15 min. van tevoren)&nbsp;</p><p>Duur: 45 tot 60 minuten&nbsp;</p><p>Kosten: €15 per persoon (inclusief thee/water en gebruik van matje en dekentje)</p><p><strong>Wat neem je mee?</strong></p><p>Comfortabele kleding (mag vies worden) eigen matje en dekentje (optioneel, deze zijn ook aanwezig) warme sokken, een vest, en eventueel een handdoek of oogkussentje</p><p>Houd er rekening mee dat dit een openbare plek is en vrij toegankelijk voor bezoekers (en beestjes).</p><p><strong>Parkeren:</strong></p><p>Parkeren kan bij de Mirnserklif (Paviljoen ’t Mar).</p><p><strong>Aanmelden:</strong></p><p>Boek je sessie via: https://calendly.com/stapdichterbij/klankschaal-sessie-in-het-wild-mirnserklif
Betaling volgt direct na boeking.</p><p>Mindervalide toegankelijkheid:
</p><p>Neem contact met me op dan kijken we naar de mogelijkheden.&nbsp;</p><p>Meer informatie:&nbsp;</p><p>Ga naar www.stapdichterbij.nl</p>
DESCRIPTION:<a href='/agenda/2026/5/22/klank-sessie-in-het-wild-ontspan-bij-mirnserklif-130560'>/agenda/2026/5/22/klank-sessie-in-het-wild-ontspan-bij-mirnserklif-130560</a> || <p>Mirns – Kom deze zomer tot rust in de natuur tijdens een bijzondere klankschaalsessie aan het water</p><p>Op 22 mei om 13:30 uur neem ik, Josephien van Steps, je mee op een ontspannen klankreis aan het water.</p><p>We beginnen met een fijne aarding en visualisatie, gevolgd door diepe ontspanning met klankschalen, windgongen en andere rustgevende klanken. Na afloop is er ruimte om rustig bij te komen met een kopje thee of water.</p><p><strong>Praktische informatie:</strong></p><p>Locatie: Mirnserklif, Mirns&nbsp;</p><p>Datum: 22 mei&nbsp;</p><p>Tijd: 13:30 uur (inloop vanaf 15 min. van tevoren)&nbsp;</p><p>Duur: 45 tot 60 minuten&nbsp;</p><p>Kosten: €15 per persoon (inclusief thee/water en gebruik van matje en dekentje)</p><p><strong>Wat neem je mee?</strong></p><p>Comfortabele kleding (mag vies worden) eigen matje en dekentje (optioneel, deze zijn ook aanwezig) warme sokken, een vest, en eventueel een handdoek of oogkussentje</p><p>Houd er rekening mee dat dit een openbare plek is en vrij toegankelijk voor bezoekers (en beestjes).</p><p><strong>Parkeren:</strong></p><p>Parkeren kan bij de Mirnserklif (Paviljoen ’t Mar).</p><p><strong>Aanmelden:</strong></p><p>Boek je sessie via: https://calendly.com/stapdichterbij/klankschaal-sessie-in-het-wild-mirnserklif
Betaling volgt direct na boeking.</p><p>Mindervalide toegankelijkheid:
</p><p>Neem contact met me op dan kijken we naar de mogelijkheden.&nbsp;</p><p>Meer informatie:&nbsp;</p><p>Ga naar www.stapdichterbij.nl</p>
LAST-MODIFIED:20260420T132203Z
LOCATION: Mirnser Klif | Murnserdijk 46 Mirns
SEQUENCE:0
STATUS:CONFIRMED
SUMMARY:Klank sessie in het Wild – Ontspan bij Mirnserklif
TRANSP:OPAQUE
END:VEVENT
END:VCALENDAR
