BEGIN:VCALENDAR
PRODID:-//PUBBLE//agenda//NL
VERSION:2.0
METHOD:PUBLISH
BEGIN:VEVENT
DTSTART:20260526T000000Z
DTEND:20260526T000000Z
DTSTAMP:20260420T150628Z
UID:7c44ed74-066c-4593-aa33-2d9dee927c75
CREATED:20260420T150628Z
NAME:A capella concert door het Leeuwarder Kamerkoor oudega-swf.nl
X-WR-CALNAME:A capella concert door het Leeuwarder Kamerkoor
X-ALT-DESC;FMTTYPE=text/html:<a href='/agenda/2026/5/26/a-capella-concert-door-het-leeuwarder-kamerkoor-130567'>/agenda/2026/5/26/a-capella-concert-door-het-leeuwarder-kamerkoor-130567</a> || <p><strong>Concert door het Leeuwarder Kamerkoor</strong><br /><strong>dinsdag 26 mei 2026 om 20.00 uur, kerk open om 19.30 uur.</strong></p>
<p>Op&nbsp;dinsdag 26 mei 2026, om 20.00 uur,&nbsp;geeft het Leeuwarder Kamerkoor een a capella concert. Het koor beweegt zich dan tussen hemel en aarde. Het begint op aarde met de compositie Tierra II van de dirigent Eduardo López Cabello en muziek van Elgar en&nbsp;Ticheli.<br />Het koor reikt naar de hemel op de tonen van Parry, Mendelssohn en Rachmaninov. Om tot stilstand te komen met ‘Rest’ van&nbsp;Vaughan Williams.&nbsp;<br />Alles komt tot slot bij elkaar in de muziek van Sweelinck waarin de menselijke relaties en de verbinding tussen mensen wordt bezongen.</p>
<p>Entree € 15,00.<br /> Kaarten kunnen gereserveerd worden via de website <a href="http://www.leeuwarderkamerkoor.nl" target="_blank">www.leeuwarderkamerkoor.nl</a>&nbsp;. Voorafgaand aan het concert kunnen bij de kassa ook toegangskaarten worden gekocht.</p>
<p><em>Bij de Dorpskerk is weinig parkeerruimte. Bezoekers kunnen - op korte loopafstand en gratis - parkeren op het ruime parkeerterrein tegenover Intratuin (zuidzijde Tijnjedijk).</em></p>
<p><strong>Tijdstip</strong><br />20.00 uur; kerk open om 19.30 uur</p>
<p><strong>Entree</strong><br />€ 15,00</p>
<p><strong>Informatie of reservering</strong><br /></p>
<p>Kaarten kunnen gereserveerd worden via de website <a href="http://www.leeuwarderkamerkoor.nl" target="_blank">www.leeuwarderkamerkoor.nl</a>&nbsp;.</p>
DESCRIPTION:<a href='/agenda/2026/5/26/a-capella-concert-door-het-leeuwarder-kamerkoor-130567'>/agenda/2026/5/26/a-capella-concert-door-het-leeuwarder-kamerkoor-130567</a> || <p><strong>Concert door het Leeuwarder Kamerkoor</strong><br /><strong>dinsdag 26 mei 2026 om 20.00 uur, kerk open om 19.30 uur.</strong></p>
<p>Op&nbsp;dinsdag 26 mei 2026, om 20.00 uur,&nbsp;geeft het Leeuwarder Kamerkoor een a capella concert. Het koor beweegt zich dan tussen hemel en aarde. Het begint op aarde met de compositie Tierra II van de dirigent Eduardo López Cabello en muziek van Elgar en&nbsp;Ticheli.<br />Het koor reikt naar de hemel op de tonen van Parry, Mendelssohn en Rachmaninov. Om tot stilstand te komen met ‘Rest’ van&nbsp;Vaughan Williams.&nbsp;<br />Alles komt tot slot bij elkaar in de muziek van Sweelinck waarin de menselijke relaties en de verbinding tussen mensen wordt bezongen.</p>
<p>Entree € 15,00.<br /> Kaarten kunnen gereserveerd worden via de website <a href="http://www.leeuwarderkamerkoor.nl" target="_blank">www.leeuwarderkamerkoor.nl</a>&nbsp;. Voorafgaand aan het concert kunnen bij de kassa ook toegangskaarten worden gekocht.</p>
<p><em>Bij de Dorpskerk is weinig parkeerruimte. Bezoekers kunnen - op korte loopafstand en gratis - parkeren op het ruime parkeerterrein tegenover Intratuin (zuidzijde Tijnjedijk).</em></p>
<p><strong>Tijdstip</strong><br />20.00 uur; kerk open om 19.30 uur</p>
<p><strong>Entree</strong><br />€ 15,00</p>
<p><strong>Informatie of reservering</strong><br /></p>
<p>Kaarten kunnen gereserveerd worden via de website <a href="http://www.leeuwarderkamerkoor.nl" target="_blank">www.leeuwarderkamerkoor.nl</a>&nbsp;.</p>
LAST-MODIFIED:20260420T150628Z
LOCATION: Onbekend | Huizum Dorp 67 Leeuwarden
SEQUENCE:0
STATUS:CONFIRMED
SUMMARY:A capella concert door het Leeuwarder Kamerkoor
TRANSP:OPAQUE
END:VEVENT
END:VCALENDAR
